BEGIN:VCALENDAR
VERSION:2.0
PRODID:-//Clayton Bocce League
METHOD:PUBLISH
BEGIN:VTIMEZONE
TZID:America/Los_Angeles
X-LIC-LOCATION:America/Los_Angeles
BEGIN:DAYLIGHT
TZOFFSETFROM:-0800
TZOFFSETTO:-0700
TZNAME:PDT
DTSTART:20070311T020000
RRULE:FREQ=YEARLY;BYMONTH=3;BYDAY=2SU
END:DAYLIGHT
BEGIN:STANDARD
TZOFFSETFROM:-0700
TZOFFSETTO:-0800
TZNAME:PST
DTSTART:20071104T020000
RRULE:FREQ=YEARLY;BYMONTH=11;BYDAY=1SU
END:STANDARD
END:VTIMEZONE
BEGIN:VEVENT
DTSTAMP:20260419T000000Z
UID:ba01eb3d-6eca-4b67-a2f9-a0a9d6fa83c6@ClaytonBocce
DTSTART;TZID=America/Los_Angeles:20260422T183000
DTEND;TZID=America/Los_Angeles:20260422T210000
STATUS:CONFIRMED
SUMMARY:RED HOOK RED DEVILS vs DELLA PIPA
URL:/League/Schedule/3011
DESCRIPTION:Regular Season match: RED HOOK RED DEVILS vs DEL
 LA PIPA
LOCATION:Martinez Court 3
END:VEVENT
END:VCALENDAR
