BEGIN:VCALENDAR
VERSION:2.0
PRODID:-//Clayton Bocce League
METHOD:PUBLISH
BEGIN:VTIMEZONE
TZID:America/Los_Angeles
X-LIC-LOCATION:America/Los_Angeles
BEGIN:DAYLIGHT
TZOFFSETFROM:-0800
TZOFFSETTO:-0700
TZNAME:PDT
DTSTART:20070311T020000
RRULE:FREQ=YEARLY;BYMONTH=3;BYDAY=2SU
END:DAYLIGHT
BEGIN:STANDARD
TZOFFSETFROM:-0700
TZOFFSETTO:-0800
TZNAME:PST
DTSTART:20071104T020000
RRULE:FREQ=YEARLY;BYMONTH=11;BYDAY=1SU
END:STANDARD
END:VTIMEZONE
BEGIN:VEVENT
DTSTAMP:20260419T000000Z
UID:ba01eb3d-6eca-4b67-a2f9-a0a9d6fa83c6@ClaytonBocce
DTSTART;TZID=America/Los_Angeles:20260422T183000
DTEND;TZID=America/Los_Angeles:20260422T210000
STATUS:CONFIRMED
SUMMARY:DELLA PIPA vs RED HOOK RED DEVILS
URL:/League/Schedule/3010
DESCRIPTION:Regular Season match: DELLA PIPA vs RED HOOK RED
  DEVILS
LOCATION:Martinez Court 3
END:VEVENT
BEGIN:VEVENT
DTSTAMP:20260419T000000Z
UID:d24730c2-b3c4-46d1-b63c-be8b71b42b78@ClaytonBocce
DTSTART;TZID=America/Los_Angeles:20260429T183000
DTEND;TZID=America/Los_Angeles:20260429T210000
STATUS:CONFIRMED
SUMMARY:DELLA PIPA vs MAINLY GREEKS
URL:/League/Schedule/3010
DESCRIPTION:Regular Season match: DELLA PIPA vs MAINLY GREEK
 S
LOCATION:Martinez Court 7
END:VEVENT
BEGIN:VEVENT
DTSTAMP:20260419T000000Z
UID:ab6078a3-1e7e-479c-9c1d-4ffb91decaf1@ClaytonBocce
DTSTART;TZID=America/Los_Angeles:20260506T183000
DTEND;TZID=America/Los_Angeles:20260506T210000
STATUS:CONFIRMED
SUMMARY:DELLA PIPA vs CROCKETT ROCKETS
URL:/League/Schedule/3010
DESCRIPTION:Regular Season match: DELLA PIPA vs CROCKETT ROC
 KETS
LOCATION:Martinez Court 13
END:VEVENT
BEGIN:VEVENT
DTSTAMP:20260419T000000Z
UID:23aa9fb2-2838-45c9-b747-de519d2f858f@ClaytonBocce
DTSTART;TZID=America/Los_Angeles:20260513T183000
DTEND;TZID=America/Los_Angeles:20260513T210000
STATUS:CONFIRMED
SUMMARY:DELLA PIPA vs BOCCE INC.
URL:/League/Schedule/3010
DESCRIPTION:Regular Season match: DELLA PIPA vs BOCCE INC.
LOCATION:Martinez Court 15
END:VEVENT
BEGIN:VEVENT
DTSTAMP:20260419T000000Z
UID:5dd9c09e-55d0-4db1-9da4-c73ea249cba6@ClaytonBocce
DTSTART;TZID=America/Los_Angeles:20260527T183000
DTEND;TZID=America/Los_Angeles:20260527T210000
STATUS:CONFIRMED
SUMMARY:DELLA PIPA vs LA MACCHINA
URL:/League/Schedule/3010
DESCRIPTION:Regular Season match: DELLA PIPA vs LA MACCHINA
LOCATION:Martinez Court 5
END:VEVENT
BEGIN:VEVENT
DTSTAMP:20260419T000000Z
UID:da9673b7-13c5-49be-8e7e-da637eb5924a@ClaytonBocce
DTSTART;TZID=America/Los_Angeles:20260603T183000
DTEND;TZID=America/Los_Angeles:20260603T210000
STATUS:CONFIRMED
SUMMARY:DELLA PIPA vs PICNIC DUCKS
URL:/League/Schedule/3010
DESCRIPTION:Regular Season match: DELLA PIPA vs PICNIC DUCKS
LOCATION:Martinez Court 9
END:VEVENT
BEGIN:VEVENT
DTSTAMP:20260419T000000Z
UID:b2f663fe-5c76-4e72-808b-aeaa861e7030@ClaytonBocce
DTSTART;TZID=America/Los_Angeles:20260610T183000
DTEND;TZID=America/Los_Angeles:20260610T210000
STATUS:CONFIRMED
SUMMARY:DELLA PIPA vs RED HOOK RED DEVILS
URL:/League/Schedule/3010
DESCRIPTION:Regular Season match: DELLA PIPA vs RED HOOK RED
  DEVILS
LOCATION:Martinez Court 1
END:VEVENT
BEGIN:VEVENT
DTSTAMP:20260419T000000Z
UID:38a3ffef-1520-4f93-af8a-79b37f489a9f@ClaytonBocce
DTSTART;TZID=America/Los_Angeles:20260617T183000
DTEND;TZID=America/Los_Angeles:20260617T210000
STATUS:CONFIRMED
SUMMARY:DELLA PIPA vs MAINLY GREEKS
URL:/League/Schedule/3010
DESCRIPTION:Regular Season match: DELLA PIPA vs MAINLY GREEK
 S
LOCATION:Martinez Court 4
END:VEVENT
BEGIN:VEVENT
DTSTAMP:20260419T000000Z
UID:2981880b-ba6d-48e0-802c-832aba762cf4@ClaytonBocce
DTSTART;TZID=America/Los_Angeles:20260624T183000
DTEND;TZID=America/Los_Angeles:20260624T210000
STATUS:CONFIRMED
SUMMARY:DELLA PIPA vs CROCKETT ROCKETS
URL:/League/Schedule/3010
DESCRIPTION:Regular Season match: DELLA PIPA vs CROCKETT ROC
 KETS
LOCATION:Martinez Court 14
END:VEVENT
BEGIN:VEVENT
DTSTAMP:20260419T000000Z
UID:5f854d97-43c1-4cd4-9b24-13f953c57736@ClaytonBocce
DTSTART;TZID=America/Los_Angeles:20260708T183000
DTEND;TZID=America/Los_Angeles:20260708T210000
STATUS:CONFIRMED
SUMMARY:DELLA PIPA vs BOCCE INC.
URL:/League/Schedule/3010
DESCRIPTION:Regular Season match: DELLA PIPA vs BOCCE INC.
LOCATION:Martinez Court 8
END:VEVENT
BEGIN:VEVENT
DTSTAMP:20260419T000000Z
UID:b9933c6c-02b5-41ac-8835-7355fa7a4aef@ClaytonBocce
DTSTART;TZID=America/Los_Angeles:20260722T183000
DTEND;TZID=America/Los_Angeles:20260722T210000
STATUS:CONFIRMED
SUMMARY:DELLA PIPA vs LA MACCHINA
URL:/League/Schedule/3010
DESCRIPTION:Regular Season match: DELLA PIPA vs LA MACCHINA
LOCATION:Martinez Court 12
END:VEVENT
BEGIN:VEVENT
DTSTAMP:20260419T000000Z
UID:651b37ca-1ea2-490a-b303-8a6e93cde670@ClaytonBocce
DTSTART;TZID=America/Los_Angeles:20260729T183000
DTEND;TZID=America/Los_Angeles:20260729T210000
STATUS:CONFIRMED
SUMMARY:DELLA PIPA vs PICNIC DUCKS
URL:/League/Schedule/3010
DESCRIPTION:Regular Season match: DELLA PIPA vs PICNIC DUCKS
LOCATION:Martinez Court 4
END:VEVENT
BEGIN:VEVENT
DTSTAMP:20260419T000000Z
UID:ed31d1c0-f723-40e3-8e32-3f81cf39286e@ClaytonBocce
DTSTART;TZID=America/Los_Angeles:20260805T183000
DTEND;TZID=America/Los_Angeles:20260805T210000
STATUS:CONFIRMED
SUMMARY:DELLA PIPA vs RED HOOK RED DEVILS
URL:/League/Schedule/3010
DESCRIPTION:Regular Season match: DELLA PIPA vs RED HOOK RED
  DEVILS
LOCATION:Martinez Court 7
END:VEVENT
BEGIN:VEVENT
DTSTAMP:20260419T000000Z
UID:9b97bb70-382a-41fc-b3c6-40e54f5d7566@ClaytonBocce
DTSTART;TZID=America/Los_Angeles:20260812T183000
DTEND;TZID=America/Los_Angeles:20260812T210000
STATUS:CONFIRMED
SUMMARY:DELLA PIPA vs MAINLY GREEKS
URL:/League/Schedule/3010
DESCRIPTION:Regular Season match: DELLA PIPA vs MAINLY GREEK
 S
LOCATION:Martinez Court 2
END:VEVENT
BEGIN:VEVENT
DTSTAMP:20260419T000000Z
UID:f0111107-a514-496d-a7f0-f65d4c61704a@ClaytonBocce
DTSTART;TZID=America/Los_Angeles:20260819T183000
DTEND;TZID=America/Los_Angeles:20260819T210000
STATUS:CONFIRMED
SUMMARY:DELLA PIPA vs CROCKETT ROCKETS
URL:/League/Schedule/3010
DESCRIPTION:Regular Season match: DELLA PIPA vs CROCKETT ROC
 KETS
LOCATION:Martinez Court 5
END:VEVENT
BEGIN:VEVENT
DTSTAMP:20260419T000000Z
UID:5814a87f-920a-4c04-ab6c-c5c40cc13c23@ClaytonBocce
DTSTART;TZID=America/Los_Angeles:20260826T183000
DTEND;TZID=America/Los_Angeles:20260826T210000
STATUS:CONFIRMED
SUMMARY:DELLA PIPA vs BOCCE INC.
URL:/League/Schedule/3010
DESCRIPTION:Regular Season match: DELLA PIPA vs BOCCE INC.
LOCATION:Martinez Court 12
END:VEVENT
BEGIN:VEVENT
DTSTAMP:20260419T000000Z
UID:f0d793db-f97a-40f1-8a34-7b66bf966946@ClaytonBocce
DTSTART;TZID=America/Los_Angeles:20260909T183000
DTEND;TZID=America/Los_Angeles:20260909T210000
STATUS:CONFIRMED
SUMMARY:DELLA PIPA vs LA MACCHINA
URL:/League/Schedule/3010
DESCRIPTION:Regular Season match: DELLA PIPA vs LA MACCHINA
LOCATION:Martinez Court 6
END:VEVENT
BEGIN:VEVENT
DTSTAMP:20260419T000000Z
UID:233c9f58-ee0f-4073-947f-a5c295ba9242@ClaytonBocce
DTSTART;TZID=America/Los_Angeles:20260916T183000
DTEND;TZID=America/Los_Angeles:20260916T210000
STATUS:CONFIRMED
SUMMARY:DELLA PIPA vs PICNIC DUCKS
URL:/League/Schedule/3010
DESCRIPTION:Regular Season match: DELLA PIPA vs PICNIC DUCKS
LOCATION:Martinez Court 11
END:VEVENT
END:VCALENDAR
