BEGIN:VCALENDAR
VERSION:2.0
PRODID:-//Clayton Bocce League
METHOD:PUBLISH
BEGIN:VTIMEZONE
TZID:America/Los_Angeles
X-LIC-LOCATION:America/Los_Angeles
BEGIN:DAYLIGHT
TZOFFSETFROM:-0800
TZOFFSETTO:-0700
TZNAME:PDT
DTSTART:20070311T020000
RRULE:FREQ=YEARLY;BYMONTH=3;BYDAY=2SU
END:DAYLIGHT
BEGIN:STANDARD
TZOFFSETFROM:-0700
TZOFFSETTO:-0800
TZNAME:PST
DTSTART:20071104T020000
RRULE:FREQ=YEARLY;BYMONTH=11;BYDAY=1SU
END:STANDARD
END:VTIMEZONE
BEGIN:VEVENT
DTSTAMP:20260419T000000Z
UID:ba01eb3d-6eca-4b67-a2f9-a0a9d6fa83c6@ClaytonBocce
DTSTART;TZID=America/Los_Angeles:20260422T183000
DTEND;TZID=America/Los_Angeles:20260422T210000
STATUS:CONFIRMED
SUMMARY:RED HOOK RED DEVILS vs DELLA PIPA
URL:/League/Schedule/3011
DESCRIPTION:Regular Season match: RED HOOK RED DEVILS vs DEL
 LA PIPA
LOCATION:Martinez Court 3
END:VEVENT
BEGIN:VEVENT
DTSTAMP:20260419T000000Z
UID:5c7ca387-5dc8-42a7-8890-de9f2a728591@ClaytonBocce
DTSTART;TZID=America/Los_Angeles:20260429T183000
DTEND;TZID=America/Los_Angeles:20260429T210000
STATUS:CONFIRMED
SUMMARY:RED HOOK RED DEVILS vs CROCKETT ROCKETS
URL:/League/Schedule/3011
DESCRIPTION:Regular Season match: RED HOOK RED DEVILS vs CRO
 CKETT ROCKETS
LOCATION:Martinez Court 8
END:VEVENT
BEGIN:VEVENT
DTSTAMP:20260419T000000Z
UID:bafb574d-4885-42f8-867e-4f6de11b7991@ClaytonBocce
DTSTART;TZID=America/Los_Angeles:20260506T183000
DTEND;TZID=America/Los_Angeles:20260506T210000
STATUS:CONFIRMED
SUMMARY:RED HOOK RED DEVILS vs BOCCE INC.
URL:/League/Schedule/3011
DESCRIPTION:Regular Season match: RED HOOK RED DEVILS vs BOC
 CE INC.
LOCATION:Martinez Court 11
END:VEVENT
BEGIN:VEVENT
DTSTAMP:20260419T000000Z
UID:82dab6bc-0772-4428-acdf-87f8c97e136f@ClaytonBocce
DTSTART;TZID=America/Los_Angeles:20260520T183000
DTEND;TZID=America/Los_Angeles:20260520T210000
STATUS:CONFIRMED
SUMMARY:RED HOOK RED DEVILS vs LA MACCHINA
URL:/League/Schedule/3011
DESCRIPTION:Regular Season match: RED HOOK RED DEVILS vs LA 
 MACCHINA
LOCATION:Martinez Court 4
END:VEVENT
BEGIN:VEVENT
DTSTAMP:20260419T000000Z
UID:fa982f0e-eb31-46ff-9eb0-a5e8b3238087@ClaytonBocce
DTSTART;TZID=America/Los_Angeles:20260527T183000
DTEND;TZID=America/Los_Angeles:20260527T210000
STATUS:CONFIRMED
SUMMARY:RED HOOK RED DEVILS vs PICNIC DUCKS
URL:/League/Schedule/3011
DESCRIPTION:Regular Season match: RED HOOK RED DEVILS vs PIC
 NIC DUCKS
LOCATION:Martinez Court 6
END:VEVENT
BEGIN:VEVENT
DTSTAMP:20260419T000000Z
UID:08488c3e-685c-4602-95f0-7d16437112a6@ClaytonBocce
DTSTART;TZID=America/Los_Angeles:20260603T183000
DTEND;TZID=America/Los_Angeles:20260603T210000
STATUS:CONFIRMED
SUMMARY:RED HOOK RED DEVILS vs MAINLY GREEKS
URL:/League/Schedule/3011
DESCRIPTION:Regular Season match: RED HOOK RED DEVILS vs MAI
 NLY GREEKS
LOCATION:Martinez Court 10
END:VEVENT
BEGIN:VEVENT
DTSTAMP:20260419T000000Z
UID:b2f663fe-5c76-4e72-808b-aeaa861e7030@ClaytonBocce
DTSTART;TZID=America/Los_Angeles:20260610T183000
DTEND;TZID=America/Los_Angeles:20260610T210000
STATUS:CONFIRMED
SUMMARY:RED HOOK RED DEVILS vs DELLA PIPA
URL:/League/Schedule/3011
DESCRIPTION:Regular Season match: RED HOOK RED DEVILS vs DEL
 LA PIPA
LOCATION:Martinez Court 1
END:VEVENT
BEGIN:VEVENT
DTSTAMP:20260419T000000Z
UID:379ffc77-d6a0-49e6-8358-c9a30dfdd88b@ClaytonBocce
DTSTART;TZID=America/Los_Angeles:20260617T183000
DTEND;TZID=America/Los_Angeles:20260617T210000
STATUS:CONFIRMED
SUMMARY:RED HOOK RED DEVILS vs CROCKETT ROCKETS
URL:/League/Schedule/3011
DESCRIPTION:Regular Season match: RED HOOK RED DEVILS vs CRO
 CKETT ROCKETS
LOCATION:Martinez Court 12
END:VEVENT
BEGIN:VEVENT
DTSTAMP:20260419T000000Z
UID:e33a9949-9688-4252-85b4-0accaa75b884@ClaytonBocce
DTSTART;TZID=America/Los_Angeles:20260624T183000
DTEND;TZID=America/Los_Angeles:20260624T210000
STATUS:CONFIRMED
SUMMARY:RED HOOK RED DEVILS vs BOCCE INC.
URL:/League/Schedule/3011
DESCRIPTION:Regular Season match: RED HOOK RED DEVILS vs BOC
 CE INC.
LOCATION:Martinez Court 13
END:VEVENT
BEGIN:VEVENT
DTSTAMP:20260419T000000Z
UID:22117f1d-b392-44e6-a9ee-0b36f83d58ea@ClaytonBocce
DTSTART;TZID=America/Los_Angeles:20260715T183000
DTEND;TZID=America/Los_Angeles:20260715T210000
STATUS:CONFIRMED
SUMMARY:RED HOOK RED DEVILS vs LA MACCHINA
URL:/League/Schedule/3011
DESCRIPTION:Regular Season match: RED HOOK RED DEVILS vs LA 
 MACCHINA
LOCATION:Martinez Court 9
END:VEVENT
BEGIN:VEVENT
DTSTAMP:20260419T000000Z
UID:5854d6f9-44bf-4a10-85d2-3b4784841847@ClaytonBocce
DTSTART;TZID=America/Los_Angeles:20260722T183000
DTEND;TZID=America/Los_Angeles:20260722T210000
STATUS:CONFIRMED
SUMMARY:RED HOOK RED DEVILS vs PICNIC DUCKS
URL:/League/Schedule/3011
DESCRIPTION:Regular Season match: RED HOOK RED DEVILS vs PIC
 NIC DUCKS
LOCATION:Martinez Court 3
END:VEVENT
BEGIN:VEVENT
DTSTAMP:20260419T000000Z
UID:ac240ad9-74fc-4390-8f88-206bd68850cc@ClaytonBocce
DTSTART;TZID=America/Los_Angeles:20260729T183000
DTEND;TZID=America/Los_Angeles:20260729T210000
STATUS:CONFIRMED
SUMMARY:RED HOOK RED DEVILS vs MAINLY GREEKS
URL:/League/Schedule/3011
DESCRIPTION:Regular Season match: RED HOOK RED DEVILS vs MAI
 NLY GREEKS
LOCATION:Martinez Court 13
END:VEVENT
BEGIN:VEVENT
DTSTAMP:20260419T000000Z
UID:ed31d1c0-f723-40e3-8e32-3f81cf39286e@ClaytonBocce
DTSTART;TZID=America/Los_Angeles:20260805T183000
DTEND;TZID=America/Los_Angeles:20260805T210000
STATUS:CONFIRMED
SUMMARY:RED HOOK RED DEVILS vs DELLA PIPA
URL:/League/Schedule/3011
DESCRIPTION:Regular Season match: RED HOOK RED DEVILS vs DEL
 LA PIPA
LOCATION:Martinez Court 7
END:VEVENT
BEGIN:VEVENT
DTSTAMP:20260419T000000Z
UID:da313f35-8306-42c3-9624-2c6c93f7c38b@ClaytonBocce
DTSTART;TZID=America/Los_Angeles:20260812T183000
DTEND;TZID=America/Los_Angeles:20260812T210000
STATUS:CONFIRMED
SUMMARY:RED HOOK RED DEVILS vs CROCKETT ROCKETS
URL:/League/Schedule/3011
DESCRIPTION:Regular Season match: RED HOOK RED DEVILS vs CRO
 CKETT ROCKETS
LOCATION:Martinez Court 6
END:VEVENT
BEGIN:VEVENT
DTSTAMP:20260419T000000Z
UID:99b94163-c662-4daf-8b42-18283eb64e29@ClaytonBocce
DTSTART;TZID=America/Los_Angeles:20260819T183000
DTEND;TZID=America/Los_Angeles:20260819T210000
STATUS:CONFIRMED
SUMMARY:RED HOOK RED DEVILS vs BOCCE INC.
URL:/League/Schedule/3011
DESCRIPTION:Regular Season match: RED HOOK RED DEVILS vs BOC
 CE INC.
LOCATION:Martinez Court 14
END:VEVENT
BEGIN:VEVENT
DTSTAMP:20260419T000000Z
UID:d1ffcd20-b015-4b61-a5db-ed373f83638f@ClaytonBocce
DTSTART;TZID=America/Los_Angeles:20260902T183000
DTEND;TZID=America/Los_Angeles:20260902T210000
STATUS:CONFIRMED
SUMMARY:RED HOOK RED DEVILS vs LA MACCHINA
URL:/League/Schedule/3011
DESCRIPTION:Regular Season match: RED HOOK RED DEVILS vs LA 
 MACCHINA
LOCATION:Martinez Court 2
END:VEVENT
BEGIN:VEVENT
DTSTAMP:20260419T000000Z
UID:640532d2-cda4-40f6-ace8-5a559e682550@ClaytonBocce
DTSTART;TZID=America/Los_Angeles:20260909T183000
DTEND;TZID=America/Los_Angeles:20260909T210000
STATUS:CONFIRMED
SUMMARY:RED HOOK RED DEVILS vs PICNIC DUCKS
URL:/League/Schedule/3011
DESCRIPTION:Regular Season match: RED HOOK RED DEVILS vs PIC
 NIC DUCKS
LOCATION:Martinez Court 5
END:VEVENT
BEGIN:VEVENT
DTSTAMP:20260419T000000Z
UID:a47543c9-6a0a-4a00-a1bf-fd1912dd4fd8@ClaytonBocce
DTSTART;TZID=America/Los_Angeles:20260916T183000
DTEND;TZID=America/Los_Angeles:20260916T210000
STATUS:CONFIRMED
SUMMARY:RED HOOK RED DEVILS vs MAINLY GREEKS
URL:/League/Schedule/3011
DESCRIPTION:Regular Season match: RED HOOK RED DEVILS vs MAI
 NLY GREEKS
LOCATION:Martinez Court 15
END:VEVENT
END:VCALENDAR
