BEGIN:VCALENDAR
VERSION:2.0
PRODID:-//Clayton Bocce League
METHOD:PUBLISH
BEGIN:VTIMEZONE
TZID:America/Los_Angeles
X-LIC-LOCATION:America/Los_Angeles
BEGIN:DAYLIGHT
TZOFFSETFROM:-0800
TZOFFSETTO:-0700
TZNAME:PDT
DTSTART:20070311T020000
RRULE:FREQ=YEARLY;BYMONTH=3;BYDAY=2SU
END:DAYLIGHT
BEGIN:STANDARD
TZOFFSETFROM:-0700
TZOFFSETTO:-0800
TZNAME:PST
DTSTART:20071104T020000
RRULE:FREQ=YEARLY;BYMONTH=11;BYDAY=1SU
END:STANDARD
END:VTIMEZONE
BEGIN:VEVENT
DTSTAMP:20260419T000000Z
UID:ccf417bb-1542-4fd0-8dd9-003d014e2f31@ClaytonBocce
DTSTART;TZID=America/Los_Angeles:20260422T183000
DTEND;TZID=America/Los_Angeles:20260422T210000
STATUS:CONFIRMED
SUMMARY:PARDON OUR Da BOCCARY vs EASY ROLLERS
URL:/League/Schedule/3041
DESCRIPTION:Regular Season match: PARDON OUR Da BOCCARY vs E
 ASY ROLLERS
LOCATION:Martinez Court 13
END:VEVENT
BEGIN:VEVENT
DTSTAMP:20260419T000000Z
UID:280b069c-3294-433c-9203-ec8bcd5de020@ClaytonBocce
DTSTART;TZID=America/Los_Angeles:20260506T183000
DTEND;TZID=America/Los_Angeles:20260506T210000
STATUS:CONFIRMED
SUMMARY:PARDON OUR Da BOCCARY vs SLOW and EASY
URL:/League/Schedule/3041
DESCRIPTION:Regular Season match: PARDON OUR Da BOCCARY vs S
 LOW and EASY
LOCATION:Martinez Court 9
END:VEVENT
BEGIN:VEVENT
DTSTAMP:20260419T000000Z
UID:f4ce08a6-9c00-4c75-9ed5-070db131cc44@ClaytonBocce
DTSTART;TZID=America/Los_Angeles:20260513T183000
DTEND;TZID=America/Los_Angeles:20260513T210000
STATUS:CONFIRMED
SUMMARY:PARDON OUR Da BOCCARY vs BALLZ IN HAND
URL:/League/Schedule/3041
DESCRIPTION:Regular Season match: PARDON OUR Da BOCCARY vs B
 ALLZ IN HAND
LOCATION:Martinez Court 11
END:VEVENT
BEGIN:VEVENT
DTSTAMP:20260419T000000Z
UID:72ffe119-4406-4788-92d5-ffbc0a773a36@ClaytonBocce
DTSTART;TZID=America/Los_Angeles:20260520T183000
DTEND;TZID=America/Los_Angeles:20260520T210000
STATUS:CONFIRMED
SUMMARY:PARDON OUR Da BOCCARY vs REBELS WITH BALLS
URL:/League/Schedule/3041
DESCRIPTION:Regular Season match: PARDON OUR Da BOCCARY vs R
 EBELS WITH BALLS
LOCATION:Martinez Court 2
END:VEVENT
BEGIN:VEVENT
DTSTAMP:20260419T000000Z
UID:d6b5bf8e-ff5d-4597-8e87-b0184e9987c7@ClaytonBocce
DTSTART;TZID=America/Los_Angeles:20260527T183000
DTEND;TZID=America/Los_Angeles:20260527T210000
STATUS:CONFIRMED
SUMMARY:PARDON OUR Da BOCCARY vs DON'T STOP BALLIEVING
URL:/League/Schedule/3041
DESCRIPTION:Regular Season match: PARDON OUR Da BOCCARY vs D
 ON'T STOP BALLIEVING
LOCATION:Martinez Court 3
END:VEVENT
BEGIN:VEVENT
DTSTAMP:20260419T000000Z
UID:664138fc-7fea-4c1a-b029-cc19edc021d3@ClaytonBocce
DTSTART;TZID=America/Los_Angeles:20260603T183000
DTEND;TZID=America/Los_Angeles:20260603T210000
STATUS:CONFIRMED
SUMMARY:PARDON OUR Da BOCCARY vs WHATZA MADDA U
URL:/League/Schedule/3041
DESCRIPTION:Regular Season match: PARDON OUR Da BOCCARY vs W
 HATZA MADDA U
LOCATION:Martinez Court 6
END:VEVENT
BEGIN:VEVENT
DTSTAMP:20260419T000000Z
UID:7a0c8706-9566-405a-95c1-cc846d6c3cad@ClaytonBocce
DTSTART;TZID=America/Los_Angeles:20260610T183000
DTEND;TZID=America/Los_Angeles:20260610T210000
STATUS:CONFIRMED
SUMMARY:PARDON OUR Da BOCCARY vs EASY ROLLERS
URL:/League/Schedule/3041
DESCRIPTION:Regular Season match: PARDON OUR Da BOCCARY vs E
 ASY ROLLERS
LOCATION:Martinez Court 14
END:VEVENT
BEGIN:VEVENT
DTSTAMP:20260419T000000Z
UID:afbae124-ddb9-475c-a8f8-7b05de01c95a@ClaytonBocce
DTSTART;TZID=America/Los_Angeles:20260624T183000
DTEND;TZID=America/Los_Angeles:20260624T210000
STATUS:CONFIRMED
SUMMARY:PARDON OUR Da BOCCARY vs SLOW and EASY
URL:/League/Schedule/3041
DESCRIPTION:Regular Season match: PARDON OUR Da BOCCARY vs S
 LOW and EASY
LOCATION:Martinez Court 1
END:VEVENT
BEGIN:VEVENT
DTSTAMP:20260419T000000Z
UID:0b68f72b-b2dd-46d1-951b-d22a226342ca@ClaytonBocce
DTSTART;TZID=America/Los_Angeles:20260708T183000
DTEND;TZID=America/Los_Angeles:20260708T210000
STATUS:CONFIRMED
SUMMARY:PARDON OUR Da BOCCARY vs BALLZ IN HAND
URL:/League/Schedule/3041
DESCRIPTION:Regular Season match: PARDON OUR Da BOCCARY vs B
 ALLZ IN HAND
LOCATION:Martinez Court 4
END:VEVENT
BEGIN:VEVENT
DTSTAMP:20260419T000000Z
UID:ad9cb914-237c-4b27-94bb-b9feba83d39a@ClaytonBocce
DTSTART;TZID=America/Los_Angeles:20260715T183000
DTEND;TZID=America/Los_Angeles:20260715T210000
STATUS:CONFIRMED
SUMMARY:PARDON OUR Da BOCCARY vs REBELS WITH BALLS
URL:/League/Schedule/3041
DESCRIPTION:Regular Season match: PARDON OUR Da BOCCARY vs R
 EBELS WITH BALLS
LOCATION:Martinez Court 7
END:VEVENT
BEGIN:VEVENT
DTSTAMP:20260419T000000Z
UID:4eda4038-d95b-4313-813e-1f0bc7aa7387@ClaytonBocce
DTSTART;TZID=America/Los_Angeles:20260722T183000
DTEND;TZID=America/Los_Angeles:20260722T210000
STATUS:CONFIRMED
SUMMARY:PARDON OUR Da BOCCARY vs DON'T STOP BALLIEVING
URL:/League/Schedule/3041
DESCRIPTION:Regular Season match: PARDON OUR Da BOCCARY vs D
 ON'T STOP BALLIEVING
LOCATION:Martinez Court 5
END:VEVENT
BEGIN:VEVENT
DTSTAMP:20260419T000000Z
UID:207aebea-f684-4a28-84e9-55e390e9a9ca@ClaytonBocce
DTSTART;TZID=America/Los_Angeles:20260729T183000
DTEND;TZID=America/Los_Angeles:20260729T210000
STATUS:CONFIRMED
SUMMARY:PARDON OUR Da BOCCARY vs WHATZA MADDA U
URL:/League/Schedule/3041
DESCRIPTION:Regular Season match: PARDON OUR Da BOCCARY vs W
 HATZA MADDA U
LOCATION:Martinez Court 12
END:VEVENT
BEGIN:VEVENT
DTSTAMP:20260419T000000Z
UID:1ebd8f75-f5ab-4dba-8bdb-1f1222fd0781@ClaytonBocce
DTSTART;TZID=America/Los_Angeles:20260805T183000
DTEND;TZID=America/Los_Angeles:20260805T210000
STATUS:CONFIRMED
SUMMARY:PARDON OUR Da BOCCARY vs EASY ROLLERS
URL:/League/Schedule/3041
DESCRIPTION:Regular Season match: PARDON OUR Da BOCCARY vs E
 ASY ROLLERS
LOCATION:Martinez Court 6
END:VEVENT
BEGIN:VEVENT
DTSTAMP:20260419T000000Z
UID:1411c4f6-3d01-4fd6-a391-66c886d18044@ClaytonBocce
DTSTART;TZID=America/Los_Angeles:20260819T183000
DTEND;TZID=America/Los_Angeles:20260819T210000
STATUS:CONFIRMED
SUMMARY:PARDON OUR Da BOCCARY vs SLOW and EASY
URL:/League/Schedule/3041
DESCRIPTION:Regular Season match: PARDON OUR Da BOCCARY vs S
 LOW and EASY
LOCATION:Martinez Court 1
END:VEVENT
BEGIN:VEVENT
DTSTAMP:20260419T000000Z
UID:f4b792eb-d94e-473c-8d23-3a1c15eb2331@ClaytonBocce
DTSTART;TZID=America/Los_Angeles:20260826T183000
DTEND;TZID=America/Los_Angeles:20260826T210000
STATUS:CONFIRMED
SUMMARY:PARDON OUR Da BOCCARY vs BALLZ IN HAND
URL:/League/Schedule/3041
DESCRIPTION:Regular Season match: PARDON OUR Da BOCCARY vs B
 ALLZ IN HAND
LOCATION:Martinez Court 10
END:VEVENT
BEGIN:VEVENT
DTSTAMP:20260419T000000Z
UID:b2778bcc-3c29-4022-bed7-15d2b67260e4@ClaytonBocce
DTSTART;TZID=America/Los_Angeles:20260902T183000
DTEND;TZID=America/Los_Angeles:20260902T210000
STATUS:CONFIRMED
SUMMARY:PARDON OUR Da BOCCARY vs REBELS WITH BALLS
URL:/League/Schedule/3041
DESCRIPTION:Regular Season match: PARDON OUR Da BOCCARY vs R
 EBELS WITH BALLS
LOCATION:Martinez Court 15
END:VEVENT
BEGIN:VEVENT
DTSTAMP:20260419T000000Z
UID:c2176dae-b1d3-4452-a250-f7e3b686846b@ClaytonBocce
DTSTART;TZID=America/Los_Angeles:20260909T183000
DTEND;TZID=America/Los_Angeles:20260909T210000
STATUS:CONFIRMED
SUMMARY:PARDON OUR Da BOCCARY vs DON'T STOP BALLIEVING
URL:/League/Schedule/3041
DESCRIPTION:Regular Season match: PARDON OUR Da BOCCARY vs D
 ON'T STOP BALLIEVING
LOCATION:Martinez Court 3
END:VEVENT
BEGIN:VEVENT
DTSTAMP:20260419T000000Z
UID:139573e1-d578-4a87-91d8-775948de5fd8@ClaytonBocce
DTSTART;TZID=America/Los_Angeles:20260916T183000
DTEND;TZID=America/Los_Angeles:20260916T210000
STATUS:CONFIRMED
SUMMARY:PARDON OUR Da BOCCARY vs WHATZA MADDA U
URL:/League/Schedule/3041
DESCRIPTION:Regular Season match: PARDON OUR Da BOCCARY vs W
 HATZA MADDA U
LOCATION:Martinez Court 13
END:VEVENT
END:VCALENDAR
