BEGIN:VCALENDAR
VERSION:2.0
PRODID:-//Clayton Bocce League
METHOD:PUBLISH
BEGIN:VTIMEZONE
TZID:America/Los_Angeles
X-LIC-LOCATION:America/Los_Angeles
BEGIN:DAYLIGHT
TZOFFSETFROM:-0800
TZOFFSETTO:-0700
TZNAME:PDT
DTSTART:20070311T020000
RRULE:FREQ=YEARLY;BYMONTH=3;BYDAY=2SU
END:DAYLIGHT
BEGIN:STANDARD
TZOFFSETFROM:-0700
TZOFFSETTO:-0800
TZNAME:PST
DTSTART:20071104T020000
RRULE:FREQ=YEARLY;BYMONTH=11;BYDAY=1SU
END:STANDARD
END:VTIMEZONE
BEGIN:VEVENT
DTSTAMP:20260419T000000Z
UID:ccf417bb-1542-4fd0-8dd9-003d014e2f31@ClaytonBocce
DTSTART;TZID=America/Los_Angeles:20260422T183000
DTEND;TZID=America/Los_Angeles:20260422T210000
STATUS:CONFIRMED
SUMMARY:EASY ROLLERS vs PARDON OUR Da BOCCARY
URL:/League/Schedule/3036
DESCRIPTION:Regular Season match: EASY ROLLERS vs PARDON OUR
  Da BOCCARY
LOCATION:Martinez Court 13
END:VEVENT
BEGIN:VEVENT
DTSTAMP:20260419T000000Z
UID:beb8e860-afb4-4e10-9670-78917214e35e@ClaytonBocce
DTSTART;TZID=America/Los_Angeles:20260429T183000
DTEND;TZID=America/Los_Angeles:20260429T210000
STATUS:CONFIRMED
SUMMARY:EASY ROLLERS vs BALLZ IN HAND
URL:/League/Schedule/3036
DESCRIPTION:Regular Season match: EASY ROLLERS vs BALLZ IN H
 AND
LOCATION:Martinez Court 3
END:VEVENT
BEGIN:VEVENT
DTSTAMP:20260419T000000Z
UID:7d57f1c9-8725-4baf-89c8-641161341ca0@ClaytonBocce
DTSTART;TZID=America/Los_Angeles:20260506T183000
DTEND;TZID=America/Los_Angeles:20260506T210000
STATUS:CONFIRMED
SUMMARY:EASY ROLLERS vs DON'T STOP BALLIEVING
URL:/League/Schedule/3036
DESCRIPTION:Regular Season match: EASY ROLLERS vs DON'T STOP
  BALLIEVING
LOCATION:Martinez Court 8
END:VEVENT
BEGIN:VEVENT
DTSTAMP:20260419T000000Z
UID:854a53d1-2eb6-42e0-baa0-d43a56407188@ClaytonBocce
DTSTART;TZID=America/Los_Angeles:20260513T183000
DTEND;TZID=America/Los_Angeles:20260513T210000
STATUS:CONFIRMED
SUMMARY:EASY ROLLERS vs WHATZA MADDA U
URL:/League/Schedule/3036
DESCRIPTION:Regular Season match: EASY ROLLERS vs WHATZA MAD
 DA U
LOCATION:Martinez Court 7
END:VEVENT
BEGIN:VEVENT
DTSTAMP:20260419T000000Z
UID:a7019554-d50a-4f8d-a9d6-5d45486ce72c@ClaytonBocce
DTSTART;TZID=America/Los_Angeles:20260520T183000
DTEND;TZID=America/Los_Angeles:20260520T210000
STATUS:CONFIRMED
SUMMARY:EASY ROLLERS vs SLOW and EASY
URL:/League/Schedule/3036
DESCRIPTION:Regular Season match: EASY ROLLERS vs SLOW and E
 ASY
LOCATION:Martinez Court 15
END:VEVENT
BEGIN:VEVENT
DTSTAMP:20260419T000000Z
UID:f559be07-f4f0-41f2-aa2e-a3b0d239c3b6@ClaytonBocce
DTSTART;TZID=America/Los_Angeles:20260527T183000
DTEND;TZID=America/Los_Angeles:20260527T210000
STATUS:CONFIRMED
SUMMARY:EASY ROLLERS vs REBELS WITH BALLS
URL:/League/Schedule/3036
DESCRIPTION:Regular Season match: EASY ROLLERS vs REBELS WIT
 H BALLS
LOCATION:Martinez Court 1
END:VEVENT
BEGIN:VEVENT
DTSTAMP:20260419T000000Z
UID:7a0c8706-9566-405a-95c1-cc846d6c3cad@ClaytonBocce
DTSTART;TZID=America/Los_Angeles:20260610T183000
DTEND;TZID=America/Los_Angeles:20260610T210000
STATUS:CONFIRMED
SUMMARY:EASY ROLLERS vs PARDON OUR Da BOCCARY
URL:/League/Schedule/3036
DESCRIPTION:Regular Season match: EASY ROLLERS vs PARDON OUR
  Da BOCCARY
LOCATION:Martinez Court 14
END:VEVENT
BEGIN:VEVENT
DTSTAMP:20260419T000000Z
UID:751206ef-b2b0-43f6-a796-38e5993b1e1b@ClaytonBocce
DTSTART;TZID=America/Los_Angeles:20260617T183000
DTEND;TZID=America/Los_Angeles:20260617T210000
STATUS:CONFIRMED
SUMMARY:EASY ROLLERS vs BALLZ IN HAND
URL:/League/Schedule/3036
DESCRIPTION:Regular Season match: EASY ROLLERS vs BALLZ IN H
 AND
LOCATION:Martinez Court 7
END:VEVENT
BEGIN:VEVENT
DTSTAMP:20260419T000000Z
UID:ca3488ba-d768-4920-b57c-622310883591@ClaytonBocce
DTSTART;TZID=America/Los_Angeles:20260624T183000
DTEND;TZID=America/Los_Angeles:20260624T210000
STATUS:CONFIRMED
SUMMARY:EASY ROLLERS vs DON'T STOP BALLIEVING
URL:/League/Schedule/3036
DESCRIPTION:Regular Season match: EASY ROLLERS vs DON'T STOP
  BALLIEVING
LOCATION:Martinez Court 12
END:VEVENT
BEGIN:VEVENT
DTSTAMP:20260419T000000Z
UID:3eb900c9-48a8-4c2b-a574-c55327730ed2@ClaytonBocce
DTSTART;TZID=America/Los_Angeles:20260708T183000
DTEND;TZID=America/Los_Angeles:20260708T210000
STATUS:CONFIRMED
SUMMARY:EASY ROLLERS vs WHATZA MADDA U
URL:/League/Schedule/3036
DESCRIPTION:Regular Season match: EASY ROLLERS vs WHATZA MAD
 DA U
LOCATION:Martinez Court 5
END:VEVENT
BEGIN:VEVENT
DTSTAMP:20260419T000000Z
UID:ceca6af5-dba3-437a-afcd-b2a1cff6a6dc@ClaytonBocce
DTSTART;TZID=America/Los_Angeles:20260715T183000
DTEND;TZID=America/Los_Angeles:20260715T210000
STATUS:CONFIRMED
SUMMARY:EASY ROLLERS vs SLOW and EASY
URL:/League/Schedule/3036
DESCRIPTION:Regular Season match: EASY ROLLERS vs SLOW and E
 ASY
LOCATION:Martinez Court 2
END:VEVENT
BEGIN:VEVENT
DTSTAMP:20260419T000000Z
UID:19363943-2bdb-462d-9edc-9394fb7d5adc@ClaytonBocce
DTSTART;TZID=America/Los_Angeles:20260722T183000
DTEND;TZID=America/Los_Angeles:20260722T210000
STATUS:CONFIRMED
SUMMARY:EASY ROLLERS vs REBELS WITH BALLS
URL:/League/Schedule/3036
DESCRIPTION:Regular Season match: EASY ROLLERS vs REBELS WIT
 H BALLS
LOCATION:Martinez Court 4
END:VEVENT
BEGIN:VEVENT
DTSTAMP:20260419T000000Z
UID:1ebd8f75-f5ab-4dba-8bdb-1f1222fd0781@ClaytonBocce
DTSTART;TZID=America/Los_Angeles:20260805T183000
DTEND;TZID=America/Los_Angeles:20260805T210000
STATUS:CONFIRMED
SUMMARY:EASY ROLLERS vs PARDON OUR Da BOCCARY
URL:/League/Schedule/3036
DESCRIPTION:Regular Season match: EASY ROLLERS vs PARDON OUR
  Da BOCCARY
LOCATION:Martinez Court 6
END:VEVENT
BEGIN:VEVENT
DTSTAMP:20260419T000000Z
UID:a1efb919-7730-4369-bcdc-e827515c71a3@ClaytonBocce
DTSTART;TZID=America/Los_Angeles:20260812T183000
DTEND;TZID=America/Los_Angeles:20260812T210000
STATUS:CONFIRMED
SUMMARY:EASY ROLLERS vs BALLZ IN HAND
URL:/League/Schedule/3036
DESCRIPTION:Regular Season match: EASY ROLLERS vs BALLZ IN H
 AND
LOCATION:Martinez Court 8
END:VEVENT
BEGIN:VEVENT
DTSTAMP:20260419T000000Z
UID:49a2e45e-9feb-4c27-ad7c-d9133b85c0ed@ClaytonBocce
DTSTART;TZID=America/Los_Angeles:20260819T183000
DTEND;TZID=America/Los_Angeles:20260819T210000
STATUS:CONFIRMED
SUMMARY:EASY ROLLERS vs DON'T STOP BALLIEVING
URL:/League/Schedule/3036
DESCRIPTION:Regular Season match: EASY ROLLERS vs DON'T STOP
  BALLIEVING
LOCATION:Martinez Court 11
END:VEVENT
BEGIN:VEVENT
DTSTAMP:20260419T000000Z
UID:27a7d8ce-6911-479f-a1d0-cafc26c05972@ClaytonBocce
DTSTART;TZID=America/Los_Angeles:20260826T183000
DTEND;TZID=America/Los_Angeles:20260826T210000
STATUS:CONFIRMED
SUMMARY:EASY ROLLERS vs WHATZA MADDA U
URL:/League/Schedule/3036
DESCRIPTION:Regular Season match: EASY ROLLERS vs WHATZA MAD
 DA U
LOCATION:Martinez Court 1
END:VEVENT
BEGIN:VEVENT
DTSTAMP:20260419T000000Z
UID:ecefec0f-4a56-484a-8c05-0988508975bc@ClaytonBocce
DTSTART;TZID=America/Los_Angeles:20260902T183000
DTEND;TZID=America/Los_Angeles:20260902T210000
STATUS:CONFIRMED
SUMMARY:EASY ROLLERS vs SLOW and EASY
URL:/League/Schedule/3036
DESCRIPTION:Regular Season match: EASY ROLLERS vs SLOW and E
 ASY
LOCATION:Martinez Court 9
END:VEVENT
BEGIN:VEVENT
DTSTAMP:20260419T000000Z
UID:ea4ad5d8-e997-4f9b-a463-368aac1643c5@ClaytonBocce
DTSTART;TZID=America/Los_Angeles:20260909T183000
DTEND;TZID=America/Los_Angeles:20260909T210000
STATUS:CONFIRMED
SUMMARY:EASY ROLLERS vs REBELS WITH BALLS
URL:/League/Schedule/3036
DESCRIPTION:Regular Season match: EASY ROLLERS vs REBELS WIT
 H BALLS
LOCATION:Martinez Court 12
END:VEVENT
END:VCALENDAR
