BEGIN:VCALENDAR
VERSION:2.0
PRODID:-//Clayton Bocce League
METHOD:PUBLISH
BEGIN:VTIMEZONE
TZID:America/Los_Angeles
X-LIC-LOCATION:America/Los_Angeles
BEGIN:DAYLIGHT
TZOFFSETFROM:-0800
TZOFFSETTO:-0700
TZNAME:PDT
DTSTART:20070311T020000
RRULE:FREQ=YEARLY;BYMONTH=3;BYDAY=2SU
END:DAYLIGHT
BEGIN:STANDARD
TZOFFSETFROM:-0700
TZOFFSETTO:-0800
TZNAME:PST
DTSTART:20071104T020000
RRULE:FREQ=YEARLY;BYMONTH=11;BYDAY=1SU
END:STANDARD
END:VTIMEZONE
BEGIN:VEVENT
DTSTAMP:20260419T000000Z
UID:e9e369ec-da06-41e8-8bea-a2a37912ce26@ClaytonBocce
DTSTART;TZID=America/Los_Angeles:20260422T183000
DTEND;TZID=America/Los_Angeles:20260422T210000
STATUS:CONFIRMED
SUMMARY:PICNIC DUCKS vs BOCCE INC.
URL:/League/Schedule/3013
DESCRIPTION:Regular Season match: PICNIC DUCKS vs BOCCE INC.
LOCATION:Martinez Court 1
END:VEVENT
BEGIN:VEVENT
DTSTAMP:20260419T000000Z
UID:6f90bc36-91d1-4c71-a985-5130137104d6@ClaytonBocce
DTSTART;TZID=America/Los_Angeles:20260506T183000
DTEND;TZID=America/Los_Angeles:20260506T210000
STATUS:CONFIRMED
SUMMARY:PICNIC DUCKS vs MAINLY GREEKS
URL:/League/Schedule/3013
DESCRIPTION:Regular Season match: PICNIC DUCKS vs MAINLY GRE
 EKS
LOCATION:Martinez Court 12
END:VEVENT
BEGIN:VEVENT
DTSTAMP:20260419T000000Z
UID:464bf5e5-6659-46ce-91e6-a498e6ee31ae@ClaytonBocce
DTSTART;TZID=America/Los_Angeles:20260513T183000
DTEND;TZID=America/Los_Angeles:20260513T210000
STATUS:CONFIRMED
SUMMARY:PICNIC DUCKS vs LA MACCHINA
URL:/League/Schedule/3013
DESCRIPTION:Regular Season match: PICNIC DUCKS vs LA MACCHIN
 A
LOCATION:Martinez Court 14
END:VEVENT
BEGIN:VEVENT
DTSTAMP:20260419T000000Z
UID:4b0556f1-e248-40eb-a403-942cc5147dfd@ClaytonBocce
DTSTART;TZID=America/Los_Angeles:20260520T183000
DTEND;TZID=America/Los_Angeles:20260520T210000
STATUS:CONFIRMED
SUMMARY:PICNIC DUCKS vs CROCKETT ROCKETS
URL:/League/Schedule/3013
DESCRIPTION:Regular Season match: PICNIC DUCKS vs CROCKETT R
 OCKETS
LOCATION:Martinez Court 5
END:VEVENT
BEGIN:VEVENT
DTSTAMP:20260419T000000Z
UID:fa982f0e-eb31-46ff-9eb0-a5e8b3238087@ClaytonBocce
DTSTART;TZID=America/Los_Angeles:20260527T183000
DTEND;TZID=America/Los_Angeles:20260527T210000
STATUS:CONFIRMED
SUMMARY:PICNIC DUCKS vs RED HOOK RED DEVILS
URL:/League/Schedule/3013
DESCRIPTION:Regular Season match: PICNIC DUCKS vs RED HOOK R
 ED DEVILS
LOCATION:Martinez Court 6
END:VEVENT
BEGIN:VEVENT
DTSTAMP:20260419T000000Z
UID:da9673b7-13c5-49be-8e7e-da637eb5924a@ClaytonBocce
DTSTART;TZID=America/Los_Angeles:20260603T183000
DTEND;TZID=America/Los_Angeles:20260603T210000
STATUS:CONFIRMED
SUMMARY:PICNIC DUCKS vs DELLA PIPA
URL:/League/Schedule/3013
DESCRIPTION:Regular Season match: PICNIC DUCKS vs DELLA PIPA
LOCATION:Martinez Court 9
END:VEVENT
BEGIN:VEVENT
DTSTAMP:20260419T000000Z
UID:e114bd0b-3fd5-46ed-b2f3-8b30f5c0cb57@ClaytonBocce
DTSTART;TZID=America/Los_Angeles:20260610T183000
DTEND;TZID=America/Los_Angeles:20260610T210000
STATUS:CONFIRMED
SUMMARY:PICNIC DUCKS vs BOCCE INC.
URL:/League/Schedule/3013
DESCRIPTION:Regular Season match: PICNIC DUCKS vs BOCCE INC.
LOCATION:Martinez Court 2
END:VEVENT
BEGIN:VEVENT
DTSTAMP:20260419T000000Z
UID:50511425-643d-4dbe-b7a6-c74970352074@ClaytonBocce
DTSTART;TZID=America/Los_Angeles:20260624T183000
DTEND;TZID=America/Los_Angeles:20260624T210000
STATUS:CONFIRMED
SUMMARY:PICNIC DUCKS vs MAINLY GREEKS
URL:/League/Schedule/3013
DESCRIPTION:Regular Season match: PICNIC DUCKS vs MAINLY GRE
 EKS
LOCATION:Martinez Court 15
END:VEVENT
BEGIN:VEVENT
DTSTAMP:20260419T000000Z
UID:d2562f18-dc06-42c6-8b75-9f74dc790eb3@ClaytonBocce
DTSTART;TZID=America/Los_Angeles:20260708T183000
DTEND;TZID=America/Los_Angeles:20260708T210000
STATUS:CONFIRMED
SUMMARY:PICNIC DUCKS vs LA MACCHINA
URL:/League/Schedule/3013
DESCRIPTION:Regular Season match: PICNIC DUCKS vs LA MACCHIN
 A
LOCATION:Martinez Court 7
END:VEVENT
BEGIN:VEVENT
DTSTAMP:20260419T000000Z
UID:752a6eec-2e1b-4d66-93a0-68eff6486978@ClaytonBocce
DTSTART;TZID=America/Los_Angeles:20260715T183000
DTEND;TZID=America/Los_Angeles:20260715T210000
STATUS:CONFIRMED
SUMMARY:PICNIC DUCKS vs CROCKETT ROCKETS
URL:/League/Schedule/3013
DESCRIPTION:Regular Season match: PICNIC DUCKS vs CROCKETT R
 OCKETS
LOCATION:Martinez Court 10
END:VEVENT
BEGIN:VEVENT
DTSTAMP:20260419T000000Z
UID:5854d6f9-44bf-4a10-85d2-3b4784841847@ClaytonBocce
DTSTART;TZID=America/Los_Angeles:20260722T183000
DTEND;TZID=America/Los_Angeles:20260722T210000
STATUS:CONFIRMED
SUMMARY:PICNIC DUCKS vs RED HOOK RED DEVILS
URL:/League/Schedule/3013
DESCRIPTION:Regular Season match: PICNIC DUCKS vs RED HOOK R
 ED DEVILS
LOCATION:Martinez Court 3
END:VEVENT
BEGIN:VEVENT
DTSTAMP:20260419T000000Z
UID:651b37ca-1ea2-490a-b303-8a6e93cde670@ClaytonBocce
DTSTART;TZID=America/Los_Angeles:20260729T183000
DTEND;TZID=America/Los_Angeles:20260729T210000
STATUS:CONFIRMED
SUMMARY:PICNIC DUCKS vs DELLA PIPA
URL:/League/Schedule/3013
DESCRIPTION:Regular Season match: PICNIC DUCKS vs DELLA PIPA
LOCATION:Martinez Court 4
END:VEVENT
BEGIN:VEVENT
DTSTAMP:20260419T000000Z
UID:e97048f6-00a3-4f50-85eb-8bf49cc8d56a@ClaytonBocce
DTSTART;TZID=America/Los_Angeles:20260805T183000
DTEND;TZID=America/Los_Angeles:20260805T210000
STATUS:CONFIRMED
SUMMARY:PICNIC DUCKS vs BOCCE INC.
URL:/League/Schedule/3013
DESCRIPTION:Regular Season match: PICNIC DUCKS vs BOCCE INC.
LOCATION:Martinez Court 9
END:VEVENT
BEGIN:VEVENT
DTSTAMP:20260419T000000Z
UID:388e2602-7a31-4dc1-9373-76cace612aef@ClaytonBocce
DTSTART;TZID=America/Los_Angeles:20260819T183000
DTEND;TZID=America/Los_Angeles:20260819T210000
STATUS:CONFIRMED
SUMMARY:PICNIC DUCKS vs MAINLY GREEKS
URL:/League/Schedule/3013
DESCRIPTION:Regular Season match: PICNIC DUCKS vs MAINLY GRE
 EKS
LOCATION:Martinez Court 6
END:VEVENT
BEGIN:VEVENT
DTSTAMP:20260419T000000Z
UID:9199576c-5e9a-4a82-98a8-dba5c99d16a8@ClaytonBocce
DTSTART;TZID=America/Los_Angeles:20260826T183000
DTEND;TZID=America/Los_Angeles:20260826T210000
STATUS:CONFIRMED
SUMMARY:PICNIC DUCKS vs LA MACCHINA
URL:/League/Schedule/3013
DESCRIPTION:Regular Season match: PICNIC DUCKS vs LA MACCHIN
 A
LOCATION:Martinez Court 13
END:VEVENT
BEGIN:VEVENT
DTSTAMP:20260419T000000Z
UID:bad0eba5-16ce-447c-9aa6-168e3283ffc3@ClaytonBocce
DTSTART;TZID=America/Los_Angeles:20260902T183000
DTEND;TZID=America/Los_Angeles:20260902T210000
STATUS:CONFIRMED
SUMMARY:PICNIC DUCKS vs CROCKETT ROCKETS
URL:/League/Schedule/3013
DESCRIPTION:Regular Season match: PICNIC DUCKS vs CROCKETT R
 OCKETS
LOCATION:Martinez Court 10
END:VEVENT
BEGIN:VEVENT
DTSTAMP:20260419T000000Z
UID:640532d2-cda4-40f6-ace8-5a559e682550@ClaytonBocce
DTSTART;TZID=America/Los_Angeles:20260909T183000
DTEND;TZID=America/Los_Angeles:20260909T210000
STATUS:CONFIRMED
SUMMARY:PICNIC DUCKS vs RED HOOK RED DEVILS
URL:/League/Schedule/3013
DESCRIPTION:Regular Season match: PICNIC DUCKS vs RED HOOK R
 ED DEVILS
LOCATION:Martinez Court 5
END:VEVENT
BEGIN:VEVENT
DTSTAMP:20260419T000000Z
UID:233c9f58-ee0f-4073-947f-a5c295ba9242@ClaytonBocce
DTSTART;TZID=America/Los_Angeles:20260916T183000
DTEND;TZID=America/Los_Angeles:20260916T210000
STATUS:CONFIRMED
SUMMARY:PICNIC DUCKS vs DELLA PIPA
URL:/League/Schedule/3013
DESCRIPTION:Regular Season match: PICNIC DUCKS vs DELLA PIPA
LOCATION:Martinez Court 11
END:VEVENT
END:VCALENDAR
