BEGIN:VCALENDAR
VERSION:2.0
PRODID:-//Clayton Bocce League
METHOD:PUBLISH
BEGIN:VTIMEZONE
TZID:America/Los_Angeles
X-LIC-LOCATION:America/Los_Angeles
BEGIN:DAYLIGHT
TZOFFSETFROM:-0800
TZOFFSETTO:-0700
TZNAME:PDT
DTSTART:20070311T020000
RRULE:FREQ=YEARLY;BYMONTH=3;BYDAY=2SU
END:DAYLIGHT
BEGIN:STANDARD
TZOFFSETFROM:-0700
TZOFFSETTO:-0800
TZNAME:PST
DTSTART:20071104T020000
RRULE:FREQ=YEARLY;BYMONTH=11;BYDAY=1SU
END:STANDARD
END:VTIMEZONE
BEGIN:VEVENT
DTSTAMP:20260419T000000Z
UID:e9e369ec-da06-41e8-8bea-a2a37912ce26@ClaytonBocce
DTSTART;TZID=America/Los_Angeles:20260422T183000
DTEND;TZID=America/Los_Angeles:20260422T210000
STATUS:CONFIRMED
SUMMARY:BOCCE INC. vs PICNIC DUCKS
URL:/League/Schedule/3008
DESCRIPTION:Regular Season match: BOCCE INC. vs PICNIC DUCKS
LOCATION:Martinez Court 1
END:VEVENT
BEGIN:VEVENT
DTSTAMP:20260419T000000Z
UID:a88c8324-2d52-429d-a07e-373497a8bf88@ClaytonBocce
DTSTART;TZID=America/Los_Angeles:20260429T183000
DTEND;TZID=America/Los_Angeles:20260429T210000
STATUS:CONFIRMED
SUMMARY:BOCCE INC. vs LA MACCHINA
URL:/League/Schedule/3008
DESCRIPTION:Regular Season match: BOCCE INC. vs LA MACCHINA
LOCATION:Martinez Court 6
END:VEVENT
BEGIN:VEVENT
DTSTAMP:20260419T000000Z
UID:bafb574d-4885-42f8-867e-4f6de11b7991@ClaytonBocce
DTSTART;TZID=America/Los_Angeles:20260506T183000
DTEND;TZID=America/Los_Angeles:20260506T210000
STATUS:CONFIRMED
SUMMARY:BOCCE INC. vs RED HOOK RED DEVILS
URL:/League/Schedule/3008
DESCRIPTION:Regular Season match: BOCCE INC. vs RED HOOK RED
  DEVILS
LOCATION:Martinez Court 11
END:VEVENT
BEGIN:VEVENT
DTSTAMP:20260419T000000Z
UID:23aa9fb2-2838-45c9-b747-de519d2f858f@ClaytonBocce
DTSTART;TZID=America/Los_Angeles:20260513T183000
DTEND;TZID=America/Los_Angeles:20260513T210000
STATUS:CONFIRMED
SUMMARY:BOCCE INC. vs DELLA PIPA
URL:/League/Schedule/3008
DESCRIPTION:Regular Season match: BOCCE INC. vs DELLA PIPA
LOCATION:Martinez Court 15
END:VEVENT
BEGIN:VEVENT
DTSTAMP:20260419T000000Z
UID:5f916dd7-dfb7-4a26-beda-7d3f0d7ca60e@ClaytonBocce
DTSTART;TZID=America/Los_Angeles:20260520T183000
DTEND;TZID=America/Los_Angeles:20260520T210000
STATUS:CONFIRMED
SUMMARY:BOCCE INC. vs MAINLY GREEKS
URL:/League/Schedule/3008
DESCRIPTION:Regular Season match: BOCCE INC. vs MAINLY GREEK
 S
LOCATION:Martinez Court 3
END:VEVENT
BEGIN:VEVENT
DTSTAMP:20260419T000000Z
UID:57f61cde-0e5d-44a5-9d2f-eec7bf064a7e@ClaytonBocce
DTSTART;TZID=America/Los_Angeles:20260527T183000
DTEND;TZID=America/Los_Angeles:20260527T210000
STATUS:CONFIRMED
SUMMARY:BOCCE INC. vs CROCKETT ROCKETS
URL:/League/Schedule/3008
DESCRIPTION:Regular Season match: BOCCE INC. vs CROCKETT ROC
 KETS
LOCATION:Martinez Court 4
END:VEVENT
BEGIN:VEVENT
DTSTAMP:20260419T000000Z
UID:e114bd0b-3fd5-46ed-b2f3-8b30f5c0cb57@ClaytonBocce
DTSTART;TZID=America/Los_Angeles:20260610T183000
DTEND;TZID=America/Los_Angeles:20260610T210000
STATUS:CONFIRMED
SUMMARY:BOCCE INC. vs PICNIC DUCKS
URL:/League/Schedule/3008
DESCRIPTION:Regular Season match: BOCCE INC. vs PICNIC DUCKS
LOCATION:Martinez Court 2
END:VEVENT
BEGIN:VEVENT
DTSTAMP:20260419T000000Z
UID:c82388f8-fba5-42ca-b697-68cd056a9d4d@ClaytonBocce
DTSTART;TZID=America/Los_Angeles:20260617T183000
DTEND;TZID=America/Los_Angeles:20260617T210000
STATUS:CONFIRMED
SUMMARY:BOCCE INC. vs LA MACCHINA
URL:/League/Schedule/3008
DESCRIPTION:Regular Season match: BOCCE INC. vs LA MACCHINA
LOCATION:Martinez Court 10
END:VEVENT
BEGIN:VEVENT
DTSTAMP:20260419T000000Z
UID:e33a9949-9688-4252-85b4-0accaa75b884@ClaytonBocce
DTSTART;TZID=America/Los_Angeles:20260624T183000
DTEND;TZID=America/Los_Angeles:20260624T210000
STATUS:CONFIRMED
SUMMARY:BOCCE INC. vs RED HOOK RED DEVILS
URL:/League/Schedule/3008
DESCRIPTION:Regular Season match: BOCCE INC. vs RED HOOK RED
  DEVILS
LOCATION:Martinez Court 13
END:VEVENT
BEGIN:VEVENT
DTSTAMP:20260419T000000Z
UID:5f854d97-43c1-4cd4-9b24-13f953c57736@ClaytonBocce
DTSTART;TZID=America/Los_Angeles:20260708T183000
DTEND;TZID=America/Los_Angeles:20260708T210000
STATUS:CONFIRMED
SUMMARY:BOCCE INC. vs DELLA PIPA
URL:/League/Schedule/3008
DESCRIPTION:Regular Season match: BOCCE INC. vs DELLA PIPA
LOCATION:Martinez Court 8
END:VEVENT
BEGIN:VEVENT
DTSTAMP:20260419T000000Z
UID:80a15e9e-7d44-4d3d-9def-4aee22fdbf2c@ClaytonBocce
DTSTART;TZID=America/Los_Angeles:20260715T183000
DTEND;TZID=America/Los_Angeles:20260715T210000
STATUS:CONFIRMED
SUMMARY:BOCCE INC. vs MAINLY GREEKS
URL:/League/Schedule/3008
DESCRIPTION:Regular Season match: BOCCE INC. vs MAINLY GREEK
 S
LOCATION:Martinez Court 5
END:VEVENT
BEGIN:VEVENT
DTSTAMP:20260419T000000Z
UID:a185443c-8729-4562-b544-350c28687f81@ClaytonBocce
DTSTART;TZID=America/Los_Angeles:20260722T183000
DTEND;TZID=America/Los_Angeles:20260722T210000
STATUS:CONFIRMED
SUMMARY:BOCCE INC. vs CROCKETT ROCKETS
URL:/League/Schedule/3008
DESCRIPTION:Regular Season match: BOCCE INC. vs CROCKETT ROC
 KETS
LOCATION:Martinez Court 7
END:VEVENT
BEGIN:VEVENT
DTSTAMP:20260419T000000Z
UID:e97048f6-00a3-4f50-85eb-8bf49cc8d56a@ClaytonBocce
DTSTART;TZID=America/Los_Angeles:20260805T183000
DTEND;TZID=America/Los_Angeles:20260805T210000
STATUS:CONFIRMED
SUMMARY:BOCCE INC. vs PICNIC DUCKS
URL:/League/Schedule/3008
DESCRIPTION:Regular Season match: BOCCE INC. vs PICNIC DUCKS
LOCATION:Martinez Court 9
END:VEVENT
BEGIN:VEVENT
DTSTAMP:20260419T000000Z
UID:49a6d15a-95ba-4a82-b530-ef14ad401600@ClaytonBocce
DTSTART;TZID=America/Los_Angeles:20260812T183000
DTEND;TZID=America/Los_Angeles:20260812T210000
STATUS:CONFIRMED
SUMMARY:BOCCE INC. vs LA MACCHINA
URL:/League/Schedule/3008
DESCRIPTION:Regular Season match: BOCCE INC. vs LA MACCHINA
LOCATION:Martinez Court 3
END:VEVENT
BEGIN:VEVENT
DTSTAMP:20260419T000000Z
UID:99b94163-c662-4daf-8b42-18283eb64e29@ClaytonBocce
DTSTART;TZID=America/Los_Angeles:20260819T183000
DTEND;TZID=America/Los_Angeles:20260819T210000
STATUS:CONFIRMED
SUMMARY:BOCCE INC. vs RED HOOK RED DEVILS
URL:/League/Schedule/3008
DESCRIPTION:Regular Season match: BOCCE INC. vs RED HOOK RED
  DEVILS
LOCATION:Martinez Court 14
END:VEVENT
BEGIN:VEVENT
DTSTAMP:20260419T000000Z
UID:5814a87f-920a-4c04-ab6c-c5c40cc13c23@ClaytonBocce
DTSTART;TZID=America/Los_Angeles:20260826T183000
DTEND;TZID=America/Los_Angeles:20260826T210000
STATUS:CONFIRMED
SUMMARY:BOCCE INC. vs DELLA PIPA
URL:/League/Schedule/3008
DESCRIPTION:Regular Season match: BOCCE INC. vs DELLA PIPA
LOCATION:Martinez Court 12
END:VEVENT
BEGIN:VEVENT
DTSTAMP:20260419T000000Z
UID:3b1dc68a-b7ef-4b0b-a957-7f335c2947cd@ClaytonBocce
DTSTART;TZID=America/Los_Angeles:20260902T183000
DTEND;TZID=America/Los_Angeles:20260902T210000
STATUS:CONFIRMED
SUMMARY:BOCCE INC. vs MAINLY GREEKS
URL:/League/Schedule/3008
DESCRIPTION:Regular Season match: BOCCE INC. vs MAINLY GREEK
 S
LOCATION:Martinez Court 11
END:VEVENT
BEGIN:VEVENT
DTSTAMP:20260419T000000Z
UID:de2f05e6-24f5-4368-8bde-0d1ffbdeab7b@ClaytonBocce
DTSTART;TZID=America/Los_Angeles:20260909T183000
DTEND;TZID=America/Los_Angeles:20260909T210000
STATUS:CONFIRMED
SUMMARY:BOCCE INC. vs CROCKETT ROCKETS
URL:/League/Schedule/3008
DESCRIPTION:Regular Season match: BOCCE INC. vs CROCKETT ROC
 KETS
LOCATION:Martinez Court 2
END:VEVENT
END:VCALENDAR
