BEGIN:VCALENDAR
VERSION:2.0
PRODID:-//Clayton Bocce League
METHOD:PUBLISH
BEGIN:VTIMEZONE
TZID:America/Los_Angeles
X-LIC-LOCATION:America/Los_Angeles
BEGIN:DAYLIGHT
TZOFFSETFROM:-0800
TZOFFSETTO:-0700
TZNAME:PDT
DTSTART:20070311T020000
RRULE:FREQ=YEARLY;BYMONTH=3;BYDAY=2SU
END:DAYLIGHT
BEGIN:STANDARD
TZOFFSETFROM:-0700
TZOFFSETTO:-0800
TZNAME:PST
DTSTART:20071104T020000
RRULE:FREQ=YEARLY;BYMONTH=11;BYDAY=1SU
END:STANDARD
END:VTIMEZONE
BEGIN:VEVENT
DTSTAMP:20260419T000000Z
UID:00356630-a235-4ef1-86ac-32595b2534e6@ClaytonBocce
DTSTART;TZID=America/Los_Angeles:20260428T183000
DTEND;TZID=America/Los_Angeles:20260428T210000
STATUS:CONFIRMED
SUMMARY:SHOOT IT vs STOCKINGER SURVEYS
URL:/League/Schedule/3007
DESCRIPTION:Regular Season match: SHOOT IT vs STOCKINGER SUR
 VEYS
LOCATION:Martinez Court 5
END:VEVENT
BEGIN:VEVENT
DTSTAMP:20260419T000000Z
UID:7bdc0fbd-c09c-4566-9dfd-979bd4462b1a@ClaytonBocce
DTSTART;TZID=America/Los_Angeles:20260505T183000
DTEND;TZID=America/Los_Angeles:20260505T210000
STATUS:CONFIRMED
SUMMARY:SHOOT IT vs ROGER THAT!
URL:/League/Schedule/3007
DESCRIPTION:Regular Season match: SHOOT IT vs ROGER THAT!
LOCATION:Martinez Court 10
END:VEVENT
BEGIN:VEVENT
DTSTAMP:20260419T000000Z
UID:1e44e352-d068-4077-b186-6bd113cfa246@ClaytonBocce
DTSTART;TZID=America/Los_Angeles:20260512T183000
DTEND;TZID=America/Los_Angeles:20260512T210000
STATUS:CONFIRMED
SUMMARY:SHOOT IT vs ROLLIN FATTIES
URL:/League/Schedule/3007
DESCRIPTION:Regular Season match: SHOOT IT vs ROLLIN FATTIES
LOCATION:Martinez Court 13
END:VEVENT
BEGIN:VEVENT
DTSTAMP:20260419T000000Z
UID:76ce3c23-884a-4f0b-88ef-f560e470b325@ClaytonBocce
DTSTART;TZID=America/Los_Angeles:20260519T183000
DTEND;TZID=America/Los_Angeles:20260519T210000
STATUS:CONFIRMED
SUMMARY:SHOOT IT vs ROCK n ROLLERS
URL:/League/Schedule/3007
DESCRIPTION:Regular Season match: SHOOT IT vs ROCK n ROLLERS
LOCATION:Martinez Court 2
END:VEVENT
BEGIN:VEVENT
DTSTAMP:20260419T000000Z
UID:95f0796a-4baf-4c40-965f-9efa95f4b905@ClaytonBocce
DTSTART;TZID=America/Los_Angeles:20260526T183000
DTEND;TZID=America/Los_Angeles:20260526T210000
STATUS:CONFIRMED
SUMMARY:SHOOT IT vs THE OTHER TEAM
URL:/League/Schedule/3007
DESCRIPTION:Regular Season match: SHOOT IT vs THE OTHER TEAM
LOCATION:Martinez Court 1
END:VEVENT
BEGIN:VEVENT
DTSTAMP:20260419T000000Z
UID:f946afa6-6c33-4210-942c-e95e7fea62b6@ClaytonBocce
DTSTART;TZID=America/Los_Angeles:20260602T183000
DTEND;TZID=America/Los_Angeles:20260602T210000
STATUS:CONFIRMED
SUMMARY:SHOOT IT vs HERE FOR THE PARTY
URL:/League/Schedule/3007
DESCRIPTION:Regular Season match: SHOOT IT vs HERE FOR THE P
 ARTY
LOCATION:Martinez Court 8
END:VEVENT
BEGIN:VEVENT
DTSTAMP:20260419T000000Z
UID:a98e791e-d48c-4553-a3a0-c70db8aac2f8@ClaytonBocce
DTSTART;TZID=America/Los_Angeles:20260616T183000
DTEND;TZID=America/Los_Angeles:20260616T210000
STATUS:CONFIRMED
SUMMARY:SHOOT IT vs STOCKINGER SURVEYS
URL:/League/Schedule/3007
DESCRIPTION:Regular Season match: SHOOT IT vs STOCKINGER SUR
 VEYS
LOCATION:Martinez Court 9
END:VEVENT
BEGIN:VEVENT
DTSTAMP:20260419T000000Z
UID:856d440d-3a2a-407c-9782-8e4fb801cbfc@ClaytonBocce
DTSTART;TZID=America/Los_Angeles:20260623T183000
DTEND;TZID=America/Los_Angeles:20260623T210000
STATUS:CONFIRMED
SUMMARY:SHOOT IT vs ROGER THAT!
URL:/League/Schedule/3007
DESCRIPTION:Regular Season match: SHOOT IT vs ROGER THAT!
LOCATION:Martinez Court 3
END:VEVENT
BEGIN:VEVENT
DTSTAMP:20260419T000000Z
UID:bf0710d7-5b97-4062-8f45-ca2a78e327d2@ClaytonBocce
DTSTART;TZID=America/Los_Angeles:20260630T183000
DTEND;TZID=America/Los_Angeles:20260630T210000
STATUS:CONFIRMED
SUMMARY:SHOOT IT vs ROLLIN FATTIES
URL:/League/Schedule/3007
DESCRIPTION:Regular Season match: SHOOT IT vs ROLLIN FATTIES
LOCATION:Martinez Court 6
END:VEVENT
BEGIN:VEVENT
DTSTAMP:20260419T000000Z
UID:0ef11a23-6e53-4bfc-9823-e35496fda489@ClaytonBocce
DTSTART;TZID=America/Los_Angeles:20260714T183000
DTEND;TZID=America/Los_Angeles:20260714T210000
STATUS:CONFIRMED
SUMMARY:SHOOT IT vs ROCK n ROLLERS
URL:/League/Schedule/3007
DESCRIPTION:Regular Season match: SHOOT IT vs ROCK n ROLLERS
LOCATION:Martinez Court 7
END:VEVENT
BEGIN:VEVENT
DTSTAMP:20260419T000000Z
UID:d6c427cc-f91e-451f-9c3b-bdaf1b35f8d4@ClaytonBocce
DTSTART;TZID=America/Los_Angeles:20260721T183000
DTEND;TZID=America/Los_Angeles:20260721T210000
STATUS:CONFIRMED
SUMMARY:SHOOT IT vs THE OTHER TEAM
URL:/League/Schedule/3007
DESCRIPTION:Regular Season match: SHOOT IT vs THE OTHER TEAM
LOCATION:Martinez Court 4
END:VEVENT
BEGIN:VEVENT
DTSTAMP:20260419T000000Z
UID:39fde524-0a49-43cd-b36b-2cfde7b6aae4@ClaytonBocce
DTSTART;TZID=America/Los_Angeles:20260728T183000
DTEND;TZID=America/Los_Angeles:20260728T210000
STATUS:CONFIRMED
SUMMARY:SHOOT IT vs HERE FOR THE PARTY
URL:/League/Schedule/3007
DESCRIPTION:Regular Season match: SHOOT IT vs HERE FOR THE P
 ARTY
LOCATION:Martinez Court 11
END:VEVENT
BEGIN:VEVENT
DTSTAMP:20260419T000000Z
UID:8d2a724e-c3ee-4e2a-b8c4-5145a3f60c5c@ClaytonBocce
DTSTART;TZID=America/Los_Angeles:20260818T183000
DTEND;TZID=America/Los_Angeles:20260818T210000
STATUS:CONFIRMED
SUMMARY:SHOOT IT vs STOCKINGER SURVEYS
URL:/League/Schedule/3007
DESCRIPTION:Regular Season match: SHOOT IT vs STOCKINGER SUR
 VEYS
LOCATION:Martinez Court 14
END:VEVENT
BEGIN:VEVENT
DTSTAMP:20260419T000000Z
UID:5891e8c1-d723-4a33-8fb1-051c5fc79436@ClaytonBocce
DTSTART;TZID=America/Los_Angeles:20260825T183000
DTEND;TZID=America/Los_Angeles:20260825T210000
STATUS:CONFIRMED
SUMMARY:SHOOT IT vs ROGER THAT!
URL:/League/Schedule/3007
DESCRIPTION:Regular Season match: SHOOT IT vs ROGER THAT!
LOCATION:Martinez Court 8
END:VEVENT
BEGIN:VEVENT
DTSTAMP:20260419T000000Z
UID:15cc834e-412b-4ba7-87db-d41b82ae57a6@ClaytonBocce
DTSTART;TZID=America/Los_Angeles:20260901T183000
DTEND;TZID=America/Los_Angeles:20260901T210000
STATUS:CONFIRMED
SUMMARY:SHOOT IT vs ROLLIN FATTIES
URL:/League/Schedule/3007
DESCRIPTION:Regular Season match: SHOOT IT vs ROLLIN FATTIES
LOCATION:Martinez Court 4
END:VEVENT
BEGIN:VEVENT
DTSTAMP:20260419T000000Z
UID:1c423ca9-764a-4b0c-8815-1b3b6b31e122@ClaytonBocce
DTSTART;TZID=America/Los_Angeles:20260908T183000
DTEND;TZID=America/Los_Angeles:20260908T210000
STATUS:CONFIRMED
SUMMARY:SHOOT IT vs ROCK n ROLLERS
URL:/League/Schedule/3007
DESCRIPTION:Regular Season match: SHOOT IT vs ROCK n ROLLERS
LOCATION:Martinez Court 15
END:VEVENT
BEGIN:VEVENT
DTSTAMP:20260419T000000Z
UID:1d4bc2e2-c0b8-4271-b7e9-bf639032c4ab@ClaytonBocce
DTSTART;TZID=America/Los_Angeles:20260915T183000
DTEND;TZID=America/Los_Angeles:20260915T210000
STATUS:CONFIRMED
SUMMARY:SHOOT IT vs THE OTHER TEAM
URL:/League/Schedule/3007
DESCRIPTION:Regular Season match: SHOOT IT vs THE OTHER TEAM
LOCATION:Martinez Court 12
END:VEVENT
BEGIN:VEVENT
DTSTAMP:20260419T000000Z
UID:23148ef8-9761-4861-bb79-1fbced749c2c@ClaytonBocce
DTSTART;TZID=America/Los_Angeles:20260922T183000
DTEND;TZID=America/Los_Angeles:20260922T210000
STATUS:CONFIRMED
SUMMARY:SHOOT IT vs HERE FOR THE PARTY
URL:/League/Schedule/3007
DESCRIPTION:Regular Season match: SHOOT IT vs HERE FOR THE P
 ARTY
LOCATION:Martinez Court 2
END:VEVENT
END:VCALENDAR
