BEGIN:VCALENDAR
VERSION:2.0
PRODID:-//Clayton Bocce League
METHOD:PUBLISH
BEGIN:VTIMEZONE
TZID:America/Los_Angeles
X-LIC-LOCATION:America/Los_Angeles
BEGIN:DAYLIGHT
TZOFFSETFROM:-0800
TZOFFSETTO:-0700
TZNAME:PDT
DTSTART:20070311T020000
RRULE:FREQ=YEARLY;BYMONTH=3;BYDAY=2SU
END:DAYLIGHT
BEGIN:STANDARD
TZOFFSETFROM:-0700
TZOFFSETTO:-0800
TZNAME:PST
DTSTART:20071104T020000
RRULE:FREQ=YEARLY;BYMONTH=11;BYDAY=1SU
END:STANDARD
END:VTIMEZONE
BEGIN:VEVENT
DTSTAMP:20260419T000000Z
UID:df25bb3a-efaf-43d2-b341-167e7c1d3930@ClaytonBocce
DTSTART;TZID=America/Los_Angeles:20260421T183000
DTEND;TZID=America/Los_Angeles:20260421T210000
STATUS:CONFIRMED
SUMMARY:ROLLIN FATTIES vs HERE FOR THE PARTY
URL:/League/Schedule/3002
DESCRIPTION:Regular Season match: ROLLIN FATTIES vs HERE FOR
  THE PARTY
LOCATION:Martinez Court 14
END:VEVENT
BEGIN:VEVENT
DTSTAMP:20260419T000000Z
UID:b6a8c058-0704-4721-991d-8c9a266cd2e7@ClaytonBocce
DTSTART;TZID=America/Los_Angeles:20260428T183000
DTEND;TZID=America/Los_Angeles:20260428T210000
STATUS:CONFIRMED
SUMMARY:ROLLIN FATTIES vs ROGER THAT!
URL:/League/Schedule/3002
DESCRIPTION:Regular Season match: ROLLIN FATTIES vs ROGER TH
 AT!
LOCATION:Martinez Court 4
END:VEVENT
BEGIN:VEVENT
DTSTAMP:20260419T000000Z
UID:68dd3934-5854-4573-855f-c52469ac4587@ClaytonBocce
DTSTART;TZID=America/Los_Angeles:20260505T183000
DTEND;TZID=America/Los_Angeles:20260505T210000
STATUS:CONFIRMED
SUMMARY:ROLLIN FATTIES vs ROCK n ROLLERS
URL:/League/Schedule/3002
DESCRIPTION:Regular Season match: ROLLIN FATTIES vs ROCK n R
 OLLERS
LOCATION:Martinez Court 9
END:VEVENT
BEGIN:VEVENT
DTSTAMP:20260419T000000Z
UID:1e44e352-d068-4077-b186-6bd113cfa246@ClaytonBocce
DTSTART;TZID=America/Los_Angeles:20260512T183000
DTEND;TZID=America/Los_Angeles:20260512T210000
STATUS:CONFIRMED
SUMMARY:ROLLIN FATTIES vs SHOOT IT
URL:/League/Schedule/3002
DESCRIPTION:Regular Season match: ROLLIN FATTIES vs SHOOT IT
LOCATION:Martinez Court 13
END:VEVENT
BEGIN:VEVENT
DTSTAMP:20260419T000000Z
UID:8a91f390-decc-482a-8c3d-0bd8578219ca@ClaytonBocce
DTSTART;TZID=America/Los_Angeles:20260519T183000
DTEND;TZID=America/Los_Angeles:20260519T210000
STATUS:CONFIRMED
SUMMARY:ROLLIN FATTIES vs THE OTHER TEAM
URL:/League/Schedule/3002
DESCRIPTION:Regular Season match: ROLLIN FATTIES vs THE OTHE
 R TEAM
LOCATION:Martinez Court 15
END:VEVENT
BEGIN:VEVENT
DTSTAMP:20260419T000000Z
UID:4fe28ebf-a1e1-4ced-b49f-bd1d817e8f8a@ClaytonBocce
DTSTART;TZID=America/Los_Angeles:20260602T183000
DTEND;TZID=America/Los_Angeles:20260602T210000
STATUS:CONFIRMED
SUMMARY:ROLLIN FATTIES vs STOCKINGER SURVEYS
URL:/League/Schedule/3002
DESCRIPTION:Regular Season match: ROLLIN FATTIES vs STOCKING
 ER SURVEYS
LOCATION:Martinez Court 7
END:VEVENT
BEGIN:VEVENT
DTSTAMP:20260419T000000Z
UID:7d4da3e4-eafc-4242-8390-2d1b38ee2b75@ClaytonBocce
DTSTART;TZID=America/Los_Angeles:20260609T183000
DTEND;TZID=America/Los_Angeles:20260609T210000
STATUS:CONFIRMED
SUMMARY:ROLLIN FATTIES vs HERE FOR THE PARTY
URL:/League/Schedule/3002
DESCRIPTION:Regular Season match: ROLLIN FATTIES vs HERE FOR
  THE PARTY
LOCATION:Martinez Court 15
END:VEVENT
BEGIN:VEVENT
DTSTAMP:20260419T000000Z
UID:fe2f0596-7e2b-4a47-b570-858295be50f6@ClaytonBocce
DTSTART;TZID=America/Los_Angeles:20260616T183000
DTEND;TZID=America/Los_Angeles:20260616T210000
STATUS:CONFIRMED
SUMMARY:ROLLIN FATTIES vs ROGER THAT!
URL:/League/Schedule/3002
DESCRIPTION:Regular Season match: ROLLIN FATTIES vs ROGER TH
 AT!
LOCATION:Martinez Court 8
END:VEVENT
BEGIN:VEVENT
DTSTAMP:20260419T000000Z
UID:5bc6f72c-c69a-4e40-a495-7b722e88c4c2@ClaytonBocce
DTSTART;TZID=America/Los_Angeles:20260623T183000
DTEND;TZID=America/Los_Angeles:20260623T210000
STATUS:CONFIRMED
SUMMARY:ROLLIN FATTIES vs ROCK n ROLLERS
URL:/League/Schedule/3002
DESCRIPTION:Regular Season match: ROLLIN FATTIES vs ROCK n R
 OLLERS
LOCATION:Martinez Court 1
END:VEVENT
BEGIN:VEVENT
DTSTAMP:20260419T000000Z
UID:bf0710d7-5b97-4062-8f45-ca2a78e327d2@ClaytonBocce
DTSTART;TZID=America/Los_Angeles:20260630T183000
DTEND;TZID=America/Los_Angeles:20260630T210000
STATUS:CONFIRMED
SUMMARY:ROLLIN FATTIES vs SHOOT IT
URL:/League/Schedule/3002
DESCRIPTION:Regular Season match: ROLLIN FATTIES vs SHOOT IT
LOCATION:Martinez Court 6
END:VEVENT
BEGIN:VEVENT
DTSTAMP:20260419T000000Z
UID:c720d8dd-03da-4174-9ee5-3430955349ab@ClaytonBocce
DTSTART;TZID=America/Los_Angeles:20260714T183000
DTEND;TZID=America/Los_Angeles:20260714T210000
STATUS:CONFIRMED
SUMMARY:ROLLIN FATTIES vs THE OTHER TEAM
URL:/League/Schedule/3002
DESCRIPTION:Regular Season match: ROLLIN FATTIES vs THE OTHE
 R TEAM
LOCATION:Martinez Court 2
END:VEVENT
BEGIN:VEVENT
DTSTAMP:20260419T000000Z
UID:165cd6cf-d1ca-40a7-886e-2cb5c0b51006@ClaytonBocce
DTSTART;TZID=America/Los_Angeles:20260728T183000
DTEND;TZID=America/Los_Angeles:20260728T210000
STATUS:CONFIRMED
SUMMARY:ROLLIN FATTIES vs STOCKINGER SURVEYS
URL:/League/Schedule/3002
DESCRIPTION:Regular Season match: ROLLIN FATTIES vs STOCKING
 ER SURVEYS
LOCATION:Martinez Court 10
END:VEVENT
BEGIN:VEVENT
DTSTAMP:20260419T000000Z
UID:53007ed4-8d35-41bb-b436-ddd1286182bc@ClaytonBocce
DTSTART;TZID=America/Los_Angeles:20260811T183000
DTEND;TZID=America/Los_Angeles:20260811T210000
STATUS:CONFIRMED
SUMMARY:ROLLIN FATTIES vs HERE FOR THE PARTY
URL:/League/Schedule/3002
DESCRIPTION:Regular Season match: ROLLIN FATTIES vs HERE FOR
  THE PARTY
LOCATION:Martinez Court 5
END:VEVENT
BEGIN:VEVENT
DTSTAMP:20260419T000000Z
UID:29b1010a-21be-41e7-8ec0-6ef73eb83d8b@ClaytonBocce
DTSTART;TZID=America/Los_Angeles:20260818T183000
DTEND;TZID=America/Los_Angeles:20260818T210000
STATUS:CONFIRMED
SUMMARY:ROLLIN FATTIES vs ROGER THAT!
URL:/League/Schedule/3002
DESCRIPTION:Regular Season match: ROLLIN FATTIES vs ROGER TH
 AT!
LOCATION:Martinez Court 11
END:VEVENT
BEGIN:VEVENT
DTSTAMP:20260419T000000Z
UID:9a12e92f-62ed-4ec9-9911-0a941311a668@ClaytonBocce
DTSTART;TZID=America/Los_Angeles:20260825T183000
DTEND;TZID=America/Los_Angeles:20260825T210000
STATUS:CONFIRMED
SUMMARY:ROLLIN FATTIES vs ROCK n ROLLERS
URL:/League/Schedule/3002
DESCRIPTION:Regular Season match: ROLLIN FATTIES vs ROCK n R
 OLLERS
LOCATION:Martinez Court 1
END:VEVENT
BEGIN:VEVENT
DTSTAMP:20260419T000000Z
UID:15cc834e-412b-4ba7-87db-d41b82ae57a6@ClaytonBocce
DTSTART;TZID=America/Los_Angeles:20260901T183000
DTEND;TZID=America/Los_Angeles:20260901T210000
STATUS:CONFIRMED
SUMMARY:ROLLIN FATTIES vs SHOOT IT
URL:/League/Schedule/3002
DESCRIPTION:Regular Season match: ROLLIN FATTIES vs SHOOT IT
LOCATION:Martinez Court 4
END:VEVENT
BEGIN:VEVENT
DTSTAMP:20260419T000000Z
UID:e412e7bc-de3f-478c-910c-31a97fd9f7fe@ClaytonBocce
DTSTART;TZID=America/Los_Angeles:20260908T183000
DTEND;TZID=America/Los_Angeles:20260908T210000
STATUS:CONFIRMED
SUMMARY:ROLLIN FATTIES vs THE OTHER TEAM
URL:/League/Schedule/3002
DESCRIPTION:Regular Season match: ROLLIN FATTIES vs THE OTHE
 R TEAM
LOCATION:Martinez Court 9
END:VEVENT
BEGIN:VEVENT
DTSTAMP:20260419T000000Z
UID:910d661f-8673-4eeb-b178-b4ec7163fc5b@ClaytonBocce
DTSTART;TZID=America/Los_Angeles:20260922T183000
DTEND;TZID=America/Los_Angeles:20260922T210000
STATUS:CONFIRMED
SUMMARY:ROLLIN FATTIES vs STOCKINGER SURVEYS
URL:/League/Schedule/3002
DESCRIPTION:Regular Season match: ROLLIN FATTIES vs STOCKING
 ER SURVEYS
LOCATION:Martinez Court 12
END:VEVENT
END:VCALENDAR
