BEGIN:VCALENDAR
VERSION:2.0
PRODID:-//Clayton Bocce League
METHOD:PUBLISH
BEGIN:VTIMEZONE
TZID:America/Los_Angeles
X-LIC-LOCATION:America/Los_Angeles
BEGIN:DAYLIGHT
TZOFFSETFROM:-0800
TZOFFSETTO:-0700
TZNAME:PDT
DTSTART:20070311T020000
RRULE:FREQ=YEARLY;BYMONTH=3;BYDAY=2SU
END:DAYLIGHT
BEGIN:STANDARD
TZOFFSETFROM:-0700
TZOFFSETTO:-0800
TZNAME:PST
DTSTART:20071104T020000
RRULE:FREQ=YEARLY;BYMONTH=11;BYDAY=1SU
END:STANDARD
END:VTIMEZONE
BEGIN:VEVENT
DTSTAMP:20260419T000000Z
UID:df25bb3a-efaf-43d2-b341-167e7c1d3930@ClaytonBocce
DTSTART;TZID=America/Los_Angeles:20260421T183000
DTEND;TZID=America/Los_Angeles:20260421T210000
STATUS:CONFIRMED
SUMMARY:HERE FOR THE PARTY vs ROLLIN FATTIES
URL:/League/Schedule/3005
DESCRIPTION:Regular Season match: HERE FOR THE PARTY vs ROLL
 IN FATTIES
LOCATION:Martinez Court 14
END:VEVENT
BEGIN:VEVENT
DTSTAMP:20260419T000000Z
UID:e4f31ba0-da91-4916-a71b-1b1af824908e@ClaytonBocce
DTSTART;TZID=America/Los_Angeles:20260428T183000
DTEND;TZID=America/Los_Angeles:20260428T210000
STATUS:CONFIRMED
SUMMARY:HERE FOR THE PARTY vs THE OTHER TEAM
URL:/League/Schedule/3005
DESCRIPTION:Regular Season match: HERE FOR THE PARTY vs THE 
 OTHER TEAM
LOCATION:Martinez Court 3
END:VEVENT
BEGIN:VEVENT
DTSTAMP:20260419T000000Z
UID:d7208f40-45fe-4fbb-bca9-2d0b27645fca@ClaytonBocce
DTSTART;TZID=America/Los_Angeles:20260512T183000
DTEND;TZID=America/Los_Angeles:20260512T210000
STATUS:CONFIRMED
SUMMARY:HERE FOR THE PARTY vs ROCK n ROLLERS
URL:/League/Schedule/3005
DESCRIPTION:Regular Season match: HERE FOR THE PARTY vs ROCK
  n ROLLERS
LOCATION:Martinez Court 11
END:VEVENT
BEGIN:VEVENT
DTSTAMP:20260419T000000Z
UID:33c60acc-3a13-4c48-8fcc-4320728aa9b3@ClaytonBocce
DTSTART;TZID=America/Los_Angeles:20260519T183000
DTEND;TZID=America/Los_Angeles:20260519T210000
STATUS:CONFIRMED
SUMMARY:HERE FOR THE PARTY vs STOCKINGER SURVEYS
URL:/League/Schedule/3005
DESCRIPTION:Regular Season match: HERE FOR THE PARTY vs STOC
 KINGER SURVEYS
LOCATION:Martinez Court 1
END:VEVENT
BEGIN:VEVENT
DTSTAMP:20260419T000000Z
UID:f8388aab-e64d-4bff-b10e-5850c16eaebe@ClaytonBocce
DTSTART;TZID=America/Los_Angeles:20260526T183000
DTEND;TZID=America/Los_Angeles:20260526T210000
STATUS:CONFIRMED
SUMMARY:HERE FOR THE PARTY vs ROGER THAT!
URL:/League/Schedule/3005
DESCRIPTION:Regular Season match: HERE FOR THE PARTY vs ROGE
 R THAT!
LOCATION:Martinez Court 2
END:VEVENT
BEGIN:VEVENT
DTSTAMP:20260419T000000Z
UID:f946afa6-6c33-4210-942c-e95e7fea62b6@ClaytonBocce
DTSTART;TZID=America/Los_Angeles:20260602T183000
DTEND;TZID=America/Los_Angeles:20260602T210000
STATUS:CONFIRMED
SUMMARY:HERE FOR THE PARTY vs SHOOT IT
URL:/League/Schedule/3005
DESCRIPTION:Regular Season match: HERE FOR THE PARTY vs SHOO
 T IT
LOCATION:Martinez Court 8
END:VEVENT
BEGIN:VEVENT
DTSTAMP:20260419T000000Z
UID:7d4da3e4-eafc-4242-8390-2d1b38ee2b75@ClaytonBocce
DTSTART;TZID=America/Los_Angeles:20260609T183000
DTEND;TZID=America/Los_Angeles:20260609T210000
STATUS:CONFIRMED
SUMMARY:HERE FOR THE PARTY vs ROLLIN FATTIES
URL:/League/Schedule/3005
DESCRIPTION:Regular Season match: HERE FOR THE PARTY vs ROLL
 IN FATTIES
LOCATION:Martinez Court 15
END:VEVENT
BEGIN:VEVENT
DTSTAMP:20260419T000000Z
UID:56358cdb-a6ce-452e-a61f-10c1b3bc4f9b@ClaytonBocce
DTSTART;TZID=America/Los_Angeles:20260616T183000
DTEND;TZID=America/Los_Angeles:20260616T210000
STATUS:CONFIRMED
SUMMARY:HERE FOR THE PARTY vs THE OTHER TEAM
URL:/League/Schedule/3005
DESCRIPTION:Regular Season match: HERE FOR THE PARTY vs THE 
 OTHER TEAM
LOCATION:Martinez Court 7
END:VEVENT
BEGIN:VEVENT
DTSTAMP:20260419T000000Z
UID:34643ae8-6f56-4b79-9551-ba8ef59949ec@ClaytonBocce
DTSTART;TZID=America/Los_Angeles:20260630T183000
DTEND;TZID=America/Los_Angeles:20260630T210000
STATUS:CONFIRMED
SUMMARY:HERE FOR THE PARTY vs ROCK n ROLLERS
URL:/League/Schedule/3005
DESCRIPTION:Regular Season match: HERE FOR THE PARTY vs ROCK
  n ROLLERS
LOCATION:Martinez Court 4
END:VEVENT
BEGIN:VEVENT
DTSTAMP:20260419T000000Z
UID:1cf9dfe3-bcb6-4613-9061-b23b72e3d730@ClaytonBocce
DTSTART;TZID=America/Los_Angeles:20260714T183000
DTEND;TZID=America/Los_Angeles:20260714T210000
STATUS:CONFIRMED
SUMMARY:HERE FOR THE PARTY vs STOCKINGER SURVEYS
URL:/League/Schedule/3005
DESCRIPTION:Regular Season match: HERE FOR THE PARTY vs STOC
 KINGER SURVEYS
LOCATION:Martinez Court 6
END:VEVENT
BEGIN:VEVENT
DTSTAMP:20260419T000000Z
UID:bddaa662-0313-43e4-b75b-d464fc74fc30@ClaytonBocce
DTSTART;TZID=America/Los_Angeles:20260721T183000
DTEND;TZID=America/Los_Angeles:20260721T210000
STATUS:CONFIRMED
SUMMARY:HERE FOR THE PARTY vs ROGER THAT!
URL:/League/Schedule/3005
DESCRIPTION:Regular Season match: HERE FOR THE PARTY vs ROGE
 R THAT!
LOCATION:Martinez Court 9
END:VEVENT
BEGIN:VEVENT
DTSTAMP:20260419T000000Z
UID:39fde524-0a49-43cd-b36b-2cfde7b6aae4@ClaytonBocce
DTSTART;TZID=America/Los_Angeles:20260728T183000
DTEND;TZID=America/Los_Angeles:20260728T210000
STATUS:CONFIRMED
SUMMARY:HERE FOR THE PARTY vs SHOOT IT
URL:/League/Schedule/3005
DESCRIPTION:Regular Season match: HERE FOR THE PARTY vs SHOO
 T IT
LOCATION:Martinez Court 11
END:VEVENT
BEGIN:VEVENT
DTSTAMP:20260419T000000Z
UID:53007ed4-8d35-41bb-b436-ddd1286182bc@ClaytonBocce
DTSTART;TZID=America/Los_Angeles:20260811T183000
DTEND;TZID=America/Los_Angeles:20260811T210000
STATUS:CONFIRMED
SUMMARY:HERE FOR THE PARTY vs ROLLIN FATTIES
URL:/League/Schedule/3005
DESCRIPTION:Regular Season match: HERE FOR THE PARTY vs ROLL
 IN FATTIES
LOCATION:Martinez Court 5
END:VEVENT
BEGIN:VEVENT
DTSTAMP:20260419T000000Z
UID:1dc6d3a2-3ca5-4c2b-9bdb-d796baee11e4@ClaytonBocce
DTSTART;TZID=America/Los_Angeles:20260818T183000
DTEND;TZID=America/Los_Angeles:20260818T210000
STATUS:CONFIRMED
SUMMARY:HERE FOR THE PARTY vs THE OTHER TEAM
URL:/League/Schedule/3005
DESCRIPTION:Regular Season match: HERE FOR THE PARTY vs THE 
 OTHER TEAM
LOCATION:Martinez Court 8
END:VEVENT
BEGIN:VEVENT
DTSTAMP:20260419T000000Z
UID:4a9df128-9c22-47a7-a2a7-2aa841838382@ClaytonBocce
DTSTART;TZID=America/Los_Angeles:20260901T183000
DTEND;TZID=America/Los_Angeles:20260901T210000
STATUS:CONFIRMED
SUMMARY:HERE FOR THE PARTY vs ROCK n ROLLERS
URL:/League/Schedule/3005
DESCRIPTION:Regular Season match: HERE FOR THE PARTY vs ROCK
  n ROLLERS
LOCATION:Martinez Court 10
END:VEVENT
BEGIN:VEVENT
DTSTAMP:20260419T000000Z
UID:c708dfd5-7d14-4955-9c3f-ee79e071e1e9@ClaytonBocce
DTSTART;TZID=America/Los_Angeles:20260908T183000
DTEND;TZID=America/Los_Angeles:20260908T210000
STATUS:CONFIRMED
SUMMARY:HERE FOR THE PARTY vs STOCKINGER SURVEYS
URL:/League/Schedule/3005
DESCRIPTION:Regular Season match: HERE FOR THE PARTY vs STOC
 KINGER SURVEYS
LOCATION:Martinez Court 13
END:VEVENT
BEGIN:VEVENT
DTSTAMP:20260419T000000Z
UID:2e3204c3-d3d1-47c7-99af-af8b4fa8e181@ClaytonBocce
DTSTART;TZID=America/Los_Angeles:20260915T183000
DTEND;TZID=America/Los_Angeles:20260915T210000
STATUS:CONFIRMED
SUMMARY:HERE FOR THE PARTY vs ROGER THAT!
URL:/League/Schedule/3005
DESCRIPTION:Regular Season match: HERE FOR THE PARTY vs ROGE
 R THAT!
LOCATION:Martinez Court 14
END:VEVENT
BEGIN:VEVENT
DTSTAMP:20260419T000000Z
UID:23148ef8-9761-4861-bb79-1fbced749c2c@ClaytonBocce
DTSTART;TZID=America/Los_Angeles:20260922T183000
DTEND;TZID=America/Los_Angeles:20260922T210000
STATUS:CONFIRMED
SUMMARY:HERE FOR THE PARTY vs SHOOT IT
URL:/League/Schedule/3005
DESCRIPTION:Regular Season match: HERE FOR THE PARTY vs SHOO
 T IT
LOCATION:Martinez Court 2
END:VEVENT
END:VCALENDAR
