BEGIN:VCALENDAR
VERSION:2.0
PRODID:-//Clayton Bocce League
METHOD:PUBLISH
BEGIN:VTIMEZONE
TZID:America/Los_Angeles
X-LIC-LOCATION:America/Los_Angeles
BEGIN:DAYLIGHT
TZOFFSETFROM:-0800
TZOFFSETTO:-0700
TZNAME:PDT
DTSTART:20070311T020000
RRULE:FREQ=YEARLY;BYMONTH=3;BYDAY=2SU
END:DAYLIGHT
BEGIN:STANDARD
TZOFFSETFROM:-0700
TZOFFSETTO:-0800
TZNAME:PST
DTSTART:20071104T020000
RRULE:FREQ=YEARLY;BYMONTH=11;BYDAY=1SU
END:STANDARD
END:VTIMEZONE
BEGIN:VEVENT
DTSTAMP:20260419T000000Z
UID:1034c329-3324-4733-a91c-024c28cc1cdb@ClaytonBocce
DTSTART;TZID=America/Los_Angeles:20260421T183000
DTEND;TZID=America/Los_Angeles:20260421T210000
STATUS:CONFIRMED
SUMMARY:STOCKINGER SURVEYS vs ROGER THAT!
URL:/League/Schedule/3004
DESCRIPTION:Regular Season match: STOCKINGER SURVEYS vs ROGE
 R THAT!
LOCATION:Martinez Court 15
END:VEVENT
BEGIN:VEVENT
DTSTAMP:20260419T000000Z
UID:00356630-a235-4ef1-86ac-32595b2534e6@ClaytonBocce
DTSTART;TZID=America/Los_Angeles:20260428T183000
DTEND;TZID=America/Los_Angeles:20260428T210000
STATUS:CONFIRMED
SUMMARY:STOCKINGER SURVEYS vs SHOOT IT
URL:/League/Schedule/3004
DESCRIPTION:Regular Season match: STOCKINGER SURVEYS vs SHOO
 T IT
LOCATION:Martinez Court 5
END:VEVENT
BEGIN:VEVENT
DTSTAMP:20260419T000000Z
UID:8fd5ea80-3b70-46cb-8f70-16156b501873@ClaytonBocce
DTSTART;TZID=America/Los_Angeles:20260505T183000
DTEND;TZID=America/Los_Angeles:20260505T210000
STATUS:CONFIRMED
SUMMARY:STOCKINGER SURVEYS vs THE OTHER TEAM
URL:/League/Schedule/3004
DESCRIPTION:Regular Season match: STOCKINGER SURVEYS vs THE 
 OTHER TEAM
LOCATION:Martinez Court 8
END:VEVENT
BEGIN:VEVENT
DTSTAMP:20260419T000000Z
UID:33c60acc-3a13-4c48-8fcc-4320728aa9b3@ClaytonBocce
DTSTART;TZID=America/Los_Angeles:20260519T183000
DTEND;TZID=America/Los_Angeles:20260519T210000
STATUS:CONFIRMED
SUMMARY:STOCKINGER SURVEYS vs HERE FOR THE PARTY
URL:/League/Schedule/3004
DESCRIPTION:Regular Season match: STOCKINGER SURVEYS vs HERE
  FOR THE PARTY
LOCATION:Martinez Court 1
END:VEVENT
BEGIN:VEVENT
DTSTAMP:20260419T000000Z
UID:3cdea553-386a-40c9-aea5-97a572c0db0e@ClaytonBocce
DTSTART;TZID=America/Los_Angeles:20260526T183000
DTEND;TZID=America/Los_Angeles:20260526T210000
STATUS:CONFIRMED
SUMMARY:STOCKINGER SURVEYS vs ROCK n ROLLERS
URL:/League/Schedule/3004
DESCRIPTION:Regular Season match: STOCKINGER SURVEYS vs ROCK
  n ROLLERS
LOCATION:Martinez Court 3
END:VEVENT
BEGIN:VEVENT
DTSTAMP:20260419T000000Z
UID:4fe28ebf-a1e1-4ced-b49f-bd1d817e8f8a@ClaytonBocce
DTSTART;TZID=America/Los_Angeles:20260602T183000
DTEND;TZID=America/Los_Angeles:20260602T210000
STATUS:CONFIRMED
SUMMARY:STOCKINGER SURVEYS vs ROLLIN FATTIES
URL:/League/Schedule/3004
DESCRIPTION:Regular Season match: STOCKINGER SURVEYS vs ROLL
 IN FATTIES
LOCATION:Martinez Court 7
END:VEVENT
BEGIN:VEVENT
DTSTAMP:20260419T000000Z
UID:6db81330-207b-49d6-8013-4da811c959f6@ClaytonBocce
DTSTART;TZID=America/Los_Angeles:20260609T183000
DTEND;TZID=America/Los_Angeles:20260609T210000
STATUS:CONFIRMED
SUMMARY:STOCKINGER SURVEYS vs ROGER THAT!
URL:/League/Schedule/3004
DESCRIPTION:Regular Season match: STOCKINGER SURVEYS vs ROGE
 R THAT!
LOCATION:Martinez Court 13
END:VEVENT
BEGIN:VEVENT
DTSTAMP:20260419T000000Z
UID:a98e791e-d48c-4553-a3a0-c70db8aac2f8@ClaytonBocce
DTSTART;TZID=America/Los_Angeles:20260616T183000
DTEND;TZID=America/Los_Angeles:20260616T210000
STATUS:CONFIRMED
SUMMARY:STOCKINGER SURVEYS vs SHOOT IT
URL:/League/Schedule/3004
DESCRIPTION:Regular Season match: STOCKINGER SURVEYS vs SHOO
 T IT
LOCATION:Martinez Court 9
END:VEVENT
BEGIN:VEVENT
DTSTAMP:20260419T000000Z
UID:10d7d4b8-68a0-4b0a-b96c-04e07e771117@ClaytonBocce
DTSTART;TZID=America/Los_Angeles:20260623T183000
DTEND;TZID=America/Los_Angeles:20260623T210000
STATUS:CONFIRMED
SUMMARY:STOCKINGER SURVEYS vs THE OTHER TEAM
URL:/League/Schedule/3004
DESCRIPTION:Regular Season match: STOCKINGER SURVEYS vs THE 
 OTHER TEAM
LOCATION:Martinez Court 12
END:VEVENT
BEGIN:VEVENT
DTSTAMP:20260419T000000Z
UID:1cf9dfe3-bcb6-4613-9061-b23b72e3d730@ClaytonBocce
DTSTART;TZID=America/Los_Angeles:20260714T183000
DTEND;TZID=America/Los_Angeles:20260714T210000
STATUS:CONFIRMED
SUMMARY:STOCKINGER SURVEYS vs HERE FOR THE PARTY
URL:/League/Schedule/3004
DESCRIPTION:Regular Season match: STOCKINGER SURVEYS vs HERE
  FOR THE PARTY
LOCATION:Martinez Court 6
END:VEVENT
BEGIN:VEVENT
DTSTAMP:20260419T000000Z
UID:0fdc026c-5e7c-461b-874e-278fb45635fa@ClaytonBocce
DTSTART;TZID=America/Los_Angeles:20260721T183000
DTEND;TZID=America/Los_Angeles:20260721T210000
STATUS:CONFIRMED
SUMMARY:STOCKINGER SURVEYS vs ROCK n ROLLERS
URL:/League/Schedule/3004
DESCRIPTION:Regular Season match: STOCKINGER SURVEYS vs ROCK
  n ROLLERS
LOCATION:Martinez Court 5
END:VEVENT
BEGIN:VEVENT
DTSTAMP:20260419T000000Z
UID:165cd6cf-d1ca-40a7-886e-2cb5c0b51006@ClaytonBocce
DTSTART;TZID=America/Los_Angeles:20260728T183000
DTEND;TZID=America/Los_Angeles:20260728T210000
STATUS:CONFIRMED
SUMMARY:STOCKINGER SURVEYS vs ROLLIN FATTIES
URL:/League/Schedule/3004
DESCRIPTION:Regular Season match: STOCKINGER SURVEYS vs ROLL
 IN FATTIES
LOCATION:Martinez Court 10
END:VEVENT
BEGIN:VEVENT
DTSTAMP:20260419T000000Z
UID:cdf45afa-c883-4a8b-8221-83be15a5dde8@ClaytonBocce
DTSTART;TZID=America/Los_Angeles:20260811T183000
DTEND;TZID=America/Los_Angeles:20260811T210000
STATUS:CONFIRMED
SUMMARY:STOCKINGER SURVEYS vs ROGER THAT!
URL:/League/Schedule/3004
DESCRIPTION:Regular Season match: STOCKINGER SURVEYS vs ROGE
 R THAT!
LOCATION:Martinez Court 4
END:VEVENT
BEGIN:VEVENT
DTSTAMP:20260419T000000Z
UID:8d2a724e-c3ee-4e2a-b8c4-5145a3f60c5c@ClaytonBocce
DTSTART;TZID=America/Los_Angeles:20260818T183000
DTEND;TZID=America/Los_Angeles:20260818T210000
STATUS:CONFIRMED
SUMMARY:STOCKINGER SURVEYS vs SHOOT IT
URL:/League/Schedule/3004
DESCRIPTION:Regular Season match: STOCKINGER SURVEYS vs SHOO
 T IT
LOCATION:Martinez Court 14
END:VEVENT
BEGIN:VEVENT
DTSTAMP:20260419T000000Z
UID:3496602e-0b62-4bf7-90eb-2adb7fa34676@ClaytonBocce
DTSTART;TZID=America/Los_Angeles:20260825T183000
DTEND;TZID=America/Los_Angeles:20260825T210000
STATUS:CONFIRMED
SUMMARY:STOCKINGER SURVEYS vs THE OTHER TEAM
URL:/League/Schedule/3004
DESCRIPTION:Regular Season match: STOCKINGER SURVEYS vs THE 
 OTHER TEAM
LOCATION:Martinez Court 11
END:VEVENT
BEGIN:VEVENT
DTSTAMP:20260419T000000Z
UID:c708dfd5-7d14-4955-9c3f-ee79e071e1e9@ClaytonBocce
DTSTART;TZID=America/Los_Angeles:20260908T183000
DTEND;TZID=America/Los_Angeles:20260908T210000
STATUS:CONFIRMED
SUMMARY:STOCKINGER SURVEYS vs HERE FOR THE PARTY
URL:/League/Schedule/3004
DESCRIPTION:Regular Season match: STOCKINGER SURVEYS vs HERE
  FOR THE PARTY
LOCATION:Martinez Court 13
END:VEVENT
BEGIN:VEVENT
DTSTAMP:20260419T000000Z
UID:20427470-4de5-4ee8-b625-c17e3eb28b3d@ClaytonBocce
DTSTART;TZID=America/Los_Angeles:20260915T183000
DTEND;TZID=America/Los_Angeles:20260915T210000
STATUS:CONFIRMED
SUMMARY:STOCKINGER SURVEYS vs ROCK n ROLLERS
URL:/League/Schedule/3004
DESCRIPTION:Regular Season match: STOCKINGER SURVEYS vs ROCK
  n ROLLERS
LOCATION:Martinez Court 3
END:VEVENT
BEGIN:VEVENT
DTSTAMP:20260419T000000Z
UID:910d661f-8673-4eeb-b178-b4ec7163fc5b@ClaytonBocce
DTSTART;TZID=America/Los_Angeles:20260922T183000
DTEND;TZID=America/Los_Angeles:20260922T210000
STATUS:CONFIRMED
SUMMARY:STOCKINGER SURVEYS vs ROLLIN FATTIES
URL:/League/Schedule/3004
DESCRIPTION:Regular Season match: STOCKINGER SURVEYS vs ROLL
 IN FATTIES
LOCATION:Martinez Court 12
END:VEVENT
END:VCALENDAR
