BEGIN:VCALENDAR
VERSION:2.0
PRODID:-//Clayton Bocce League
METHOD:PUBLISH
BEGIN:VTIMEZONE
TZID:America/Los_Angeles
X-LIC-LOCATION:America/Los_Angeles
BEGIN:DAYLIGHT
TZOFFSETFROM:-0800
TZOFFSETTO:-0700
TZNAME:PDT
DTSTART:20070311T020000
RRULE:FREQ=YEARLY;BYMONTH=3;BYDAY=2SU
END:DAYLIGHT
BEGIN:STANDARD
TZOFFSETFROM:-0700
TZOFFSETTO:-0800
TZNAME:PST
DTSTART:20071104T020000
RRULE:FREQ=YEARLY;BYMONTH=11;BYDAY=1SU
END:STANDARD
END:VTIMEZONE
BEGIN:VEVENT
DTSTAMP:20260419T000000Z
UID:1034c329-3324-4733-a91c-024c28cc1cdb@ClaytonBocce
DTSTART;TZID=America/Los_Angeles:20260421T183000
DTEND;TZID=America/Los_Angeles:20260421T210000
STATUS:CONFIRMED
SUMMARY:ROGER THAT! vs STOCKINGER SURVEYS
URL:/League/Schedule/3003
DESCRIPTION:Regular Season match: ROGER THAT! vs STOCKINGER 
 SURVEYS
LOCATION:Martinez Court 15
END:VEVENT
BEGIN:VEVENT
DTSTAMP:20260419T000000Z
UID:b6a8c058-0704-4721-991d-8c9a266cd2e7@ClaytonBocce
DTSTART;TZID=America/Los_Angeles:20260428T183000
DTEND;TZID=America/Los_Angeles:20260428T210000
STATUS:CONFIRMED
SUMMARY:ROGER THAT! vs ROLLIN FATTIES
URL:/League/Schedule/3003
DESCRIPTION:Regular Season match: ROGER THAT! vs ROLLIN FATT
 IES
LOCATION:Martinez Court 4
END:VEVENT
BEGIN:VEVENT
DTSTAMP:20260419T000000Z
UID:7bdc0fbd-c09c-4566-9dfd-979bd4462b1a@ClaytonBocce
DTSTART;TZID=America/Los_Angeles:20260505T183000
DTEND;TZID=America/Los_Angeles:20260505T210000
STATUS:CONFIRMED
SUMMARY:ROGER THAT! vs SHOOT IT
URL:/League/Schedule/3003
DESCRIPTION:Regular Season match: ROGER THAT! vs SHOOT IT
LOCATION:Martinez Court 10
END:VEVENT
BEGIN:VEVENT
DTSTAMP:20260419T000000Z
UID:433117d6-f20b-4a0a-a366-f6665b08fbcd@ClaytonBocce
DTSTART;TZID=America/Los_Angeles:20260512T183000
DTEND;TZID=America/Los_Angeles:20260512T210000
STATUS:CONFIRMED
SUMMARY:ROGER THAT! vs THE OTHER TEAM
URL:/League/Schedule/3003
DESCRIPTION:Regular Season match: ROGER THAT! vs THE OTHER T
 EAM
LOCATION:Martinez Court 7
END:VEVENT
BEGIN:VEVENT
DTSTAMP:20260419T000000Z
UID:f8388aab-e64d-4bff-b10e-5850c16eaebe@ClaytonBocce
DTSTART;TZID=America/Los_Angeles:20260526T183000
DTEND;TZID=America/Los_Angeles:20260526T210000
STATUS:CONFIRMED
SUMMARY:ROGER THAT! vs HERE FOR THE PARTY
URL:/League/Schedule/3003
DESCRIPTION:Regular Season match: ROGER THAT! vs HERE FOR TH
 E PARTY
LOCATION:Martinez Court 2
END:VEVENT
BEGIN:VEVENT
DTSTAMP:20260419T000000Z
UID:ad042a33-5d27-4924-a7cd-071f6d96e0a1@ClaytonBocce
DTSTART;TZID=America/Los_Angeles:20260602T183000
DTEND;TZID=America/Los_Angeles:20260602T210000
STATUS:CONFIRMED
SUMMARY:ROGER THAT! vs ROCK n ROLLERS
URL:/League/Schedule/3003
DESCRIPTION:Regular Season match: ROGER THAT! vs ROCK n ROLL
 ERS
LOCATION:Martinez Court 6
END:VEVENT
BEGIN:VEVENT
DTSTAMP:20260419T000000Z
UID:6db81330-207b-49d6-8013-4da811c959f6@ClaytonBocce
DTSTART;TZID=America/Los_Angeles:20260609T183000
DTEND;TZID=America/Los_Angeles:20260609T210000
STATUS:CONFIRMED
SUMMARY:ROGER THAT! vs STOCKINGER SURVEYS
URL:/League/Schedule/3003
DESCRIPTION:Regular Season match: ROGER THAT! vs STOCKINGER 
 SURVEYS
LOCATION:Martinez Court 13
END:VEVENT
BEGIN:VEVENT
DTSTAMP:20260419T000000Z
UID:fe2f0596-7e2b-4a47-b570-858295be50f6@ClaytonBocce
DTSTART;TZID=America/Los_Angeles:20260616T183000
DTEND;TZID=America/Los_Angeles:20260616T210000
STATUS:CONFIRMED
SUMMARY:ROGER THAT! vs ROLLIN FATTIES
URL:/League/Schedule/3003
DESCRIPTION:Regular Season match: ROGER THAT! vs ROLLIN FATT
 IES
LOCATION:Martinez Court 8
END:VEVENT
BEGIN:VEVENT
DTSTAMP:20260419T000000Z
UID:856d440d-3a2a-407c-9782-8e4fb801cbfc@ClaytonBocce
DTSTART;TZID=America/Los_Angeles:20260623T183000
DTEND;TZID=America/Los_Angeles:20260623T210000
STATUS:CONFIRMED
SUMMARY:ROGER THAT! vs SHOOT IT
URL:/League/Schedule/3003
DESCRIPTION:Regular Season match: ROGER THAT! vs SHOOT IT
LOCATION:Martinez Court 3
END:VEVENT
BEGIN:VEVENT
DTSTAMP:20260419T000000Z
UID:c6d71c37-1f4c-4c30-a45c-2567350ee202@ClaytonBocce
DTSTART;TZID=America/Los_Angeles:20260630T183000
DTEND;TZID=America/Los_Angeles:20260630T210000
STATUS:CONFIRMED
SUMMARY:ROGER THAT! vs THE OTHER TEAM
URL:/League/Schedule/3003
DESCRIPTION:Regular Season match: ROGER THAT! vs THE OTHER T
 EAM
LOCATION:Martinez Court 5
END:VEVENT
BEGIN:VEVENT
DTSTAMP:20260419T000000Z
UID:bddaa662-0313-43e4-b75b-d464fc74fc30@ClaytonBocce
DTSTART;TZID=America/Los_Angeles:20260721T183000
DTEND;TZID=America/Los_Angeles:20260721T210000
STATUS:CONFIRMED
SUMMARY:ROGER THAT! vs HERE FOR THE PARTY
URL:/League/Schedule/3003
DESCRIPTION:Regular Season match: ROGER THAT! vs HERE FOR TH
 E PARTY
LOCATION:Martinez Court 9
END:VEVENT
BEGIN:VEVENT
DTSTAMP:20260419T000000Z
UID:1699a464-10f4-43d1-9eb2-36943e7b61a7@ClaytonBocce
DTSTART;TZID=America/Los_Angeles:20260728T183000
DTEND;TZID=America/Los_Angeles:20260728T210000
STATUS:CONFIRMED
SUMMARY:ROGER THAT! vs ROCK n ROLLERS
URL:/League/Schedule/3003
DESCRIPTION:Regular Season match: ROGER THAT! vs ROCK n ROLL
 ERS
LOCATION:Martinez Court 12
END:VEVENT
BEGIN:VEVENT
DTSTAMP:20260419T000000Z
UID:cdf45afa-c883-4a8b-8221-83be15a5dde8@ClaytonBocce
DTSTART;TZID=America/Los_Angeles:20260811T183000
DTEND;TZID=America/Los_Angeles:20260811T210000
STATUS:CONFIRMED
SUMMARY:ROGER THAT! vs STOCKINGER SURVEYS
URL:/League/Schedule/3003
DESCRIPTION:Regular Season match: ROGER THAT! vs STOCKINGER 
 SURVEYS
LOCATION:Martinez Court 4
END:VEVENT
BEGIN:VEVENT
DTSTAMP:20260419T000000Z
UID:29b1010a-21be-41e7-8ec0-6ef73eb83d8b@ClaytonBocce
DTSTART;TZID=America/Los_Angeles:20260818T183000
DTEND;TZID=America/Los_Angeles:20260818T210000
STATUS:CONFIRMED
SUMMARY:ROGER THAT! vs ROLLIN FATTIES
URL:/League/Schedule/3003
DESCRIPTION:Regular Season match: ROGER THAT! vs ROLLIN FATT
 IES
LOCATION:Martinez Court 11
END:VEVENT
BEGIN:VEVENT
DTSTAMP:20260419T000000Z
UID:5891e8c1-d723-4a33-8fb1-051c5fc79436@ClaytonBocce
DTSTART;TZID=America/Los_Angeles:20260825T183000
DTEND;TZID=America/Los_Angeles:20260825T210000
STATUS:CONFIRMED
SUMMARY:ROGER THAT! vs SHOOT IT
URL:/League/Schedule/3003
DESCRIPTION:Regular Season match: ROGER THAT! vs SHOOT IT
LOCATION:Martinez Court 8
END:VEVENT
BEGIN:VEVENT
DTSTAMP:20260419T000000Z
UID:a227724e-eff0-41d9-a220-185d77422098@ClaytonBocce
DTSTART;TZID=America/Los_Angeles:20260901T183000
DTEND;TZID=America/Los_Angeles:20260901T210000
STATUS:CONFIRMED
SUMMARY:ROGER THAT! vs THE OTHER TEAM
URL:/League/Schedule/3003
DESCRIPTION:Regular Season match: ROGER THAT! vs THE OTHER T
 EAM
LOCATION:Martinez Court 1
END:VEVENT
BEGIN:VEVENT
DTSTAMP:20260419T000000Z
UID:2e3204c3-d3d1-47c7-99af-af8b4fa8e181@ClaytonBocce
DTSTART;TZID=America/Los_Angeles:20260915T183000
DTEND;TZID=America/Los_Angeles:20260915T210000
STATUS:CONFIRMED
SUMMARY:ROGER THAT! vs HERE FOR THE PARTY
URL:/League/Schedule/3003
DESCRIPTION:Regular Season match: ROGER THAT! vs HERE FOR TH
 E PARTY
LOCATION:Martinez Court 14
END:VEVENT
BEGIN:VEVENT
DTSTAMP:20260419T000000Z
UID:7feb7230-66ab-4e3d-b6e5-4b81ea41b7a1@ClaytonBocce
DTSTART;TZID=America/Los_Angeles:20260922T183000
DTEND;TZID=America/Los_Angeles:20260922T210000
STATUS:CONFIRMED
SUMMARY:ROGER THAT! vs ROCK n ROLLERS
URL:/League/Schedule/3003
DESCRIPTION:Regular Season match: ROGER THAT! vs ROCK n ROLL
 ERS
LOCATION:Martinez Court 13
END:VEVENT
END:VCALENDAR
