BEGIN:VCALENDAR
VERSION:2.0
PRODID:-//Clayton Bocce League
METHOD:PUBLISH
BEGIN:VTIMEZONE
TZID:America/Los_Angeles
X-LIC-LOCATION:America/Los_Angeles
BEGIN:DAYLIGHT
TZOFFSETFROM:-0800
TZOFFSETTO:-0700
TZNAME:PDT
DTSTART:20070311T020000
RRULE:FREQ=YEARLY;BYMONTH=3;BYDAY=2SU
END:DAYLIGHT
BEGIN:STANDARD
TZOFFSETFROM:-0700
TZOFFSETTO:-0800
TZNAME:PST
DTSTART:20071104T020000
RRULE:FREQ=YEARLY;BYMONTH=11;BYDAY=1SU
END:STANDARD
END:VTIMEZONE
BEGIN:VEVENT
DTSTAMP:20260419T000000Z
UID:6e241e3f-f848-439b-b8a2-97f4c74bb242@ClaytonBocce
DTSTART;TZID=America/Los_Angeles:20260428T183000
DTEND;TZID=America/Los_Angeles:20260428T210000
STATUS:CONFIRMED
SUMMARY:TEAM JOANIE vs ROLLIN' UP
URL:/League/Schedule/2993
DESCRIPTION:Regular Season match: TEAM JOANIE vs ROLLIN' UP
LOCATION:Martinez Court 14
END:VEVENT
BEGIN:VEVENT
DTSTAMP:20260419T000000Z
UID:0a36b1f1-2194-4805-ba69-98e3d7f583bc@ClaytonBocce
DTSTART;TZID=America/Los_Angeles:20260505T183000
DTEND;TZID=America/Los_Angeles:20260505T210000
STATUS:CONFIRMED
SUMMARY:TEAM JOANIE vs UNCONSCIOUS
URL:/League/Schedule/2993
DESCRIPTION:Regular Season match: TEAM JOANIE vs UNCONSCIOUS
LOCATION:Martinez Court 3
END:VEVENT
BEGIN:VEVENT
DTSTAMP:20260419T000000Z
UID:a9af5c21-8fa0-4a6f-9ce3-1e4925c2b126@ClaytonBocce
DTSTART;TZID=America/Los_Angeles:20260512T183000
DTEND;TZID=America/Los_Angeles:20260512T210000
STATUS:CONFIRMED
SUMMARY:TEAM JOANIE vs I TOL U - JACK'S TEAM
URL:/League/Schedule/2993
DESCRIPTION:Regular Season match: TEAM JOANIE vs I TOL U - J
 ACK'S TEAM
LOCATION:Martinez Court 12
END:VEVENT
BEGIN:VEVENT
DTSTAMP:20260419T000000Z
UID:8d139109-d741-4806-993f-9256de993c5a@ClaytonBocce
DTSTART;TZID=America/Los_Angeles:20260519T183000
DTEND;TZID=America/Los_Angeles:20260519T210000
STATUS:CONFIRMED
SUMMARY:TEAM JOANIE vs PALLINO KISSERS
URL:/League/Schedule/2993
DESCRIPTION:Regular Season match: TEAM JOANIE vs PALLINO KIS
 SERS
LOCATION:Martinez Court 11
END:VEVENT
BEGIN:VEVENT
DTSTAMP:20260419T000000Z
UID:2fcc2aa6-c814-491a-91b1-4c74f49fd1cb@ClaytonBocce
DTSTART;TZID=America/Los_Angeles:20260526T183000
DTEND;TZID=America/Los_Angeles:20260526T210000
STATUS:CONFIRMED
SUMMARY:TEAM JOANIE vs BELLA BOCCE
URL:/League/Schedule/2993
DESCRIPTION:Regular Season match: TEAM JOANIE vs BELLA BOCCE
LOCATION:Martinez Court 10
END:VEVENT
BEGIN:VEVENT
DTSTAMP:20260419T000000Z
UID:d96629b7-6d78-4779-9dc1-a4506f5a84fa@ClaytonBocce
DTSTART;TZID=America/Los_Angeles:20260602T183000
DTEND;TZID=America/Los_Angeles:20260602T210000
STATUS:CONFIRMED
SUMMARY:TEAM JOANIE vs THE PROS FROM DOVER
URL:/League/Schedule/2993
DESCRIPTION:Regular Season match: TEAM JOANIE vs THE PROS FR
 OM DOVER
LOCATION:Martinez Court 2
END:VEVENT
BEGIN:VEVENT
DTSTAMP:20260419T000000Z
UID:52f65cdb-ce44-4444-8b77-bb390b5be7a6@ClaytonBocce
DTSTART;TZID=America/Los_Angeles:20260616T183000
DTEND;TZID=America/Los_Angeles:20260616T210000
STATUS:CONFIRMED
SUMMARY:TEAM JOANIE vs ROLLIN' UP
URL:/League/Schedule/2993
DESCRIPTION:Regular Season match: TEAM JOANIE vs ROLLIN' UP
LOCATION:Martinez Court 15
END:VEVENT
BEGIN:VEVENT
DTSTAMP:20260419T000000Z
UID:7ac60eae-85a6-4a27-b3b0-3fdd69260362@ClaytonBocce
DTSTART;TZID=America/Los_Angeles:20260623T183000
DTEND;TZID=America/Los_Angeles:20260623T210000
STATUS:CONFIRMED
SUMMARY:TEAM JOANIE vs UNCONSCIOUS
URL:/League/Schedule/2993
DESCRIPTION:Regular Season match: TEAM JOANIE vs UNCONSCIOUS
LOCATION:Martinez Court 5
END:VEVENT
BEGIN:VEVENT
DTSTAMP:20260419T000000Z
UID:f041a467-e13a-45c3-a077-0b6bf85e4705@ClaytonBocce
DTSTART;TZID=America/Los_Angeles:20260630T183000
DTEND;TZID=America/Los_Angeles:20260630T210000
STATUS:CONFIRMED
SUMMARY:TEAM JOANIE vs I TOL U - JACK'S TEAM
URL:/League/Schedule/2993
DESCRIPTION:Regular Season match: TEAM JOANIE vs I TOL U - J
 ACK'S TEAM
LOCATION:Martinez Court 3
END:VEVENT
BEGIN:VEVENT
DTSTAMP:20260419T000000Z
UID:8b15f6f8-4964-4045-9b12-4fe50bffd011@ClaytonBocce
DTSTART;TZID=America/Los_Angeles:20260714T183000
DTEND;TZID=America/Los_Angeles:20260714T210000
STATUS:CONFIRMED
SUMMARY:TEAM JOANIE vs PALLINO KISSERS
URL:/League/Schedule/2993
DESCRIPTION:Regular Season match: TEAM JOANIE vs PALLINO KIS
 SERS
LOCATION:Martinez Court 15
END:VEVENT
BEGIN:VEVENT
DTSTAMP:20260419T000000Z
UID:f0fd1329-f19c-4115-8494-c72581de253d@ClaytonBocce
DTSTART;TZID=America/Los_Angeles:20260721T183000
DTEND;TZID=America/Los_Angeles:20260721T210000
STATUS:CONFIRMED
SUMMARY:TEAM JOANIE vs BELLA BOCCE
URL:/League/Schedule/2993
DESCRIPTION:Regular Season match: TEAM JOANIE vs BELLA BOCCE
LOCATION:Martinez Court 13
END:VEVENT
BEGIN:VEVENT
DTSTAMP:20260419T000000Z
UID:c56ad159-0736-418f-8d6a-dbdf787766d2@ClaytonBocce
DTSTART;TZID=America/Los_Angeles:20260728T183000
DTEND;TZID=America/Los_Angeles:20260728T210000
STATUS:CONFIRMED
SUMMARY:TEAM JOANIE vs THE PROS FROM DOVER
URL:/League/Schedule/2993
DESCRIPTION:Regular Season match: TEAM JOANIE vs THE PROS FR
 OM DOVER
LOCATION:Martinez Court 8
END:VEVENT
BEGIN:VEVENT
DTSTAMP:20260419T000000Z
UID:8601f9ac-8c4d-473c-9357-12e18f9d8ece@ClaytonBocce
DTSTART;TZID=America/Los_Angeles:20260818T183000
DTEND;TZID=America/Los_Angeles:20260818T210000
STATUS:CONFIRMED
SUMMARY:TEAM JOANIE vs ROLLIN' UP
URL:/League/Schedule/2993
DESCRIPTION:Regular Season match: TEAM JOANIE vs ROLLIN' UP
LOCATION:Martinez Court 9
END:VEVENT
BEGIN:VEVENT
DTSTAMP:20260419T000000Z
UID:8daf117f-47f9-4628-bea0-4b96dcc82c9f@ClaytonBocce
DTSTART;TZID=America/Los_Angeles:20260825T183000
DTEND;TZID=America/Los_Angeles:20260825T210000
STATUS:CONFIRMED
SUMMARY:TEAM JOANIE vs UNCONSCIOUS
URL:/League/Schedule/2993
DESCRIPTION:Regular Season match: TEAM JOANIE vs UNCONSCIOUS
LOCATION:Martinez Court 12
END:VEVENT
BEGIN:VEVENT
DTSTAMP:20260419T000000Z
UID:9a09e7d3-4d6e-43de-a770-c4aace5a81c7@ClaytonBocce
DTSTART;TZID=America/Los_Angeles:20260901T183000
DTEND;TZID=America/Los_Angeles:20260901T210000
STATUS:CONFIRMED
SUMMARY:TEAM JOANIE vs I TOL U - JACK'S TEAM
URL:/League/Schedule/2993
DESCRIPTION:Regular Season match: TEAM JOANIE vs I TOL U - J
 ACK'S TEAM
LOCATION:Martinez Court 11
END:VEVENT
BEGIN:VEVENT
DTSTAMP:20260419T000000Z
UID:1072905b-c979-4e33-85cb-22834b5c99c3@ClaytonBocce
DTSTART;TZID=America/Los_Angeles:20260908T183000
DTEND;TZID=America/Los_Angeles:20260908T210000
STATUS:CONFIRMED
SUMMARY:TEAM JOANIE vs PALLINO KISSERS
URL:/League/Schedule/2993
DESCRIPTION:Regular Season match: TEAM JOANIE vs PALLINO KIS
 SERS
LOCATION:Martinez Court 5
END:VEVENT
BEGIN:VEVENT
DTSTAMP:20260419T000000Z
UID:4f3614b6-af91-4427-935f-a728dd7a6986@ClaytonBocce
DTSTART;TZID=America/Los_Angeles:20260915T183000
DTEND;TZID=America/Los_Angeles:20260915T210000
STATUS:CONFIRMED
SUMMARY:TEAM JOANIE vs BELLA BOCCE
URL:/League/Schedule/2993
DESCRIPTION:Regular Season match: TEAM JOANIE vs BELLA BOCCE
LOCATION:Martinez Court 1
END:VEVENT
BEGIN:VEVENT
DTSTAMP:20260419T000000Z
UID:9ae882d1-13ef-4037-bc52-273854eb5274@ClaytonBocce
DTSTART;TZID=America/Los_Angeles:20260922T183000
DTEND;TZID=America/Los_Angeles:20260922T210000
STATUS:CONFIRMED
SUMMARY:TEAM JOANIE vs THE PROS FROM DOVER
URL:/League/Schedule/2993
DESCRIPTION:Regular Season match: TEAM JOANIE vs THE PROS FR
 OM DOVER
LOCATION:Martinez Court 7
END:VEVENT
END:VCALENDAR
