BEGIN:VCALENDAR
VERSION:2.0
PRODID:-//Clayton Bocce League
METHOD:PUBLISH
BEGIN:VTIMEZONE
TZID:America/Los_Angeles
X-LIC-LOCATION:America/Los_Angeles
BEGIN:DAYLIGHT
TZOFFSETFROM:-0800
TZOFFSETTO:-0700
TZNAME:PDT
DTSTART:20070311T020000
RRULE:FREQ=YEARLY;BYMONTH=3;BYDAY=2SU
END:DAYLIGHT
BEGIN:STANDARD
TZOFFSETFROM:-0700
TZOFFSETTO:-0800
TZNAME:PST
DTSTART:20071104T020000
RRULE:FREQ=YEARLY;BYMONTH=11;BYDAY=1SU
END:STANDARD
END:VTIMEZONE
BEGIN:VEVENT
DTSTAMP:20260419T000000Z
UID:193d2284-d15b-4c48-b946-a9675bdc2138@ClaytonBocce
DTSTART;TZID=America/Los_Angeles:20260421T183000
DTEND;TZID=America/Los_Angeles:20260421T210000
STATUS:CONFIRMED
SUMMARY:I TOL U - JACK'S TEAM vs THE PROS FROM DOVER
URL:/League/Schedule/2988
DESCRIPTION:Regular Season match: I TOL U - JACK'S TEAM vs T
 HE PROS FROM DOVER
LOCATION:Martinez Court 8
END:VEVENT
BEGIN:VEVENT
DTSTAMP:20260419T000000Z
UID:99107fdd-0a67-433c-80fe-866b046e4a47@ClaytonBocce
DTSTART;TZID=America/Los_Angeles:20260428T183000
DTEND;TZID=America/Los_Angeles:20260428T210000
STATUS:CONFIRMED
SUMMARY:I TOL U - JACK'S TEAM vs UNCONSCIOUS
URL:/League/Schedule/2988
DESCRIPTION:Regular Season match: I TOL U - JACK'S TEAM vs U
 NCONSCIOUS
LOCATION:Martinez Court 13
END:VEVENT
BEGIN:VEVENT
DTSTAMP:20260419T000000Z
UID:bd71c279-497a-4536-bda9-5517759ba8e3@ClaytonBocce
DTSTART;TZID=America/Los_Angeles:20260505T183000
DTEND;TZID=America/Los_Angeles:20260505T210000
STATUS:CONFIRMED
SUMMARY:I TOL U - JACK'S TEAM vs PALLINO KISSERS
URL:/League/Schedule/2988
DESCRIPTION:Regular Season match: I TOL U - JACK'S TEAM vs P
 ALLINO KISSERS
LOCATION:Martinez Court 4
END:VEVENT
BEGIN:VEVENT
DTSTAMP:20260419T000000Z
UID:a9af5c21-8fa0-4a6f-9ce3-1e4925c2b126@ClaytonBocce
DTSTART;TZID=America/Los_Angeles:20260512T183000
DTEND;TZID=America/Los_Angeles:20260512T210000
STATUS:CONFIRMED
SUMMARY:I TOL U - JACK'S TEAM vs TEAM JOANIE
URL:/League/Schedule/2988
DESCRIPTION:Regular Season match: I TOL U - JACK'S TEAM vs T
 EAM JOANIE
LOCATION:Martinez Court 12
END:VEVENT
BEGIN:VEVENT
DTSTAMP:20260419T000000Z
UID:b9229bcb-279c-42e3-8654-08a268bdf894@ClaytonBocce
DTSTART;TZID=America/Los_Angeles:20260519T183000
DTEND;TZID=America/Los_Angeles:20260519T210000
STATUS:CONFIRMED
SUMMARY:I TOL U - JACK'S TEAM vs BELLA BOCCE
URL:/League/Schedule/2988
DESCRIPTION:Regular Season match: I TOL U - JACK'S TEAM vs B
 ELLA BOCCE
LOCATION:Martinez Court 9
END:VEVENT
BEGIN:VEVENT
DTSTAMP:20260419T000000Z
UID:bffbcb4f-a972-4294-9d91-2a8c2d203b3c@ClaytonBocce
DTSTART;TZID=America/Los_Angeles:20260602T183000
DTEND;TZID=America/Los_Angeles:20260602T210000
STATUS:CONFIRMED
SUMMARY:I TOL U - JACK'S TEAM vs ROLLIN' UP
URL:/League/Schedule/2988
DESCRIPTION:Regular Season match: I TOL U - JACK'S TEAM vs R
 OLLIN' UP
LOCATION:Martinez Court 1
END:VEVENT
BEGIN:VEVENT
DTSTAMP:20260419T000000Z
UID:37ccd8e5-261d-42b0-8b54-63db822bd965@ClaytonBocce
DTSTART;TZID=America/Los_Angeles:20260609T183000
DTEND;TZID=America/Los_Angeles:20260609T210000
STATUS:CONFIRMED
SUMMARY:I TOL U - JACK'S TEAM vs THE PROS FROM DOVER
URL:/League/Schedule/2988
DESCRIPTION:Regular Season match: I TOL U - JACK'S TEAM vs T
 HE PROS FROM DOVER
LOCATION:Martinez Court 7
END:VEVENT
BEGIN:VEVENT
DTSTAMP:20260419T000000Z
UID:9c150d24-302a-4cad-9764-c10ee32df2f2@ClaytonBocce
DTSTART;TZID=America/Los_Angeles:20260616T183000
DTEND;TZID=America/Los_Angeles:20260616T210000
STATUS:CONFIRMED
SUMMARY:I TOL U - JACK'S TEAM vs UNCONSCIOUS
URL:/League/Schedule/2988
DESCRIPTION:Regular Season match: I TOL U - JACK'S TEAM vs U
 NCONSCIOUS
LOCATION:Martinez Court 2
END:VEVENT
BEGIN:VEVENT
DTSTAMP:20260419T000000Z
UID:07e664ca-d76e-443f-a84a-5dc46b2f110d@ClaytonBocce
DTSTART;TZID=America/Los_Angeles:20260623T183000
DTEND;TZID=America/Los_Angeles:20260623T210000
STATUS:CONFIRMED
SUMMARY:I TOL U - JACK'S TEAM vs PALLINO KISSERS
URL:/League/Schedule/2988
DESCRIPTION:Regular Season match: I TOL U - JACK'S TEAM vs P
 ALLINO KISSERS
LOCATION:Martinez Court 6
END:VEVENT
BEGIN:VEVENT
DTSTAMP:20260419T000000Z
UID:f041a467-e13a-45c3-a077-0b6bf85e4705@ClaytonBocce
DTSTART;TZID=America/Los_Angeles:20260630T183000
DTEND;TZID=America/Los_Angeles:20260630T210000
STATUS:CONFIRMED
SUMMARY:I TOL U - JACK'S TEAM vs TEAM JOANIE
URL:/League/Schedule/2988
DESCRIPTION:Regular Season match: I TOL U - JACK'S TEAM vs T
 EAM JOANIE
LOCATION:Martinez Court 3
END:VEVENT
BEGIN:VEVENT
DTSTAMP:20260419T000000Z
UID:3bcc87e3-ea46-41dc-ab75-0effd34d309c@ClaytonBocce
DTSTART;TZID=America/Los_Angeles:20260714T183000
DTEND;TZID=America/Los_Angeles:20260714T210000
STATUS:CONFIRMED
SUMMARY:I TOL U - JACK'S TEAM vs BELLA BOCCE
URL:/League/Schedule/2988
DESCRIPTION:Regular Season match: I TOL U - JACK'S TEAM vs B
 ELLA BOCCE
LOCATION:Martinez Court 11
END:VEVENT
BEGIN:VEVENT
DTSTAMP:20260419T000000Z
UID:b120791e-9210-4d58-b343-19966f911e0c@ClaytonBocce
DTSTART;TZID=America/Los_Angeles:20260728T183000
DTEND;TZID=America/Los_Angeles:20260728T210000
STATUS:CONFIRMED
SUMMARY:I TOL U - JACK'S TEAM vs ROLLIN' UP
URL:/League/Schedule/2988
DESCRIPTION:Regular Season match: I TOL U - JACK'S TEAM vs R
 OLLIN' UP
LOCATION:Martinez Court 14
END:VEVENT
BEGIN:VEVENT
DTSTAMP:20260419T000000Z
UID:3ff621ed-6147-460d-bcf5-5a9f78e336eb@ClaytonBocce
DTSTART;TZID=America/Los_Angeles:20260811T183000
DTEND;TZID=America/Los_Angeles:20260811T210000
STATUS:CONFIRMED
SUMMARY:I TOL U - JACK'S TEAM vs THE PROS FROM DOVER
URL:/League/Schedule/2988
DESCRIPTION:Regular Season match: I TOL U - JACK'S TEAM vs T
 HE PROS FROM DOVER
LOCATION:Martinez Court 15
END:VEVENT
BEGIN:VEVENT
DTSTAMP:20260419T000000Z
UID:dd7b7ebe-56d2-43a9-9fe2-0a3441321012@ClaytonBocce
DTSTART;TZID=America/Los_Angeles:20260818T183000
DTEND;TZID=America/Los_Angeles:20260818T210000
STATUS:CONFIRMED
SUMMARY:I TOL U - JACK'S TEAM vs UNCONSCIOUS
URL:/League/Schedule/2988
DESCRIPTION:Regular Season match: I TOL U - JACK'S TEAM vs U
 NCONSCIOUS
LOCATION:Martinez Court 7
END:VEVENT
BEGIN:VEVENT
DTSTAMP:20260419T000000Z
UID:ecd3a438-025b-4ddc-a6df-9335bced3013@ClaytonBocce
DTSTART;TZID=America/Los_Angeles:20260825T183000
DTEND;TZID=America/Los_Angeles:20260825T210000
STATUS:CONFIRMED
SUMMARY:I TOL U - JACK'S TEAM vs PALLINO KISSERS
URL:/League/Schedule/2988
DESCRIPTION:Regular Season match: I TOL U - JACK'S TEAM vs P
 ALLINO KISSERS
LOCATION:Martinez Court 10
END:VEVENT
BEGIN:VEVENT
DTSTAMP:20260419T000000Z
UID:9a09e7d3-4d6e-43de-a770-c4aace5a81c7@ClaytonBocce
DTSTART;TZID=America/Los_Angeles:20260901T183000
DTEND;TZID=America/Los_Angeles:20260901T210000
STATUS:CONFIRMED
SUMMARY:I TOL U - JACK'S TEAM vs TEAM JOANIE
URL:/League/Schedule/2988
DESCRIPTION:Regular Season match: I TOL U - JACK'S TEAM vs T
 EAM JOANIE
LOCATION:Martinez Court 11
END:VEVENT
BEGIN:VEVENT
DTSTAMP:20260419T000000Z
UID:b5bb6679-9572-4410-ad26-b7fdfb3d843d@ClaytonBocce
DTSTART;TZID=America/Los_Angeles:20260908T183000
DTEND;TZID=America/Los_Angeles:20260908T210000
STATUS:CONFIRMED
SUMMARY:I TOL U - JACK'S TEAM vs BELLA BOCCE
URL:/League/Schedule/2988
DESCRIPTION:Regular Season match: I TOL U - JACK'S TEAM vs B
 ELLA BOCCE
LOCATION:Martinez Court 6
END:VEVENT
BEGIN:VEVENT
DTSTAMP:20260419T000000Z
UID:204a959b-469b-46dd-8d7e-1602d546cf0d@ClaytonBocce
DTSTART;TZID=America/Los_Angeles:20260922T183000
DTEND;TZID=America/Los_Angeles:20260922T210000
STATUS:CONFIRMED
SUMMARY:I TOL U - JACK'S TEAM vs ROLLIN' UP
URL:/League/Schedule/2988
DESCRIPTION:Regular Season match: I TOL U - JACK'S TEAM vs R
 OLLIN' UP
LOCATION:Martinez Court 5
END:VEVENT
END:VCALENDAR
