BEGIN:VCALENDAR
VERSION:2.0
PRODID:-//Clayton Bocce League
METHOD:PUBLISH
BEGIN:VTIMEZONE
TZID:America/Los_Angeles
X-LIC-LOCATION:America/Los_Angeles
BEGIN:DAYLIGHT
TZOFFSETFROM:-0800
TZOFFSETTO:-0700
TZNAME:PDT
DTSTART:20070311T020000
RRULE:FREQ=YEARLY;BYMONTH=3;BYDAY=2SU
END:DAYLIGHT
BEGIN:STANDARD
TZOFFSETFROM:-0700
TZOFFSETTO:-0800
TZNAME:PST
DTSTART:20071104T020000
RRULE:FREQ=YEARLY;BYMONTH=11;BYDAY=1SU
END:STANDARD
END:VTIMEZONE
BEGIN:VEVENT
DTSTAMP:20260419T000000Z
UID:193d2284-d15b-4c48-b946-a9675bdc2138@ClaytonBocce
DTSTART;TZID=America/Los_Angeles:20260421T183000
DTEND;TZID=America/Los_Angeles:20260421T210000
STATUS:CONFIRMED
SUMMARY:THE PROS FROM DOVER vs I TOL U - JACK'S TEAM
URL:/League/Schedule/2991
DESCRIPTION:Regular Season match: THE PROS FROM DOVER vs I T
 OL U - JACK'S TEAM
LOCATION:Martinez Court 8
END:VEVENT
BEGIN:VEVENT
DTSTAMP:20260419T000000Z
UID:2c5963ec-3467-4001-89bf-54c11a0735eb@ClaytonBocce
DTSTART;TZID=America/Los_Angeles:20260428T183000
DTEND;TZID=America/Los_Angeles:20260428T210000
STATUS:CONFIRMED
SUMMARY:THE PROS FROM DOVER vs BELLA BOCCE
URL:/League/Schedule/2991
DESCRIPTION:Regular Season match: THE PROS FROM DOVER vs BEL
 LA BOCCE
LOCATION:Martinez Court 12
END:VEVENT
BEGIN:VEVENT
DTSTAMP:20260419T000000Z
UID:6d72658c-efeb-4493-a677-54a28860e6ff@ClaytonBocce
DTSTART;TZID=America/Los_Angeles:20260512T183000
DTEND;TZID=America/Los_Angeles:20260512T210000
STATUS:CONFIRMED
SUMMARY:THE PROS FROM DOVER vs PALLINO KISSERS
URL:/League/Schedule/2991
DESCRIPTION:Regular Season match: THE PROS FROM DOVER vs PAL
 LINO KISSERS
LOCATION:Martinez Court 5
END:VEVENT
BEGIN:VEVENT
DTSTAMP:20260419T000000Z
UID:e8993b87-6e47-4795-a3b4-6569b5d96dcd@ClaytonBocce
DTSTART;TZID=America/Los_Angeles:20260519T183000
DTEND;TZID=America/Los_Angeles:20260519T210000
STATUS:CONFIRMED
SUMMARY:THE PROS FROM DOVER vs ROLLIN' UP
URL:/League/Schedule/2991
DESCRIPTION:Regular Season match: THE PROS FROM DOVER vs ROL
 LIN' UP
LOCATION:Martinez Court 10
END:VEVENT
BEGIN:VEVENT
DTSTAMP:20260419T000000Z
UID:f4e033ad-62df-4b3b-b2f1-aa55ad548e98@ClaytonBocce
DTSTART;TZID=America/Los_Angeles:20260526T183000
DTEND;TZID=America/Los_Angeles:20260526T210000
STATUS:CONFIRMED
SUMMARY:THE PROS FROM DOVER vs UNCONSCIOUS
URL:/League/Schedule/2991
DESCRIPTION:Regular Season match: THE PROS FROM DOVER vs UNC
 ONSCIOUS
LOCATION:Martinez Court 11
END:VEVENT
BEGIN:VEVENT
DTSTAMP:20260419T000000Z
UID:d96629b7-6d78-4779-9dc1-a4506f5a84fa@ClaytonBocce
DTSTART;TZID=America/Los_Angeles:20260602T183000
DTEND;TZID=America/Los_Angeles:20260602T210000
STATUS:CONFIRMED
SUMMARY:THE PROS FROM DOVER vs TEAM JOANIE
URL:/League/Schedule/2991
DESCRIPTION:Regular Season match: THE PROS FROM DOVER vs TEA
 M JOANIE
LOCATION:Martinez Court 2
END:VEVENT
BEGIN:VEVENT
DTSTAMP:20260419T000000Z
UID:37ccd8e5-261d-42b0-8b54-63db822bd965@ClaytonBocce
DTSTART;TZID=America/Los_Angeles:20260609T183000
DTEND;TZID=America/Los_Angeles:20260609T210000
STATUS:CONFIRMED
SUMMARY:THE PROS FROM DOVER vs I TOL U - JACK'S TEAM
URL:/League/Schedule/2991
DESCRIPTION:Regular Season match: THE PROS FROM DOVER vs I T
 OL U - JACK'S TEAM
LOCATION:Martinez Court 7
END:VEVENT
BEGIN:VEVENT
DTSTAMP:20260419T000000Z
UID:32004ef0-f96e-4d05-9479-bb767f454dc8@ClaytonBocce
DTSTART;TZID=America/Los_Angeles:20260616T183000
DTEND;TZID=America/Los_Angeles:20260616T210000
STATUS:CONFIRMED
SUMMARY:THE PROS FROM DOVER vs BELLA BOCCE
URL:/League/Schedule/2991
DESCRIPTION:Regular Season match: THE PROS FROM DOVER vs BEL
 LA BOCCE
LOCATION:Martinez Court 5
END:VEVENT
BEGIN:VEVENT
DTSTAMP:20260419T000000Z
UID:cad0f3ad-825f-4721-b3a3-48ae82a47ee1@ClaytonBocce
DTSTART;TZID=America/Los_Angeles:20260630T183000
DTEND;TZID=America/Los_Angeles:20260630T210000
STATUS:CONFIRMED
SUMMARY:THE PROS FROM DOVER vs PALLINO KISSERS
URL:/League/Schedule/2991
DESCRIPTION:Regular Season match: THE PROS FROM DOVER vs PAL
 LINO KISSERS
LOCATION:Martinez Court 13
END:VEVENT
BEGIN:VEVENT
DTSTAMP:20260419T000000Z
UID:8b14df81-7dec-4f1c-ae79-28e1b16c9f0e@ClaytonBocce
DTSTART;TZID=America/Los_Angeles:20260714T183000
DTEND;TZID=America/Los_Angeles:20260714T210000
STATUS:CONFIRMED
SUMMARY:THE PROS FROM DOVER vs ROLLIN' UP
URL:/League/Schedule/2991
DESCRIPTION:Regular Season match: THE PROS FROM DOVER vs ROL
 LIN' UP
LOCATION:Martinez Court 1
END:VEVENT
BEGIN:VEVENT
DTSTAMP:20260419T000000Z
UID:2d32eb65-ad47-4ac9-ae03-c96f76c816c7@ClaytonBocce
DTSTART;TZID=America/Los_Angeles:20260721T183000
DTEND;TZID=America/Los_Angeles:20260721T210000
STATUS:CONFIRMED
SUMMARY:THE PROS FROM DOVER vs UNCONSCIOUS
URL:/League/Schedule/2991
DESCRIPTION:Regular Season match: THE PROS FROM DOVER vs UNC
 ONSCIOUS
LOCATION:Martinez Court 2
END:VEVENT
BEGIN:VEVENT
DTSTAMP:20260419T000000Z
UID:c56ad159-0736-418f-8d6a-dbdf787766d2@ClaytonBocce
DTSTART;TZID=America/Los_Angeles:20260728T183000
DTEND;TZID=America/Los_Angeles:20260728T210000
STATUS:CONFIRMED
SUMMARY:THE PROS FROM DOVER vs TEAM JOANIE
URL:/League/Schedule/2991
DESCRIPTION:Regular Season match: THE PROS FROM DOVER vs TEA
 M JOANIE
LOCATION:Martinez Court 8
END:VEVENT
BEGIN:VEVENT
DTSTAMP:20260419T000000Z
UID:3ff621ed-6147-460d-bcf5-5a9f78e336eb@ClaytonBocce
DTSTART;TZID=America/Los_Angeles:20260811T183000
DTEND;TZID=America/Los_Angeles:20260811T210000
STATUS:CONFIRMED
SUMMARY:THE PROS FROM DOVER vs I TOL U - JACK'S TEAM
URL:/League/Schedule/2991
DESCRIPTION:Regular Season match: THE PROS FROM DOVER vs I T
 OL U - JACK'S TEAM
LOCATION:Martinez Court 15
END:VEVENT
BEGIN:VEVENT
DTSTAMP:20260419T000000Z
UID:ebd8bfc7-084b-4fff-9533-3730b99c1a2c@ClaytonBocce
DTSTART;TZID=America/Los_Angeles:20260818T183000
DTEND;TZID=America/Los_Angeles:20260818T210000
STATUS:CONFIRMED
SUMMARY:THE PROS FROM DOVER vs BELLA BOCCE
URL:/League/Schedule/2991
DESCRIPTION:Regular Season match: THE PROS FROM DOVER vs BEL
 LA BOCCE
LOCATION:Martinez Court 12
END:VEVENT
BEGIN:VEVENT
DTSTAMP:20260419T000000Z
UID:4bd09855-b31f-4602-bc1b-829a176f4218@ClaytonBocce
DTSTART;TZID=America/Los_Angeles:20260901T183000
DTEND;TZID=America/Los_Angeles:20260901T210000
STATUS:CONFIRMED
SUMMARY:THE PROS FROM DOVER vs PALLINO KISSERS
URL:/League/Schedule/2991
DESCRIPTION:Regular Season match: THE PROS FROM DOVER vs PAL
 LINO KISSERS
LOCATION:Martinez Court 9
END:VEVENT
BEGIN:VEVENT
DTSTAMP:20260419T000000Z
UID:da46898c-b093-4fca-a356-0e13f6d79c5d@ClaytonBocce
DTSTART;TZID=America/Los_Angeles:20260908T183000
DTEND;TZID=America/Los_Angeles:20260908T210000
STATUS:CONFIRMED
SUMMARY:THE PROS FROM DOVER vs ROLLIN' UP
URL:/League/Schedule/2991
DESCRIPTION:Regular Season match: THE PROS FROM DOVER vs ROL
 LIN' UP
LOCATION:Martinez Court 3
END:VEVENT
BEGIN:VEVENT
DTSTAMP:20260419T000000Z
UID:9e33d06a-f5fd-4df1-b7f4-f7fd428966c9@ClaytonBocce
DTSTART;TZID=America/Los_Angeles:20260915T183000
DTEND;TZID=America/Los_Angeles:20260915T210000
STATUS:CONFIRMED
SUMMARY:THE PROS FROM DOVER vs UNCONSCIOUS
URL:/League/Schedule/2991
DESCRIPTION:Regular Season match: THE PROS FROM DOVER vs UNC
 ONSCIOUS
LOCATION:Martinez Court 10
END:VEVENT
BEGIN:VEVENT
DTSTAMP:20260419T000000Z
UID:9ae882d1-13ef-4037-bc52-273854eb5274@ClaytonBocce
DTSTART;TZID=America/Los_Angeles:20260922T183000
DTEND;TZID=America/Los_Angeles:20260922T210000
STATUS:CONFIRMED
SUMMARY:THE PROS FROM DOVER vs TEAM JOANIE
URL:/League/Schedule/2991
DESCRIPTION:Regular Season match: THE PROS FROM DOVER vs TEA
 M JOANIE
LOCATION:Martinez Court 7
END:VEVENT
END:VCALENDAR
