BEGIN:VCALENDAR
VERSION:2.0
PRODID:-//Clayton Bocce League
METHOD:PUBLISH
BEGIN:VTIMEZONE
TZID:America/Los_Angeles
X-LIC-LOCATION:America/Los_Angeles
BEGIN:DAYLIGHT
TZOFFSETFROM:-0800
TZOFFSETTO:-0700
TZNAME:PDT
DTSTART:20070311T020000
RRULE:FREQ=YEARLY;BYMONTH=3;BYDAY=2SU
END:DAYLIGHT
BEGIN:STANDARD
TZOFFSETFROM:-0700
TZOFFSETTO:-0800
TZNAME:PST
DTSTART:20071104T020000
RRULE:FREQ=YEARLY;BYMONTH=11;BYDAY=1SU
END:STANDARD
END:VTIMEZONE
BEGIN:VEVENT
DTSTAMP:20260419T000000Z
UID:45ced0be-1b96-4054-ba44-9c755c35cced@ClaytonBocce
DTSTART;TZID=America/Los_Angeles:20260421T183000
DTEND;TZID=America/Los_Angeles:20260421T210000
STATUS:CONFIRMED
SUMMARY:BELLA BOCCE vs PALLINO KISSERS
URL:/League/Schedule/2987
DESCRIPTION:Regular Season match: BELLA BOCCE vs PALLINO KIS
 SERS
LOCATION:Martinez Court 7
END:VEVENT
BEGIN:VEVENT
DTSTAMP:20260419T000000Z
UID:2c5963ec-3467-4001-89bf-54c11a0735eb@ClaytonBocce
DTSTART;TZID=America/Los_Angeles:20260428T183000
DTEND;TZID=America/Los_Angeles:20260428T210000
STATUS:CONFIRMED
SUMMARY:BELLA BOCCE vs THE PROS FROM DOVER
URL:/League/Schedule/2987
DESCRIPTION:Regular Season match: BELLA BOCCE vs THE PROS FR
 OM DOVER
LOCATION:Martinez Court 12
END:VEVENT
BEGIN:VEVENT
DTSTAMP:20260419T000000Z
UID:676a9650-0863-4ee1-bf65-9c17e8db82d1@ClaytonBocce
DTSTART;TZID=America/Los_Angeles:20260505T183000
DTEND;TZID=America/Los_Angeles:20260505T210000
STATUS:CONFIRMED
SUMMARY:BELLA BOCCE vs ROLLIN' UP
URL:/League/Schedule/2987
DESCRIPTION:Regular Season match: BELLA BOCCE vs ROLLIN' UP
LOCATION:Martinez Court 2
END:VEVENT
BEGIN:VEVENT
DTSTAMP:20260419T000000Z
UID:f21e13be-0354-4632-a532-122f84664e46@ClaytonBocce
DTSTART;TZID=America/Los_Angeles:20260512T183000
DTEND;TZID=America/Los_Angeles:20260512T210000
STATUS:CONFIRMED
SUMMARY:BELLA BOCCE vs UNCONSCIOUS
URL:/League/Schedule/2987
DESCRIPTION:Regular Season match: BELLA BOCCE vs UNCONSCIOUS
LOCATION:Martinez Court 6
END:VEVENT
BEGIN:VEVENT
DTSTAMP:20260419T000000Z
UID:b9229bcb-279c-42e3-8654-08a268bdf894@ClaytonBocce
DTSTART;TZID=America/Los_Angeles:20260519T183000
DTEND;TZID=America/Los_Angeles:20260519T210000
STATUS:CONFIRMED
SUMMARY:BELLA BOCCE vs I TOL U - JACK'S TEAM
URL:/League/Schedule/2987
DESCRIPTION:Regular Season match: BELLA BOCCE vs I TOL U - J
 ACK'S TEAM
LOCATION:Martinez Court 9
END:VEVENT
BEGIN:VEVENT
DTSTAMP:20260419T000000Z
UID:2fcc2aa6-c814-491a-91b1-4c74f49fd1cb@ClaytonBocce
DTSTART;TZID=America/Los_Angeles:20260526T183000
DTEND;TZID=America/Los_Angeles:20260526T210000
STATUS:CONFIRMED
SUMMARY:BELLA BOCCE vs TEAM JOANIE
URL:/League/Schedule/2987
DESCRIPTION:Regular Season match: BELLA BOCCE vs TEAM JOANIE
LOCATION:Martinez Court 10
END:VEVENT
BEGIN:VEVENT
DTSTAMP:20260419T000000Z
UID:b056be9a-a110-45d2-b8d5-e607d4302a0f@ClaytonBocce
DTSTART;TZID=America/Los_Angeles:20260609T183000
DTEND;TZID=America/Los_Angeles:20260609T210000
STATUS:CONFIRMED
SUMMARY:BELLA BOCCE vs PALLINO KISSERS
URL:/League/Schedule/2987
DESCRIPTION:Regular Season match: BELLA BOCCE vs PALLINO KIS
 SERS
LOCATION:Martinez Court 3
END:VEVENT
BEGIN:VEVENT
DTSTAMP:20260419T000000Z
UID:32004ef0-f96e-4d05-9479-bb767f454dc8@ClaytonBocce
DTSTART;TZID=America/Los_Angeles:20260616T183000
DTEND;TZID=America/Los_Angeles:20260616T210000
STATUS:CONFIRMED
SUMMARY:BELLA BOCCE vs THE PROS FROM DOVER
URL:/League/Schedule/2987
DESCRIPTION:Regular Season match: BELLA BOCCE vs THE PROS FR
 OM DOVER
LOCATION:Martinez Court 5
END:VEVENT
BEGIN:VEVENT
DTSTAMP:20260419T000000Z
UID:d27e4637-e62a-485c-b04f-bad888cbed0e@ClaytonBocce
DTSTART;TZID=America/Los_Angeles:20260623T183000
DTEND;TZID=America/Los_Angeles:20260623T210000
STATUS:CONFIRMED
SUMMARY:BELLA BOCCE vs ROLLIN' UP
URL:/League/Schedule/2987
DESCRIPTION:Regular Season match: BELLA BOCCE vs ROLLIN' UP
LOCATION:Martinez Court 4
END:VEVENT
BEGIN:VEVENT
DTSTAMP:20260419T000000Z
UID:5faf8d6c-0446-4eb9-8900-acc3eef0b954@ClaytonBocce
DTSTART;TZID=America/Los_Angeles:20260630T183000
DTEND;TZID=America/Los_Angeles:20260630T210000
STATUS:CONFIRMED
SUMMARY:BELLA BOCCE vs UNCONSCIOUS
URL:/League/Schedule/2987
DESCRIPTION:Regular Season match: BELLA BOCCE vs UNCONSCIOUS
LOCATION:Martinez Court 14
END:VEVENT
BEGIN:VEVENT
DTSTAMP:20260419T000000Z
UID:3bcc87e3-ea46-41dc-ab75-0effd34d309c@ClaytonBocce
DTSTART;TZID=America/Los_Angeles:20260714T183000
DTEND;TZID=America/Los_Angeles:20260714T210000
STATUS:CONFIRMED
SUMMARY:BELLA BOCCE vs I TOL U - JACK'S TEAM
URL:/League/Schedule/2987
DESCRIPTION:Regular Season match: BELLA BOCCE vs I TOL U - J
 ACK'S TEAM
LOCATION:Martinez Court 11
END:VEVENT
BEGIN:VEVENT
DTSTAMP:20260419T000000Z
UID:f0fd1329-f19c-4115-8494-c72581de253d@ClaytonBocce
DTSTART;TZID=America/Los_Angeles:20260721T183000
DTEND;TZID=America/Los_Angeles:20260721T210000
STATUS:CONFIRMED
SUMMARY:BELLA BOCCE vs TEAM JOANIE
URL:/League/Schedule/2987
DESCRIPTION:Regular Season match: BELLA BOCCE vs TEAM JOANIE
LOCATION:Martinez Court 13
END:VEVENT
BEGIN:VEVENT
DTSTAMP:20260419T000000Z
UID:c542b8ce-97a0-4e93-8d87-5f3a83bf3741@ClaytonBocce
DTSTART;TZID=America/Los_Angeles:20260811T183000
DTEND;TZID=America/Los_Angeles:20260811T210000
STATUS:CONFIRMED
SUMMARY:BELLA BOCCE vs PALLINO KISSERS
URL:/League/Schedule/2987
DESCRIPTION:Regular Season match: BELLA BOCCE vs PALLINO KIS
 SERS
LOCATION:Martinez Court 14
END:VEVENT
BEGIN:VEVENT
DTSTAMP:20260419T000000Z
UID:ebd8bfc7-084b-4fff-9533-3730b99c1a2c@ClaytonBocce
DTSTART;TZID=America/Los_Angeles:20260818T183000
DTEND;TZID=America/Los_Angeles:20260818T210000
STATUS:CONFIRMED
SUMMARY:BELLA BOCCE vs THE PROS FROM DOVER
URL:/League/Schedule/2987
DESCRIPTION:Regular Season match: BELLA BOCCE vs THE PROS FR
 OM DOVER
LOCATION:Martinez Court 12
END:VEVENT
BEGIN:VEVENT
DTSTAMP:20260419T000000Z
UID:e67c38a2-3ec4-4b7a-bc30-b6f21420b03e@ClaytonBocce
DTSTART;TZID=America/Los_Angeles:20260825T183000
DTEND;TZID=America/Los_Angeles:20260825T210000
STATUS:CONFIRMED
SUMMARY:BELLA BOCCE vs ROLLIN' UP
URL:/League/Schedule/2987
DESCRIPTION:Regular Season match: BELLA BOCCE vs ROLLIN' UP
LOCATION:Martinez Court 15
END:VEVENT
BEGIN:VEVENT
DTSTAMP:20260419T000000Z
UID:b9c0241d-9ce1-455b-943d-b0d28ffc8493@ClaytonBocce
DTSTART;TZID=America/Los_Angeles:20260901T183000
DTEND;TZID=America/Los_Angeles:20260901T210000
STATUS:CONFIRMED
SUMMARY:BELLA BOCCE vs UNCONSCIOUS
URL:/League/Schedule/2987
DESCRIPTION:Regular Season match: BELLA BOCCE vs UNCONSCIOUS
LOCATION:Martinez Court 5
END:VEVENT
BEGIN:VEVENT
DTSTAMP:20260419T000000Z
UID:b5bb6679-9572-4410-ad26-b7fdfb3d843d@ClaytonBocce
DTSTART;TZID=America/Los_Angeles:20260908T183000
DTEND;TZID=America/Los_Angeles:20260908T210000
STATUS:CONFIRMED
SUMMARY:BELLA BOCCE vs I TOL U - JACK'S TEAM
URL:/League/Schedule/2987
DESCRIPTION:Regular Season match: BELLA BOCCE vs I TOL U - J
 ACK'S TEAM
LOCATION:Martinez Court 6
END:VEVENT
BEGIN:VEVENT
DTSTAMP:20260419T000000Z
UID:4f3614b6-af91-4427-935f-a728dd7a6986@ClaytonBocce
DTSTART;TZID=America/Los_Angeles:20260915T183000
DTEND;TZID=America/Los_Angeles:20260915T210000
STATUS:CONFIRMED
SUMMARY:BELLA BOCCE vs TEAM JOANIE
URL:/League/Schedule/2987
DESCRIPTION:Regular Season match: BELLA BOCCE vs TEAM JOANIE
LOCATION:Martinez Court 1
END:VEVENT
END:VCALENDAR
