BEGIN:VCALENDAR
VERSION:2.0
PRODID:-//Clayton Bocce League
METHOD:PUBLISH
BEGIN:VTIMEZONE
TZID:America/Los_Angeles
X-LIC-LOCATION:America/Los_Angeles
BEGIN:DAYLIGHT
TZOFFSETFROM:-0800
TZOFFSETTO:-0700
TZNAME:PDT
DTSTART:20070311T020000
RRULE:FREQ=YEARLY;BYMONTH=3;BYDAY=2SU
END:DAYLIGHT
BEGIN:STANDARD
TZOFFSETFROM:-0700
TZOFFSETTO:-0800
TZNAME:PST
DTSTART:20071104T020000
RRULE:FREQ=YEARLY;BYMONTH=11;BYDAY=1SU
END:STANDARD
END:VTIMEZONE
BEGIN:VEVENT
DTSTAMP:20260419T000000Z
UID:45ced0be-1b96-4054-ba44-9c755c35cced@ClaytonBocce
DTSTART;TZID=America/Los_Angeles:20260421T183000
DTEND;TZID=America/Los_Angeles:20260421T210000
STATUS:CONFIRMED
SUMMARY:PALLINO KISSERS vs BELLA BOCCE
URL:/League/Schedule/2992
DESCRIPTION:Regular Season match: PALLINO KISSERS vs BELLA B
 OCCE
LOCATION:Martinez Court 7
END:VEVENT
BEGIN:VEVENT
DTSTAMP:20260419T000000Z
UID:bd71c279-497a-4536-bda9-5517759ba8e3@ClaytonBocce
DTSTART;TZID=America/Los_Angeles:20260505T183000
DTEND;TZID=America/Los_Angeles:20260505T210000
STATUS:CONFIRMED
SUMMARY:PALLINO KISSERS vs I TOL U - JACK'S TEAM
URL:/League/Schedule/2992
DESCRIPTION:Regular Season match: PALLINO KISSERS vs I TOL U
  - JACK'S TEAM
LOCATION:Martinez Court 4
END:VEVENT
BEGIN:VEVENT
DTSTAMP:20260419T000000Z
UID:6d72658c-efeb-4493-a677-54a28860e6ff@ClaytonBocce
DTSTART;TZID=America/Los_Angeles:20260512T183000
DTEND;TZID=America/Los_Angeles:20260512T210000
STATUS:CONFIRMED
SUMMARY:PALLINO KISSERS vs THE PROS FROM DOVER
URL:/League/Schedule/2992
DESCRIPTION:Regular Season match: PALLINO KISSERS vs THE PRO
 S FROM DOVER
LOCATION:Martinez Court 5
END:VEVENT
BEGIN:VEVENT
DTSTAMP:20260419T000000Z
UID:8d139109-d741-4806-993f-9256de993c5a@ClaytonBocce
DTSTART;TZID=America/Los_Angeles:20260519T183000
DTEND;TZID=America/Los_Angeles:20260519T210000
STATUS:CONFIRMED
SUMMARY:PALLINO KISSERS vs TEAM JOANIE
URL:/League/Schedule/2992
DESCRIPTION:Regular Season match: PALLINO KISSERS vs TEAM JO
 ANIE
LOCATION:Martinez Court 11
END:VEVENT
BEGIN:VEVENT
DTSTAMP:20260419T000000Z
UID:6d3cb75d-bf67-4fa1-806a-11f70e5a48b2@ClaytonBocce
DTSTART;TZID=America/Los_Angeles:20260526T183000
DTEND;TZID=America/Los_Angeles:20260526T210000
STATUS:CONFIRMED
SUMMARY:PALLINO KISSERS vs ROLLIN' UP
URL:/League/Schedule/2992
DESCRIPTION:Regular Season match: PALLINO KISSERS vs ROLLIN'
  UP
LOCATION:Martinez Court 12
END:VEVENT
BEGIN:VEVENT
DTSTAMP:20260419T000000Z
UID:40f5d2dd-4850-45dd-a963-90f117493fb0@ClaytonBocce
DTSTART;TZID=America/Los_Angeles:20260602T183000
DTEND;TZID=America/Los_Angeles:20260602T210000
STATUS:CONFIRMED
SUMMARY:PALLINO KISSERS vs UNCONSCIOUS
URL:/League/Schedule/2992
DESCRIPTION:Regular Season match: PALLINO KISSERS vs UNCONSC
 IOUS
LOCATION:Martinez Court 15
END:VEVENT
BEGIN:VEVENT
DTSTAMP:20260419T000000Z
UID:b056be9a-a110-45d2-b8d5-e607d4302a0f@ClaytonBocce
DTSTART;TZID=America/Los_Angeles:20260609T183000
DTEND;TZID=America/Los_Angeles:20260609T210000
STATUS:CONFIRMED
SUMMARY:PALLINO KISSERS vs BELLA BOCCE
URL:/League/Schedule/2992
DESCRIPTION:Regular Season match: PALLINO KISSERS vs BELLA B
 OCCE
LOCATION:Martinez Court 3
END:VEVENT
BEGIN:VEVENT
DTSTAMP:20260419T000000Z
UID:07e664ca-d76e-443f-a84a-5dc46b2f110d@ClaytonBocce
DTSTART;TZID=America/Los_Angeles:20260623T183000
DTEND;TZID=America/Los_Angeles:20260623T210000
STATUS:CONFIRMED
SUMMARY:PALLINO KISSERS vs I TOL U - JACK'S TEAM
URL:/League/Schedule/2992
DESCRIPTION:Regular Season match: PALLINO KISSERS vs I TOL U
  - JACK'S TEAM
LOCATION:Martinez Court 6
END:VEVENT
BEGIN:VEVENT
DTSTAMP:20260419T000000Z
UID:cad0f3ad-825f-4721-b3a3-48ae82a47ee1@ClaytonBocce
DTSTART;TZID=America/Los_Angeles:20260630T183000
DTEND;TZID=America/Los_Angeles:20260630T210000
STATUS:CONFIRMED
SUMMARY:PALLINO KISSERS vs THE PROS FROM DOVER
URL:/League/Schedule/2992
DESCRIPTION:Regular Season match: PALLINO KISSERS vs THE PRO
 S FROM DOVER
LOCATION:Martinez Court 13
END:VEVENT
BEGIN:VEVENT
DTSTAMP:20260419T000000Z
UID:8b15f6f8-4964-4045-9b12-4fe50bffd011@ClaytonBocce
DTSTART;TZID=America/Los_Angeles:20260714T183000
DTEND;TZID=America/Los_Angeles:20260714T210000
STATUS:CONFIRMED
SUMMARY:PALLINO KISSERS vs TEAM JOANIE
URL:/League/Schedule/2992
DESCRIPTION:Regular Season match: PALLINO KISSERS vs TEAM JO
 ANIE
LOCATION:Martinez Court 15
END:VEVENT
BEGIN:VEVENT
DTSTAMP:20260419T000000Z
UID:6ed062bb-9488-46a4-8a95-6feaee7d32a1@ClaytonBocce
DTSTART;TZID=America/Los_Angeles:20260721T183000
DTEND;TZID=America/Los_Angeles:20260721T210000
STATUS:CONFIRMED
SUMMARY:PALLINO KISSERS vs ROLLIN' UP
URL:/League/Schedule/2992
DESCRIPTION:Regular Season match: PALLINO KISSERS vs ROLLIN'
  UP
LOCATION:Martinez Court 11
END:VEVENT
BEGIN:VEVENT
DTSTAMP:20260419T000000Z
UID:1d908f21-e004-4f5c-b028-29f599d54a5b@ClaytonBocce
DTSTART;TZID=America/Los_Angeles:20260728T183000
DTEND;TZID=America/Los_Angeles:20260728T210000
STATUS:CONFIRMED
SUMMARY:PALLINO KISSERS vs UNCONSCIOUS
URL:/League/Schedule/2992
DESCRIPTION:Regular Season match: PALLINO KISSERS vs UNCONSC
 IOUS
LOCATION:Martinez Court 1
END:VEVENT
BEGIN:VEVENT
DTSTAMP:20260419T000000Z
UID:c542b8ce-97a0-4e93-8d87-5f3a83bf3741@ClaytonBocce
DTSTART;TZID=America/Los_Angeles:20260811T183000
DTEND;TZID=America/Los_Angeles:20260811T210000
STATUS:CONFIRMED
SUMMARY:PALLINO KISSERS vs BELLA BOCCE
URL:/League/Schedule/2992
DESCRIPTION:Regular Season match: PALLINO KISSERS vs BELLA B
 OCCE
LOCATION:Martinez Court 14
END:VEVENT
BEGIN:VEVENT
DTSTAMP:20260419T000000Z
UID:ecd3a438-025b-4ddc-a6df-9335bced3013@ClaytonBocce
DTSTART;TZID=America/Los_Angeles:20260825T183000
DTEND;TZID=America/Los_Angeles:20260825T210000
STATUS:CONFIRMED
SUMMARY:PALLINO KISSERS vs I TOL U - JACK'S TEAM
URL:/League/Schedule/2992
DESCRIPTION:Regular Season match: PALLINO KISSERS vs I TOL U
  - JACK'S TEAM
LOCATION:Martinez Court 10
END:VEVENT
BEGIN:VEVENT
DTSTAMP:20260419T000000Z
UID:4bd09855-b31f-4602-bc1b-829a176f4218@ClaytonBocce
DTSTART;TZID=America/Los_Angeles:20260901T183000
DTEND;TZID=America/Los_Angeles:20260901T210000
STATUS:CONFIRMED
SUMMARY:PALLINO KISSERS vs THE PROS FROM DOVER
URL:/League/Schedule/2992
DESCRIPTION:Regular Season match: PALLINO KISSERS vs THE PRO
 S FROM DOVER
LOCATION:Martinez Court 9
END:VEVENT
BEGIN:VEVENT
DTSTAMP:20260419T000000Z
UID:1072905b-c979-4e33-85cb-22834b5c99c3@ClaytonBocce
DTSTART;TZID=America/Los_Angeles:20260908T183000
DTEND;TZID=America/Los_Angeles:20260908T210000
STATUS:CONFIRMED
SUMMARY:PALLINO KISSERS vs TEAM JOANIE
URL:/League/Schedule/2992
DESCRIPTION:Regular Season match: PALLINO KISSERS vs TEAM JO
 ANIE
LOCATION:Martinez Court 5
END:VEVENT
BEGIN:VEVENT
DTSTAMP:20260419T000000Z
UID:9076e29b-f17f-4903-8ade-aaa76f6d63f2@ClaytonBocce
DTSTART;TZID=America/Los_Angeles:20260915T183000
DTEND;TZID=America/Los_Angeles:20260915T210000
STATUS:CONFIRMED
SUMMARY:PALLINO KISSERS vs ROLLIN' UP
URL:/League/Schedule/2992
DESCRIPTION:Regular Season match: PALLINO KISSERS vs ROLLIN'
  UP
LOCATION:Martinez Court 8
END:VEVENT
BEGIN:VEVENT
DTSTAMP:20260419T000000Z
UID:311a63e7-43c4-4fa0-a5f3-d014341daeb9@ClaytonBocce
DTSTART;TZID=America/Los_Angeles:20260922T183000
DTEND;TZID=America/Los_Angeles:20260922T210000
STATUS:CONFIRMED
SUMMARY:PALLINO KISSERS vs UNCONSCIOUS
URL:/League/Schedule/2992
DESCRIPTION:Regular Season match: PALLINO KISSERS vs UNCONSC
 IOUS
LOCATION:Martinez Court 4
END:VEVENT
END:VCALENDAR
