BEGIN:VCALENDAR
VERSION:2.0
PRODID:-//Clayton Bocce League
METHOD:PUBLISH
BEGIN:VTIMEZONE
TZID:America/Los_Angeles
X-LIC-LOCATION:America/Los_Angeles
BEGIN:DAYLIGHT
TZOFFSETFROM:-0800
TZOFFSETTO:-0700
TZNAME:PDT
DTSTART:20070311T020000
RRULE:FREQ=YEARLY;BYMONTH=3;BYDAY=2SU
END:DAYLIGHT
BEGIN:STANDARD
TZOFFSETFROM:-0700
TZOFFSETTO:-0800
TZNAME:PST
DTSTART:20071104T020000
RRULE:FREQ=YEARLY;BYMONTH=11;BYDAY=1SU
END:STANDARD
END:VTIMEZONE
BEGIN:VEVENT
DTSTAMP:20260419T000000Z
UID:65e8a9d8-1976-4243-82ba-4bbeb35dea05@ClaytonBocce
DTSTART;TZID=America/Los_Angeles:20260421T183000
DTEND;TZID=America/Los_Angeles:20260421T210000
STATUS:CONFIRMED
SUMMARY:UNCONSCIOUS vs ROLLIN' UP
URL:/League/Schedule/2989
DESCRIPTION:Regular Season match: UNCONSCIOUS vs ROLLIN' UP
LOCATION:Martinez Court 9
END:VEVENT
BEGIN:VEVENT
DTSTAMP:20260419T000000Z
UID:99107fdd-0a67-433c-80fe-866b046e4a47@ClaytonBocce
DTSTART;TZID=America/Los_Angeles:20260428T183000
DTEND;TZID=America/Los_Angeles:20260428T210000
STATUS:CONFIRMED
SUMMARY:UNCONSCIOUS vs I TOL U - JACK'S TEAM
URL:/League/Schedule/2989
DESCRIPTION:Regular Season match: UNCONSCIOUS vs I TOL U - J
 ACK'S TEAM
LOCATION:Martinez Court 13
END:VEVENT
BEGIN:VEVENT
DTSTAMP:20260419T000000Z
UID:0a36b1f1-2194-4805-ba69-98e3d7f583bc@ClaytonBocce
DTSTART;TZID=America/Los_Angeles:20260505T183000
DTEND;TZID=America/Los_Angeles:20260505T210000
STATUS:CONFIRMED
SUMMARY:UNCONSCIOUS vs TEAM JOANIE
URL:/League/Schedule/2989
DESCRIPTION:Regular Season match: UNCONSCIOUS vs TEAM JOANIE
LOCATION:Martinez Court 3
END:VEVENT
BEGIN:VEVENT
DTSTAMP:20260419T000000Z
UID:f21e13be-0354-4632-a532-122f84664e46@ClaytonBocce
DTSTART;TZID=America/Los_Angeles:20260512T183000
DTEND;TZID=America/Los_Angeles:20260512T210000
STATUS:CONFIRMED
SUMMARY:UNCONSCIOUS vs BELLA BOCCE
URL:/League/Schedule/2989
DESCRIPTION:Regular Season match: UNCONSCIOUS vs BELLA BOCCE
LOCATION:Martinez Court 6
END:VEVENT
BEGIN:VEVENT
DTSTAMP:20260419T000000Z
UID:f4e033ad-62df-4b3b-b2f1-aa55ad548e98@ClaytonBocce
DTSTART;TZID=America/Los_Angeles:20260526T183000
DTEND;TZID=America/Los_Angeles:20260526T210000
STATUS:CONFIRMED
SUMMARY:UNCONSCIOUS vs THE PROS FROM DOVER
URL:/League/Schedule/2989
DESCRIPTION:Regular Season match: UNCONSCIOUS vs THE PROS FR
 OM DOVER
LOCATION:Martinez Court 11
END:VEVENT
BEGIN:VEVENT
DTSTAMP:20260419T000000Z
UID:40f5d2dd-4850-45dd-a963-90f117493fb0@ClaytonBocce
DTSTART;TZID=America/Los_Angeles:20260602T183000
DTEND;TZID=America/Los_Angeles:20260602T210000
STATUS:CONFIRMED
SUMMARY:UNCONSCIOUS vs PALLINO KISSERS
URL:/League/Schedule/2989
DESCRIPTION:Regular Season match: UNCONSCIOUS vs PALLINO KIS
 SERS
LOCATION:Martinez Court 15
END:VEVENT
BEGIN:VEVENT
DTSTAMP:20260419T000000Z
UID:933819ae-2806-42f9-94d1-11f24eedf05c@ClaytonBocce
DTSTART;TZID=America/Los_Angeles:20260609T183000
DTEND;TZID=America/Los_Angeles:20260609T210000
STATUS:CONFIRMED
SUMMARY:UNCONSCIOUS vs ROLLIN' UP
URL:/League/Schedule/2989
DESCRIPTION:Regular Season match: UNCONSCIOUS vs ROLLIN' UP
LOCATION:Martinez Court 6
END:VEVENT
BEGIN:VEVENT
DTSTAMP:20260419T000000Z
UID:9c150d24-302a-4cad-9764-c10ee32df2f2@ClaytonBocce
DTSTART;TZID=America/Los_Angeles:20260616T183000
DTEND;TZID=America/Los_Angeles:20260616T210000
STATUS:CONFIRMED
SUMMARY:UNCONSCIOUS vs I TOL U - JACK'S TEAM
URL:/League/Schedule/2989
DESCRIPTION:Regular Season match: UNCONSCIOUS vs I TOL U - J
 ACK'S TEAM
LOCATION:Martinez Court 2
END:VEVENT
BEGIN:VEVENT
DTSTAMP:20260419T000000Z
UID:7ac60eae-85a6-4a27-b3b0-3fdd69260362@ClaytonBocce
DTSTART;TZID=America/Los_Angeles:20260623T183000
DTEND;TZID=America/Los_Angeles:20260623T210000
STATUS:CONFIRMED
SUMMARY:UNCONSCIOUS vs TEAM JOANIE
URL:/League/Schedule/2989
DESCRIPTION:Regular Season match: UNCONSCIOUS vs TEAM JOANIE
LOCATION:Martinez Court 5
END:VEVENT
BEGIN:VEVENT
DTSTAMP:20260419T000000Z
UID:5faf8d6c-0446-4eb9-8900-acc3eef0b954@ClaytonBocce
DTSTART;TZID=America/Los_Angeles:20260630T183000
DTEND;TZID=America/Los_Angeles:20260630T210000
STATUS:CONFIRMED
SUMMARY:UNCONSCIOUS vs BELLA BOCCE
URL:/League/Schedule/2989
DESCRIPTION:Regular Season match: UNCONSCIOUS vs BELLA BOCCE
LOCATION:Martinez Court 14
END:VEVENT
BEGIN:VEVENT
DTSTAMP:20260419T000000Z
UID:2d32eb65-ad47-4ac9-ae03-c96f76c816c7@ClaytonBocce
DTSTART;TZID=America/Los_Angeles:20260721T183000
DTEND;TZID=America/Los_Angeles:20260721T210000
STATUS:CONFIRMED
SUMMARY:UNCONSCIOUS vs THE PROS FROM DOVER
URL:/League/Schedule/2989
DESCRIPTION:Regular Season match: UNCONSCIOUS vs THE PROS FR
 OM DOVER
LOCATION:Martinez Court 2
END:VEVENT
BEGIN:VEVENT
DTSTAMP:20260419T000000Z
UID:1d908f21-e004-4f5c-b028-29f599d54a5b@ClaytonBocce
DTSTART;TZID=America/Los_Angeles:20260728T183000
DTEND;TZID=America/Los_Angeles:20260728T210000
STATUS:CONFIRMED
SUMMARY:UNCONSCIOUS vs PALLINO KISSERS
URL:/League/Schedule/2989
DESCRIPTION:Regular Season match: UNCONSCIOUS vs PALLINO KIS
 SERS
LOCATION:Martinez Court 1
END:VEVENT
BEGIN:VEVENT
DTSTAMP:20260419T000000Z
UID:41c8ae5a-5d70-4298-afe1-9580b81d78a0@ClaytonBocce
DTSTART;TZID=America/Los_Angeles:20260811T183000
DTEND;TZID=America/Los_Angeles:20260811T210000
STATUS:CONFIRMED
SUMMARY:UNCONSCIOUS vs ROLLIN' UP
URL:/League/Schedule/2989
DESCRIPTION:Regular Season match: UNCONSCIOUS vs ROLLIN' UP
LOCATION:Martinez Court 13
END:VEVENT
BEGIN:VEVENT
DTSTAMP:20260419T000000Z
UID:dd7b7ebe-56d2-43a9-9fe2-0a3441321012@ClaytonBocce
DTSTART;TZID=America/Los_Angeles:20260818T183000
DTEND;TZID=America/Los_Angeles:20260818T210000
STATUS:CONFIRMED
SUMMARY:UNCONSCIOUS vs I TOL U - JACK'S TEAM
URL:/League/Schedule/2989
DESCRIPTION:Regular Season match: UNCONSCIOUS vs I TOL U - J
 ACK'S TEAM
LOCATION:Martinez Court 7
END:VEVENT
BEGIN:VEVENT
DTSTAMP:20260419T000000Z
UID:8daf117f-47f9-4628-bea0-4b96dcc82c9f@ClaytonBocce
DTSTART;TZID=America/Los_Angeles:20260825T183000
DTEND;TZID=America/Los_Angeles:20260825T210000
STATUS:CONFIRMED
SUMMARY:UNCONSCIOUS vs TEAM JOANIE
URL:/League/Schedule/2989
DESCRIPTION:Regular Season match: UNCONSCIOUS vs TEAM JOANIE
LOCATION:Martinez Court 12
END:VEVENT
BEGIN:VEVENT
DTSTAMP:20260419T000000Z
UID:b9c0241d-9ce1-455b-943d-b0d28ffc8493@ClaytonBocce
DTSTART;TZID=America/Los_Angeles:20260901T183000
DTEND;TZID=America/Los_Angeles:20260901T210000
STATUS:CONFIRMED
SUMMARY:UNCONSCIOUS vs BELLA BOCCE
URL:/League/Schedule/2989
DESCRIPTION:Regular Season match: UNCONSCIOUS vs BELLA BOCCE
LOCATION:Martinez Court 5
END:VEVENT
BEGIN:VEVENT
DTSTAMP:20260419T000000Z
UID:9e33d06a-f5fd-4df1-b7f4-f7fd428966c9@ClaytonBocce
DTSTART;TZID=America/Los_Angeles:20260915T183000
DTEND;TZID=America/Los_Angeles:20260915T210000
STATUS:CONFIRMED
SUMMARY:UNCONSCIOUS vs THE PROS FROM DOVER
URL:/League/Schedule/2989
DESCRIPTION:Regular Season match: UNCONSCIOUS vs THE PROS FR
 OM DOVER
LOCATION:Martinez Court 10
END:VEVENT
BEGIN:VEVENT
DTSTAMP:20260419T000000Z
UID:311a63e7-43c4-4fa0-a5f3-d014341daeb9@ClaytonBocce
DTSTART;TZID=America/Los_Angeles:20260922T183000
DTEND;TZID=America/Los_Angeles:20260922T210000
STATUS:CONFIRMED
SUMMARY:UNCONSCIOUS vs PALLINO KISSERS
URL:/League/Schedule/2989
DESCRIPTION:Regular Season match: UNCONSCIOUS vs PALLINO KIS
 SERS
LOCATION:Martinez Court 4
END:VEVENT
END:VCALENDAR
