BEGIN:VCALENDAR
VERSION:2.0
PRODID:-//Clayton Bocce League
METHOD:PUBLISH
BEGIN:VTIMEZONE
TZID:America/Los_Angeles
X-LIC-LOCATION:America/Los_Angeles
BEGIN:DAYLIGHT
TZOFFSETFROM:-0800
TZOFFSETTO:-0700
TZNAME:PDT
DTSTART:20070311T020000
RRULE:FREQ=YEARLY;BYMONTH=3;BYDAY=2SU
END:DAYLIGHT
BEGIN:STANDARD
TZOFFSETFROM:-0700
TZOFFSETTO:-0800
TZNAME:PST
DTSTART:20071104T020000
RRULE:FREQ=YEARLY;BYMONTH=11;BYDAY=1SU
END:STANDARD
END:VTIMEZONE
BEGIN:VEVENT
DTSTAMP:20260419T000000Z
UID:65e8a9d8-1976-4243-82ba-4bbeb35dea05@ClaytonBocce
DTSTART;TZID=America/Los_Angeles:20260421T183000
DTEND;TZID=America/Los_Angeles:20260421T210000
STATUS:CONFIRMED
SUMMARY:ROLLIN' UP vs UNCONSCIOUS
URL:/League/Schedule/2990
DESCRIPTION:Regular Season match: ROLLIN' UP vs UNCONSCIOUS
LOCATION:Martinez Court 9
END:VEVENT
BEGIN:VEVENT
DTSTAMP:20260419T000000Z
UID:6e241e3f-f848-439b-b8a2-97f4c74bb242@ClaytonBocce
DTSTART;TZID=America/Los_Angeles:20260428T183000
DTEND;TZID=America/Los_Angeles:20260428T210000
STATUS:CONFIRMED
SUMMARY:ROLLIN' UP vs TEAM JOANIE
URL:/League/Schedule/2990
DESCRIPTION:Regular Season match: ROLLIN' UP vs TEAM JOANIE
LOCATION:Martinez Court 14
END:VEVENT
BEGIN:VEVENT
DTSTAMP:20260419T000000Z
UID:676a9650-0863-4ee1-bf65-9c17e8db82d1@ClaytonBocce
DTSTART;TZID=America/Los_Angeles:20260505T183000
DTEND;TZID=America/Los_Angeles:20260505T210000
STATUS:CONFIRMED
SUMMARY:ROLLIN' UP vs BELLA BOCCE
URL:/League/Schedule/2990
DESCRIPTION:Regular Season match: ROLLIN' UP vs BELLA BOCCE
LOCATION:Martinez Court 2
END:VEVENT
BEGIN:VEVENT
DTSTAMP:20260419T000000Z
UID:e8993b87-6e47-4795-a3b4-6569b5d96dcd@ClaytonBocce
DTSTART;TZID=America/Los_Angeles:20260519T183000
DTEND;TZID=America/Los_Angeles:20260519T210000
STATUS:CONFIRMED
SUMMARY:ROLLIN' UP vs THE PROS FROM DOVER
URL:/League/Schedule/2990
DESCRIPTION:Regular Season match: ROLLIN' UP vs THE PROS FRO
 M DOVER
LOCATION:Martinez Court 10
END:VEVENT
BEGIN:VEVENT
DTSTAMP:20260419T000000Z
UID:6d3cb75d-bf67-4fa1-806a-11f70e5a48b2@ClaytonBocce
DTSTART;TZID=America/Los_Angeles:20260526T183000
DTEND;TZID=America/Los_Angeles:20260526T210000
STATUS:CONFIRMED
SUMMARY:ROLLIN' UP vs PALLINO KISSERS
URL:/League/Schedule/2990
DESCRIPTION:Regular Season match: ROLLIN' UP vs PALLINO KISS
 ERS
LOCATION:Martinez Court 12
END:VEVENT
BEGIN:VEVENT
DTSTAMP:20260419T000000Z
UID:bffbcb4f-a972-4294-9d91-2a8c2d203b3c@ClaytonBocce
DTSTART;TZID=America/Los_Angeles:20260602T183000
DTEND;TZID=America/Los_Angeles:20260602T210000
STATUS:CONFIRMED
SUMMARY:ROLLIN' UP vs I TOL U - JACK'S TEAM
URL:/League/Schedule/2990
DESCRIPTION:Regular Season match: ROLLIN' UP vs I TOL U - JA
 CK'S TEAM
LOCATION:Martinez Court 1
END:VEVENT
BEGIN:VEVENT
DTSTAMP:20260419T000000Z
UID:933819ae-2806-42f9-94d1-11f24eedf05c@ClaytonBocce
DTSTART;TZID=America/Los_Angeles:20260609T183000
DTEND;TZID=America/Los_Angeles:20260609T210000
STATUS:CONFIRMED
SUMMARY:ROLLIN' UP vs UNCONSCIOUS
URL:/League/Schedule/2990
DESCRIPTION:Regular Season match: ROLLIN' UP vs UNCONSCIOUS
LOCATION:Martinez Court 6
END:VEVENT
BEGIN:VEVENT
DTSTAMP:20260419T000000Z
UID:52f65cdb-ce44-4444-8b77-bb390b5be7a6@ClaytonBocce
DTSTART;TZID=America/Los_Angeles:20260616T183000
DTEND;TZID=America/Los_Angeles:20260616T210000
STATUS:CONFIRMED
SUMMARY:ROLLIN' UP vs TEAM JOANIE
URL:/League/Schedule/2990
DESCRIPTION:Regular Season match: ROLLIN' UP vs TEAM JOANIE
LOCATION:Martinez Court 15
END:VEVENT
BEGIN:VEVENT
DTSTAMP:20260419T000000Z
UID:d27e4637-e62a-485c-b04f-bad888cbed0e@ClaytonBocce
DTSTART;TZID=America/Los_Angeles:20260623T183000
DTEND;TZID=America/Los_Angeles:20260623T210000
STATUS:CONFIRMED
SUMMARY:ROLLIN' UP vs BELLA BOCCE
URL:/League/Schedule/2990
DESCRIPTION:Regular Season match: ROLLIN' UP vs BELLA BOCCE
LOCATION:Martinez Court 4
END:VEVENT
BEGIN:VEVENT
DTSTAMP:20260419T000000Z
UID:8b14df81-7dec-4f1c-ae79-28e1b16c9f0e@ClaytonBocce
DTSTART;TZID=America/Los_Angeles:20260714T183000
DTEND;TZID=America/Los_Angeles:20260714T210000
STATUS:CONFIRMED
SUMMARY:ROLLIN' UP vs THE PROS FROM DOVER
URL:/League/Schedule/2990
DESCRIPTION:Regular Season match: ROLLIN' UP vs THE PROS FRO
 M DOVER
LOCATION:Martinez Court 1
END:VEVENT
BEGIN:VEVENT
DTSTAMP:20260419T000000Z
UID:6ed062bb-9488-46a4-8a95-6feaee7d32a1@ClaytonBocce
DTSTART;TZID=America/Los_Angeles:20260721T183000
DTEND;TZID=America/Los_Angeles:20260721T210000
STATUS:CONFIRMED
SUMMARY:ROLLIN' UP vs PALLINO KISSERS
URL:/League/Schedule/2990
DESCRIPTION:Regular Season match: ROLLIN' UP vs PALLINO KISS
 ERS
LOCATION:Martinez Court 11
END:VEVENT
BEGIN:VEVENT
DTSTAMP:20260419T000000Z
UID:b120791e-9210-4d58-b343-19966f911e0c@ClaytonBocce
DTSTART;TZID=America/Los_Angeles:20260728T183000
DTEND;TZID=America/Los_Angeles:20260728T210000
STATUS:CONFIRMED
SUMMARY:ROLLIN' UP vs I TOL U - JACK'S TEAM
URL:/League/Schedule/2990
DESCRIPTION:Regular Season match: ROLLIN' UP vs I TOL U - JA
 CK'S TEAM
LOCATION:Martinez Court 14
END:VEVENT
BEGIN:VEVENT
DTSTAMP:20260419T000000Z
UID:41c8ae5a-5d70-4298-afe1-9580b81d78a0@ClaytonBocce
DTSTART;TZID=America/Los_Angeles:20260811T183000
DTEND;TZID=America/Los_Angeles:20260811T210000
STATUS:CONFIRMED
SUMMARY:ROLLIN' UP vs UNCONSCIOUS
URL:/League/Schedule/2990
DESCRIPTION:Regular Season match: ROLLIN' UP vs UNCONSCIOUS
LOCATION:Martinez Court 13
END:VEVENT
BEGIN:VEVENT
DTSTAMP:20260419T000000Z
UID:8601f9ac-8c4d-473c-9357-12e18f9d8ece@ClaytonBocce
DTSTART;TZID=America/Los_Angeles:20260818T183000
DTEND;TZID=America/Los_Angeles:20260818T210000
STATUS:CONFIRMED
SUMMARY:ROLLIN' UP vs TEAM JOANIE
URL:/League/Schedule/2990
DESCRIPTION:Regular Season match: ROLLIN' UP vs TEAM JOANIE
LOCATION:Martinez Court 9
END:VEVENT
BEGIN:VEVENT
DTSTAMP:20260419T000000Z
UID:e67c38a2-3ec4-4b7a-bc30-b6f21420b03e@ClaytonBocce
DTSTART;TZID=America/Los_Angeles:20260825T183000
DTEND;TZID=America/Los_Angeles:20260825T210000
STATUS:CONFIRMED
SUMMARY:ROLLIN' UP vs BELLA BOCCE
URL:/League/Schedule/2990
DESCRIPTION:Regular Season match: ROLLIN' UP vs BELLA BOCCE
LOCATION:Martinez Court 15
END:VEVENT
BEGIN:VEVENT
DTSTAMP:20260419T000000Z
UID:da46898c-b093-4fca-a356-0e13f6d79c5d@ClaytonBocce
DTSTART;TZID=America/Los_Angeles:20260908T183000
DTEND;TZID=America/Los_Angeles:20260908T210000
STATUS:CONFIRMED
SUMMARY:ROLLIN' UP vs THE PROS FROM DOVER
URL:/League/Schedule/2990
DESCRIPTION:Regular Season match: ROLLIN' UP vs THE PROS FRO
 M DOVER
LOCATION:Martinez Court 3
END:VEVENT
BEGIN:VEVENT
DTSTAMP:20260419T000000Z
UID:9076e29b-f17f-4903-8ade-aaa76f6d63f2@ClaytonBocce
DTSTART;TZID=America/Los_Angeles:20260915T183000
DTEND;TZID=America/Los_Angeles:20260915T210000
STATUS:CONFIRMED
SUMMARY:ROLLIN' UP vs PALLINO KISSERS
URL:/League/Schedule/2990
DESCRIPTION:Regular Season match: ROLLIN' UP vs PALLINO KISS
 ERS
LOCATION:Martinez Court 8
END:VEVENT
BEGIN:VEVENT
DTSTAMP:20260419T000000Z
UID:204a959b-469b-46dd-8d7e-1602d546cf0d@ClaytonBocce
DTSTART;TZID=America/Los_Angeles:20260922T183000
DTEND;TZID=America/Los_Angeles:20260922T210000
STATUS:CONFIRMED
SUMMARY:ROLLIN' UP vs I TOL U - JACK'S TEAM
URL:/League/Schedule/2990
DESCRIPTION:Regular Season match: ROLLIN' UP vs I TOL U - JA
 CK'S TEAM
LOCATION:Martinez Court 5
END:VEVENT
END:VCALENDAR
