BEGIN:VCALENDAR
VERSION:2.0
PRODID:-//Clayton Bocce League
METHOD:PUBLISH
BEGIN:VTIMEZONE
TZID:America/Los_Angeles
X-LIC-LOCATION:America/Los_Angeles
BEGIN:DAYLIGHT
TZOFFSETFROM:-0800
TZOFFSETTO:-0700
TZNAME:PDT
DTSTART:20070311T020000
RRULE:FREQ=YEARLY;BYMONTH=3;BYDAY=2SU
END:DAYLIGHT
BEGIN:STANDARD
TZOFFSETFROM:-0700
TZOFFSETTO:-0800
TZNAME:PST
DTSTART:20071104T020000
RRULE:FREQ=YEARLY;BYMONTH=11;BYDAY=1SU
END:STANDARD
END:VTIMEZONE
BEGIN:VEVENT
DTSTAMP:20260419T000000Z
UID:ac0a421a-44b1-452a-aee3-750fe05e47b1@ClaytonBocce
DTSTART;TZID=America/Los_Angeles:20260421T183000
DTEND;TZID=America/Los_Angeles:20260421T210000
STATUS:CONFIRMED
SUMMARY:BOCCE AMICI TOO! vs MARDI GRAS MADNESS
URL:/League/Schedule/2982
DESCRIPTION:Regular Season match: BOCCE AMICI TOO! vs MARDI 
 GRAS MADNESS
LOCATION:Martinez Court 6
END:VEVENT
BEGIN:VEVENT
DTSTAMP:20260419T000000Z
UID:50b2d771-45fb-4786-bce3-8ba7aa98b09f@ClaytonBocce
DTSTART;TZID=America/Los_Angeles:20260428T183000
DTEND;TZID=America/Los_Angeles:20260428T210000
STATUS:CONFIRMED
SUMMARY:BOCCE AMICI TOO! vs BOCCE BUSTERS
URL:/League/Schedule/2982
DESCRIPTION:Regular Season match: BOCCE AMICI TOO! vs BOCCE 
 BUSTERS
LOCATION:Martinez Court 10
END:VEVENT
BEGIN:VEVENT
DTSTAMP:20260419T000000Z
UID:a967aaca-ec56-4695-93fd-3d00c7906488@ClaytonBocce
DTSTART;TZID=America/Los_Angeles:20260505T183000
DTEND;TZID=America/Los_Angeles:20260505T210000
STATUS:CONFIRMED
SUMMARY:BOCCE AMICI TOO! vs JB SERVICES
URL:/League/Schedule/2982
DESCRIPTION:Regular Season match: BOCCE AMICI TOO! vs JB SER
 VICES
LOCATION:Martinez Court 1
END:VEVENT
BEGIN:VEVENT
DTSTAMP:20260419T000000Z
UID:23316b7f-0ec4-4076-a2fc-4f7b7ba4a058@ClaytonBocce
DTSTART;TZID=America/Los_Angeles:20260512T183000
DTEND;TZID=America/Los_Angeles:20260512T210000
STATUS:CONFIRMED
SUMMARY:BOCCE AMICI TOO! vs CHALLENGERS
URL:/League/Schedule/2982
DESCRIPTION:Regular Season match: BOCCE AMICI TOO! vs CHALLE
 NGERS
LOCATION:Martinez Court 3
END:VEVENT
BEGIN:VEVENT
DTSTAMP:20260419T000000Z
UID:d6576aa8-d652-4812-ac86-a7fffe07253d@ClaytonBocce
DTSTART;TZID=America/Los_Angeles:20260526T183000
DTEND;TZID=America/Los_Angeles:20260526T210000
STATUS:CONFIRMED
SUMMARY:BOCCE AMICI TOO! vs ROLANDELLI CONSTRUCTION
URL:/League/Schedule/2982
DESCRIPTION:Regular Season match: BOCCE AMICI TOO! vs ROLAND
 ELLI CONSTRUCTION
LOCATION:Martinez Court 8
END:VEVENT
BEGIN:VEVENT
DTSTAMP:20260419T000000Z
UID:37bf94b0-aac0-41cc-b81c-a977006adeab@ClaytonBocce
DTSTART;TZID=America/Los_Angeles:20260602T183000
DTEND;TZID=America/Los_Angeles:20260602T210000
STATUS:CONFIRMED
SUMMARY:BOCCE AMICI TOO! vs PEZZONOVANTE
URL:/League/Schedule/2982
DESCRIPTION:Regular Season match: BOCCE AMICI TOO! vs PEZZON
 OVANTE
LOCATION:Martinez Court 12
END:VEVENT
BEGIN:VEVENT
DTSTAMP:20260419T000000Z
UID:d301c91e-d67c-4e58-8740-3aa6c8f5160b@ClaytonBocce
DTSTART;TZID=America/Los_Angeles:20260609T183000
DTEND;TZID=America/Los_Angeles:20260609T210000
STATUS:CONFIRMED
SUMMARY:BOCCE AMICI TOO! vs MARDI GRAS MADNESS
URL:/League/Schedule/2982
DESCRIPTION:Regular Season match: BOCCE AMICI TOO! vs MARDI 
 GRAS MADNESS
LOCATION:Martinez Court 4
END:VEVENT
BEGIN:VEVENT
DTSTAMP:20260419T000000Z
UID:56859353-d6d2-4b74-a62d-8005993025d4@ClaytonBocce
DTSTART;TZID=America/Los_Angeles:20260616T183000
DTEND;TZID=America/Los_Angeles:20260616T210000
STATUS:CONFIRMED
SUMMARY:BOCCE AMICI TOO! vs BOCCE BUSTERS
URL:/League/Schedule/2982
DESCRIPTION:Regular Season match: BOCCE AMICI TOO! vs BOCCE 
 BUSTERS
LOCATION:Martinez Court 14
END:VEVENT
BEGIN:VEVENT
DTSTAMP:20260419T000000Z
UID:db3bc221-32e4-48fc-a947-ed0d6f3f72f8@ClaytonBocce
DTSTART;TZID=America/Los_Angeles:20260623T183000
DTEND;TZID=America/Los_Angeles:20260623T210000
STATUS:CONFIRMED
SUMMARY:BOCCE AMICI TOO! vs JB SERVICES
URL:/League/Schedule/2982
DESCRIPTION:Regular Season match: BOCCE AMICI TOO! vs JB SER
 VICES
LOCATION:Martinez Court 2
END:VEVENT
BEGIN:VEVENT
DTSTAMP:20260419T000000Z
UID:24bb3e6b-d656-4673-bde3-4e4d5436b20d@ClaytonBocce
DTSTART;TZID=America/Los_Angeles:20260630T183000
DTEND;TZID=America/Los_Angeles:20260630T210000
STATUS:CONFIRMED
SUMMARY:BOCCE AMICI TOO! vs CHALLENGERS
URL:/League/Schedule/2982
DESCRIPTION:Regular Season match: BOCCE AMICI TOO! vs CHALLE
 NGERS
LOCATION:Martinez Court 11
END:VEVENT
BEGIN:VEVENT
DTSTAMP:20260419T000000Z
UID:c4aad894-708a-4ba9-bad1-3bb5bdcc2b8a@ClaytonBocce
DTSTART;TZID=America/Los_Angeles:20260721T183000
DTEND;TZID=America/Los_Angeles:20260721T210000
STATUS:CONFIRMED
SUMMARY:BOCCE AMICI TOO! vs ROLANDELLI CONSTRUCTION
URL:/League/Schedule/2982
DESCRIPTION:Regular Season match: BOCCE AMICI TOO! vs ROLAND
 ELLI CONSTRUCTION
LOCATION:Martinez Court 15
END:VEVENT
BEGIN:VEVENT
DTSTAMP:20260419T000000Z
UID:5a39bd40-fd70-4501-a6a7-3115b4d6ebdc@ClaytonBocce
DTSTART;TZID=America/Los_Angeles:20260728T183000
DTEND;TZID=America/Los_Angeles:20260728T210000
STATUS:CONFIRMED
SUMMARY:BOCCE AMICI TOO! vs PEZZONOVANTE
URL:/League/Schedule/2982
DESCRIPTION:Regular Season match: BOCCE AMICI TOO! vs PEZZON
 OVANTE
LOCATION:Martinez Court 5
END:VEVENT
BEGIN:VEVENT
DTSTAMP:20260419T000000Z
UID:4298959a-4d9b-47d2-8a7d-983c9b64280a@ClaytonBocce
DTSTART;TZID=America/Los_Angeles:20260811T183000
DTEND;TZID=America/Los_Angeles:20260811T210000
STATUS:CONFIRMED
SUMMARY:BOCCE AMICI TOO! vs MARDI GRAS MADNESS
URL:/League/Schedule/2982
DESCRIPTION:Regular Season match: BOCCE AMICI TOO! vs MARDI 
 GRAS MADNESS
LOCATION:Martinez Court 8
END:VEVENT
BEGIN:VEVENT
DTSTAMP:20260419T000000Z
UID:b768dab5-1672-49db-948c-ac2a8370ead1@ClaytonBocce
DTSTART;TZID=America/Los_Angeles:20260818T183000
DTEND;TZID=America/Los_Angeles:20260818T210000
STATUS:CONFIRMED
SUMMARY:BOCCE AMICI TOO! vs BOCCE BUSTERS
URL:/League/Schedule/2982
DESCRIPTION:Regular Season match: BOCCE AMICI TOO! vs BOCCE 
 BUSTERS
LOCATION:Martinez Court 13
END:VEVENT
BEGIN:VEVENT
DTSTAMP:20260419T000000Z
UID:69f1be55-fb1a-47d2-93bf-c2fbf0679244@ClaytonBocce
DTSTART;TZID=America/Los_Angeles:20260825T183000
DTEND;TZID=America/Los_Angeles:20260825T210000
STATUS:CONFIRMED
SUMMARY:BOCCE AMICI TOO! vs JB SERVICES
URL:/League/Schedule/2982
DESCRIPTION:Regular Season match: BOCCE AMICI TOO! vs JB SER
 VICES
LOCATION:Martinez Court 4
END:VEVENT
BEGIN:VEVENT
DTSTAMP:20260419T000000Z
UID:07f8623b-d2b4-405d-9149-bd9368549c2e@ClaytonBocce
DTSTART;TZID=America/Los_Angeles:20260901T183000
DTEND;TZID=America/Los_Angeles:20260901T210000
STATUS:CONFIRMED
SUMMARY:BOCCE AMICI TOO! vs CHALLENGERS
URL:/League/Schedule/2982
DESCRIPTION:Regular Season match: BOCCE AMICI TOO! vs CHALLE
 NGERS
LOCATION:Martinez Court 15
END:VEVENT
BEGIN:VEVENT
DTSTAMP:20260419T000000Z
UID:e5cc1ffe-84b7-41e6-8668-24421cecc40c@ClaytonBocce
DTSTART;TZID=America/Los_Angeles:20260915T183000
DTEND;TZID=America/Los_Angeles:20260915T210000
STATUS:CONFIRMED
SUMMARY:BOCCE AMICI TOO! vs ROLANDELLI CONSTRUCTION
URL:/League/Schedule/2982
DESCRIPTION:Regular Season match: BOCCE AMICI TOO! vs ROLAND
 ELLI CONSTRUCTION
LOCATION:Martinez Court 7
END:VEVENT
BEGIN:VEVENT
DTSTAMP:20260419T000000Z
UID:e391dc12-3780-4bd8-ba99-b5a7fe9e8305@ClaytonBocce
DTSTART;TZID=America/Los_Angeles:20260922T183000
DTEND;TZID=America/Los_Angeles:20260922T210000
STATUS:CONFIRMED
SUMMARY:BOCCE AMICI TOO! vs PEZZONOVANTE
URL:/League/Schedule/2982
DESCRIPTION:Regular Season match: BOCCE AMICI TOO! vs PEZZON
 OVANTE
LOCATION:Martinez Court 9
END:VEVENT
END:VCALENDAR
