BEGIN:VCALENDAR
VERSION:2.0
PRODID:-//Clayton Bocce League
METHOD:PUBLISH
BEGIN:VTIMEZONE
TZID:America/Los_Angeles
X-LIC-LOCATION:America/Los_Angeles
BEGIN:DAYLIGHT
TZOFFSETFROM:-0800
TZOFFSETTO:-0700
TZNAME:PDT
DTSTART:20070311T020000
RRULE:FREQ=YEARLY;BYMONTH=3;BYDAY=2SU
END:DAYLIGHT
BEGIN:STANDARD
TZOFFSETFROM:-0700
TZOFFSETTO:-0800
TZNAME:PST
DTSTART:20071104T020000
RRULE:FREQ=YEARLY;BYMONTH=11;BYDAY=1SU
END:STANDARD
END:VTIMEZONE
BEGIN:VEVENT
DTSTAMP:20260419T000000Z
UID:ac0a421a-44b1-452a-aee3-750fe05e47b1@ClaytonBocce
DTSTART;TZID=America/Los_Angeles:20260421T183000
DTEND;TZID=America/Los_Angeles:20260421T210000
STATUS:CONFIRMED
SUMMARY:MARDI GRAS MADNESS vs BOCCE AMICI TOO!
URL:/League/Schedule/2983
DESCRIPTION:Regular Season match: MARDI GRAS MADNESS vs BOCC
 E AMICI TOO!
LOCATION:Martinez Court 6
END:VEVENT
BEGIN:VEVENT
DTSTAMP:20260419T000000Z
UID:38e07db5-ad87-47db-80cb-e18f4fe671a6@ClaytonBocce
DTSTART;TZID=America/Los_Angeles:20260428T183000
DTEND;TZID=America/Los_Angeles:20260428T210000
STATUS:CONFIRMED
SUMMARY:MARDI GRAS MADNESS vs JB SERVICES
URL:/League/Schedule/2983
DESCRIPTION:Regular Season match: MARDI GRAS MADNESS vs JB S
 ERVICES
LOCATION:Martinez Court 11
END:VEVENT
BEGIN:VEVENT
DTSTAMP:20260419T000000Z
UID:5ef5b94c-0a95-4453-82b3-ff227512d6b8@ClaytonBocce
DTSTART;TZID=America/Los_Angeles:20260505T183000
DTEND;TZID=America/Los_Angeles:20260505T210000
STATUS:CONFIRMED
SUMMARY:MARDI GRAS MADNESS vs CHALLENGERS
URL:/League/Schedule/2983
DESCRIPTION:Regular Season match: MARDI GRAS MADNESS vs CHAL
 LENGERS
LOCATION:Martinez Court 14
END:VEVENT
BEGIN:VEVENT
DTSTAMP:20260419T000000Z
UID:7680af45-e6c1-4508-a2bb-7f35fcfac3dd@ClaytonBocce
DTSTART;TZID=America/Los_Angeles:20260519T183000
DTEND;TZID=America/Los_Angeles:20260519T210000
STATUS:CONFIRMED
SUMMARY:MARDI GRAS MADNESS vs ROLANDELLI CONSTRUCTION
URL:/League/Schedule/2983
DESCRIPTION:Regular Season match: MARDI GRAS MADNESS vs ROLA
 NDELLI CONSTRUCTION
LOCATION:Martinez Court 7
END:VEVENT
BEGIN:VEVENT
DTSTAMP:20260419T000000Z
UID:0fbf859c-dd84-4548-b1d0-807c83ad8acc@ClaytonBocce
DTSTART;TZID=America/Los_Angeles:20260526T183000
DTEND;TZID=America/Los_Angeles:20260526T210000
STATUS:CONFIRMED
SUMMARY:MARDI GRAS MADNESS vs PEZZONOVANTE
URL:/League/Schedule/2983
DESCRIPTION:Regular Season match: MARDI GRAS MADNESS vs PEZZ
 ONOVANTE
LOCATION:Martinez Court 9
END:VEVENT
BEGIN:VEVENT
DTSTAMP:20260419T000000Z
UID:7ff875ff-f598-4aa0-bd7c-00ecbc77841b@ClaytonBocce
DTSTART;TZID=America/Los_Angeles:20260602T183000
DTEND;TZID=America/Los_Angeles:20260602T210000
STATUS:CONFIRMED
SUMMARY:MARDI GRAS MADNESS vs BOCCE BUSTERS
URL:/League/Schedule/2983
DESCRIPTION:Regular Season match: MARDI GRAS MADNESS vs BOCC
 E BUSTERS
LOCATION:Martinez Court 3
END:VEVENT
BEGIN:VEVENT
DTSTAMP:20260419T000000Z
UID:d301c91e-d67c-4e58-8740-3aa6c8f5160b@ClaytonBocce
DTSTART;TZID=America/Los_Angeles:20260609T183000
DTEND;TZID=America/Los_Angeles:20260609T210000
STATUS:CONFIRMED
SUMMARY:MARDI GRAS MADNESS vs BOCCE AMICI TOO!
URL:/League/Schedule/2983
DESCRIPTION:Regular Season match: MARDI GRAS MADNESS vs BOCC
 E AMICI TOO!
LOCATION:Martinez Court 4
END:VEVENT
BEGIN:VEVENT
DTSTAMP:20260419T000000Z
UID:71386a2c-783a-4a0f-bbb9-70d27f27e692@ClaytonBocce
DTSTART;TZID=America/Los_Angeles:20260616T183000
DTEND;TZID=America/Los_Angeles:20260616T210000
STATUS:CONFIRMED
SUMMARY:MARDI GRAS MADNESS vs JB SERVICES
URL:/League/Schedule/2983
DESCRIPTION:Regular Season match: MARDI GRAS MADNESS vs JB S
 ERVICES
LOCATION:Martinez Court 6
END:VEVENT
BEGIN:VEVENT
DTSTAMP:20260419T000000Z
UID:3690147a-f927-4c1f-93f9-297e1f40bea4@ClaytonBocce
DTSTART;TZID=America/Los_Angeles:20260623T183000
DTEND;TZID=America/Los_Angeles:20260623T210000
STATUS:CONFIRMED
SUMMARY:MARDI GRAS MADNESS vs CHALLENGERS
URL:/League/Schedule/2983
DESCRIPTION:Regular Season match: MARDI GRAS MADNESS vs CHAL
 LENGERS
LOCATION:Martinez Court 10
END:VEVENT
BEGIN:VEVENT
DTSTAMP:20260419T000000Z
UID:59252d7c-fbbc-4848-b8e5-381042e6af35@ClaytonBocce
DTSTART;TZID=America/Los_Angeles:20260714T183000
DTEND;TZID=America/Los_Angeles:20260714T210000
STATUS:CONFIRMED
SUMMARY:MARDI GRAS MADNESS vs ROLANDELLI CONSTRUCTION
URL:/League/Schedule/2983
DESCRIPTION:Regular Season match: MARDI GRAS MADNESS vs ROLA
 NDELLI CONSTRUCTION
LOCATION:Martinez Court 12
END:VEVENT
BEGIN:VEVENT
DTSTAMP:20260419T000000Z
UID:b180061e-49ea-4334-a68c-f92909e9b1c0@ClaytonBocce
DTSTART;TZID=America/Los_Angeles:20260721T183000
DTEND;TZID=America/Los_Angeles:20260721T210000
STATUS:CONFIRMED
SUMMARY:MARDI GRAS MADNESS vs PEZZONOVANTE
URL:/League/Schedule/2983
DESCRIPTION:Regular Season match: MARDI GRAS MADNESS vs PEZZ
 ONOVANTE
LOCATION:Martinez Court 14
END:VEVENT
BEGIN:VEVENT
DTSTAMP:20260419T000000Z
UID:de366328-3cd9-4bc8-846f-e4d1dc76dd3a@ClaytonBocce
DTSTART;TZID=America/Los_Angeles:20260728T183000
DTEND;TZID=America/Los_Angeles:20260728T210000
STATUS:CONFIRMED
SUMMARY:MARDI GRAS MADNESS vs BOCCE BUSTERS
URL:/League/Schedule/2983
DESCRIPTION:Regular Season match: MARDI GRAS MADNESS vs BOCC
 E BUSTERS
LOCATION:Martinez Court 7
END:VEVENT
BEGIN:VEVENT
DTSTAMP:20260419T000000Z
UID:4298959a-4d9b-47d2-8a7d-983c9b64280a@ClaytonBocce
DTSTART;TZID=America/Los_Angeles:20260811T183000
DTEND;TZID=America/Los_Angeles:20260811T210000
STATUS:CONFIRMED
SUMMARY:MARDI GRAS MADNESS vs BOCCE AMICI TOO!
URL:/League/Schedule/2983
DESCRIPTION:Regular Season match: MARDI GRAS MADNESS vs BOCC
 E AMICI TOO!
LOCATION:Martinez Court 8
END:VEVENT
BEGIN:VEVENT
DTSTAMP:20260419T000000Z
UID:4bac2511-24ff-46d0-9319-3e465a27a3dd@ClaytonBocce
DTSTART;TZID=America/Los_Angeles:20260818T183000
DTEND;TZID=America/Los_Angeles:20260818T210000
STATUS:CONFIRMED
SUMMARY:MARDI GRAS MADNESS vs JB SERVICES
URL:/League/Schedule/2983
DESCRIPTION:Regular Season match: MARDI GRAS MADNESS vs JB S
 ERVICES
LOCATION:Martinez Court 15
END:VEVENT
BEGIN:VEVENT
DTSTAMP:20260419T000000Z
UID:b2ee75e1-5646-482c-b671-de684235166d@ClaytonBocce
DTSTART;TZID=America/Los_Angeles:20260825T183000
DTEND;TZID=America/Los_Angeles:20260825T210000
STATUS:CONFIRMED
SUMMARY:MARDI GRAS MADNESS vs CHALLENGERS
URL:/League/Schedule/2983
DESCRIPTION:Regular Season match: MARDI GRAS MADNESS vs CHAL
 LENGERS
LOCATION:Martinez Court 2
END:VEVENT
BEGIN:VEVENT
DTSTAMP:20260419T000000Z
UID:17569c42-39d9-4882-bdf2-e505ebc30e4d@ClaytonBocce
DTSTART;TZID=America/Los_Angeles:20260908T183000
DTEND;TZID=America/Los_Angeles:20260908T210000
STATUS:CONFIRMED
SUMMARY:MARDI GRAS MADNESS vs ROLANDELLI CONSTRUCTION
URL:/League/Schedule/2983
DESCRIPTION:Regular Season match: MARDI GRAS MADNESS vs ROLA
 NDELLI CONSTRUCTION
LOCATION:Martinez Court 4
END:VEVENT
BEGIN:VEVENT
DTSTAMP:20260419T000000Z
UID:d7f908d3-ac3d-45f5-a90c-90a60a8277f6@ClaytonBocce
DTSTART;TZID=America/Los_Angeles:20260915T183000
DTEND;TZID=America/Los_Angeles:20260915T210000
STATUS:CONFIRMED
SUMMARY:MARDI GRAS MADNESS vs PEZZONOVANTE
URL:/League/Schedule/2983
DESCRIPTION:Regular Season match: MARDI GRAS MADNESS vs PEZZ
 ONOVANTE
LOCATION:Martinez Court 13
END:VEVENT
BEGIN:VEVENT
DTSTAMP:20260419T000000Z
UID:7c998809-8c9f-4f84-b014-ab32628e1980@ClaytonBocce
DTSTART;TZID=America/Los_Angeles:20260922T183000
DTEND;TZID=America/Los_Angeles:20260922T210000
STATUS:CONFIRMED
SUMMARY:MARDI GRAS MADNESS vs BOCCE BUSTERS
URL:/League/Schedule/2983
DESCRIPTION:Regular Season match: MARDI GRAS MADNESS vs BOCC
 E BUSTERS
LOCATION:Martinez Court 1
END:VEVENT
END:VCALENDAR
