BEGIN:VCALENDAR
VERSION:2.0
PRODID:-//Clayton Bocce League
METHOD:PUBLISH
BEGIN:VTIMEZONE
TZID:America/Los_Angeles
X-LIC-LOCATION:America/Los_Angeles
BEGIN:DAYLIGHT
TZOFFSETFROM:-0800
TZOFFSETTO:-0700
TZNAME:PDT
DTSTART:20070311T020000
RRULE:FREQ=YEARLY;BYMONTH=3;BYDAY=2SU
END:DAYLIGHT
BEGIN:STANDARD
TZOFFSETFROM:-0700
TZOFFSETTO:-0800
TZNAME:PST
DTSTART:20071104T020000
RRULE:FREQ=YEARLY;BYMONTH=11;BYDAY=1SU
END:STANDARD
END:VTIMEZONE
BEGIN:VEVENT
DTSTAMP:20260419T000000Z
UID:38e07db5-ad87-47db-80cb-e18f4fe671a6@ClaytonBocce
DTSTART;TZID=America/Los_Angeles:20260428T183000
DTEND;TZID=America/Los_Angeles:20260428T210000
STATUS:CONFIRMED
SUMMARY:JB SERVICES vs MARDI GRAS MADNESS
URL:/League/Schedule/2986
DESCRIPTION:Regular Season match: JB SERVICES vs MARDI GRAS 
 MADNESS
LOCATION:Martinez Court 11
END:VEVENT
BEGIN:VEVENT
DTSTAMP:20260419T000000Z
UID:a967aaca-ec56-4695-93fd-3d00c7906488@ClaytonBocce
DTSTART;TZID=America/Los_Angeles:20260505T183000
DTEND;TZID=America/Los_Angeles:20260505T210000
STATUS:CONFIRMED
SUMMARY:JB SERVICES vs BOCCE AMICI TOO!
URL:/League/Schedule/2986
DESCRIPTION:Regular Season match: JB SERVICES vs BOCCE AMICI
  TOO!
LOCATION:Martinez Court 1
END:VEVENT
BEGIN:VEVENT
DTSTAMP:20260419T000000Z
UID:9ec1a0b4-2067-4ac6-8c24-86f2db22b5e5@ClaytonBocce
DTSTART;TZID=America/Los_Angeles:20260512T183000
DTEND;TZID=America/Los_Angeles:20260512T210000
STATUS:CONFIRMED
SUMMARY:JB SERVICES vs BOCCE BUSTERS
URL:/League/Schedule/2986
DESCRIPTION:Regular Season match: JB SERVICES vs BOCCE BUSTE
 RS
LOCATION:Martinez Court 4
END:VEVENT
BEGIN:VEVENT
DTSTAMP:20260419T000000Z
UID:e90c733f-1640-4d70-a388-abcb8e155830@ClaytonBocce
DTSTART;TZID=America/Los_Angeles:20260519T183000
DTEND;TZID=America/Los_Angeles:20260519T210000
STATUS:CONFIRMED
SUMMARY:JB SERVICES vs PEZZONOVANTE
URL:/League/Schedule/2986
DESCRIPTION:Regular Season match: JB SERVICES vs PEZZONOVANT
 E
LOCATION:Martinez Court 8
END:VEVENT
BEGIN:VEVENT
DTSTAMP:20260419T000000Z
UID:79643896-3391-49d8-9ed9-573c54b01594@ClaytonBocce
DTSTART;TZID=America/Los_Angeles:20260526T183000
DTEND;TZID=America/Los_Angeles:20260526T210000
STATUS:CONFIRMED
SUMMARY:JB SERVICES vs CHALLENGERS
URL:/League/Schedule/2986
DESCRIPTION:Regular Season match: JB SERVICES vs CHALLENGERS
LOCATION:Martinez Court 7
END:VEVENT
BEGIN:VEVENT
DTSTAMP:20260419T000000Z
UID:3f65005f-1a27-44f8-81b4-8165a9b1183a@ClaytonBocce
DTSTART;TZID=America/Los_Angeles:20260602T183000
DTEND;TZID=America/Los_Angeles:20260602T210000
STATUS:CONFIRMED
SUMMARY:JB SERVICES vs ROLANDELLI CONSTRUCTION
URL:/League/Schedule/2986
DESCRIPTION:Regular Season match: JB SERVICES vs ROLANDELLI 
 CONSTRUCTION
LOCATION:Martinez Court 14
END:VEVENT
BEGIN:VEVENT
DTSTAMP:20260419T000000Z
UID:71386a2c-783a-4a0f-bbb9-70d27f27e692@ClaytonBocce
DTSTART;TZID=America/Los_Angeles:20260616T183000
DTEND;TZID=America/Los_Angeles:20260616T210000
STATUS:CONFIRMED
SUMMARY:JB SERVICES vs MARDI GRAS MADNESS
URL:/League/Schedule/2986
DESCRIPTION:Regular Season match: JB SERVICES vs MARDI GRAS 
 MADNESS
LOCATION:Martinez Court 6
END:VEVENT
BEGIN:VEVENT
DTSTAMP:20260419T000000Z
UID:db3bc221-32e4-48fc-a947-ed0d6f3f72f8@ClaytonBocce
DTSTART;TZID=America/Los_Angeles:20260623T183000
DTEND;TZID=America/Los_Angeles:20260623T210000
STATUS:CONFIRMED
SUMMARY:JB SERVICES vs BOCCE AMICI TOO!
URL:/League/Schedule/2986
DESCRIPTION:Regular Season match: JB SERVICES vs BOCCE AMICI
  TOO!
LOCATION:Martinez Court 2
END:VEVENT
BEGIN:VEVENT
DTSTAMP:20260419T000000Z
UID:b900a432-0490-4346-91f1-fd57cdb1e4e5@ClaytonBocce
DTSTART;TZID=America/Los_Angeles:20260630T183000
DTEND;TZID=America/Los_Angeles:20260630T210000
STATUS:CONFIRMED
SUMMARY:JB SERVICES vs BOCCE BUSTERS
URL:/League/Schedule/2986
DESCRIPTION:Regular Season match: JB SERVICES vs BOCCE BUSTE
 RS
LOCATION:Martinez Court 12
END:VEVENT
BEGIN:VEVENT
DTSTAMP:20260419T000000Z
UID:83bc6546-b613-4c1f-a748-f207ddff3884@ClaytonBocce
DTSTART;TZID=America/Los_Angeles:20260714T183000
DTEND;TZID=America/Los_Angeles:20260714T210000
STATUS:CONFIRMED
SUMMARY:JB SERVICES vs PEZZONOVANTE
URL:/League/Schedule/2986
DESCRIPTION:Regular Season match: JB SERVICES vs PEZZONOVANT
 E
LOCATION:Martinez Court 13
END:VEVENT
BEGIN:VEVENT
DTSTAMP:20260419T000000Z
UID:1bbfa880-ed15-4491-9013-ba20649f2a87@ClaytonBocce
DTSTART;TZID=America/Los_Angeles:20260721T183000
DTEND;TZID=America/Los_Angeles:20260721T210000
STATUS:CONFIRMED
SUMMARY:JB SERVICES vs CHALLENGERS
URL:/League/Schedule/2986
DESCRIPTION:Regular Season match: JB SERVICES vs CHALLENGERS
LOCATION:Martinez Court 10
END:VEVENT
BEGIN:VEVENT
DTSTAMP:20260419T000000Z
UID:a38a8718-1778-4523-9464-cdb4cc64576b@ClaytonBocce
DTSTART;TZID=America/Los_Angeles:20260728T183000
DTEND;TZID=America/Los_Angeles:20260728T210000
STATUS:CONFIRMED
SUMMARY:JB SERVICES vs ROLANDELLI CONSTRUCTION
URL:/League/Schedule/2986
DESCRIPTION:Regular Season match: JB SERVICES vs ROLANDELLI 
 CONSTRUCTION
LOCATION:Martinez Court 3
END:VEVENT
BEGIN:VEVENT
DTSTAMP:20260419T000000Z
UID:4bac2511-24ff-46d0-9319-3e465a27a3dd@ClaytonBocce
DTSTART;TZID=America/Los_Angeles:20260818T183000
DTEND;TZID=America/Los_Angeles:20260818T210000
STATUS:CONFIRMED
SUMMARY:JB SERVICES vs MARDI GRAS MADNESS
URL:/League/Schedule/2986
DESCRIPTION:Regular Season match: JB SERVICES vs MARDI GRAS 
 MADNESS
LOCATION:Martinez Court 15
END:VEVENT
BEGIN:VEVENT
DTSTAMP:20260419T000000Z
UID:69f1be55-fb1a-47d2-93bf-c2fbf0679244@ClaytonBocce
DTSTART;TZID=America/Los_Angeles:20260825T183000
DTEND;TZID=America/Los_Angeles:20260825T210000
STATUS:CONFIRMED
SUMMARY:JB SERVICES vs BOCCE AMICI TOO!
URL:/League/Schedule/2986
DESCRIPTION:Regular Season match: JB SERVICES vs BOCCE AMICI
  TOO!
LOCATION:Martinez Court 4
END:VEVENT
BEGIN:VEVENT
DTSTAMP:20260419T000000Z
UID:42d1eddd-1f92-4bc3-b3aa-f6c2e8fff7ce@ClaytonBocce
DTSTART;TZID=America/Los_Angeles:20260901T183000
DTEND;TZID=America/Los_Angeles:20260901T210000
STATUS:CONFIRMED
SUMMARY:JB SERVICES vs BOCCE BUSTERS
URL:/League/Schedule/2986
DESCRIPTION:Regular Season match: JB SERVICES vs BOCCE BUSTE
 RS
LOCATION:Martinez Court 2
END:VEVENT
BEGIN:VEVENT
DTSTAMP:20260419T000000Z
UID:193c4959-8ae9-4ea7-9297-b810c9ea5784@ClaytonBocce
DTSTART;TZID=America/Los_Angeles:20260908T183000
DTEND;TZID=America/Los_Angeles:20260908T210000
STATUS:CONFIRMED
SUMMARY:JB SERVICES vs PEZZONOVANTE
URL:/League/Schedule/2986
DESCRIPTION:Regular Season match: JB SERVICES vs PEZZONOVANT
 E
LOCATION:Martinez Court 1
END:VEVENT
BEGIN:VEVENT
DTSTAMP:20260419T000000Z
UID:512b167f-bb11-40c0-bb1a-b1155e767ff8@ClaytonBocce
DTSTART;TZID=America/Los_Angeles:20260915T183000
DTEND;TZID=America/Los_Angeles:20260915T210000
STATUS:CONFIRMED
SUMMARY:JB SERVICES vs CHALLENGERS
URL:/League/Schedule/2986
DESCRIPTION:Regular Season match: JB SERVICES vs CHALLENGERS
LOCATION:Martinez Court 9
END:VEVENT
BEGIN:VEVENT
DTSTAMP:20260419T000000Z
UID:3616d8e7-d41c-4348-bd5e-7bc47812f1bb@ClaytonBocce
DTSTART;TZID=America/Los_Angeles:20260922T183000
DTEND;TZID=America/Los_Angeles:20260922T210000
STATUS:CONFIRMED
SUMMARY:JB SERVICES vs ROLANDELLI CONSTRUCTION
URL:/League/Schedule/2986
DESCRIPTION:Regular Season match: JB SERVICES vs ROLANDELLI 
 CONSTRUCTION
LOCATION:Martinez Court 8
END:VEVENT
END:VCALENDAR
