BEGIN:VCALENDAR
VERSION:2.0
PRODID:-//Clayton Bocce League
METHOD:PUBLISH
BEGIN:VTIMEZONE
TZID:America/Los_Angeles
X-LIC-LOCATION:America/Los_Angeles
BEGIN:DAYLIGHT
TZOFFSETFROM:-0800
TZOFFSETTO:-0700
TZNAME:PDT
DTSTART:20070311T020000
RRULE:FREQ=YEARLY;BYMONTH=3;BYDAY=2SU
END:DAYLIGHT
BEGIN:STANDARD
TZOFFSETFROM:-0700
TZOFFSETTO:-0800
TZNAME:PST
DTSTART:20071104T020000
RRULE:FREQ=YEARLY;BYMONTH=11;BYDAY=1SU
END:STANDARD
END:VTIMEZONE
BEGIN:VEVENT
DTSTAMP:20260419T000000Z
UID:7985761b-f59a-4e64-a98c-c2348000577d@ClaytonBocce
DTSTART;TZID=America/Los_Angeles:20260421T183000
DTEND;TZID=America/Los_Angeles:20260421T210000
STATUS:CONFIRMED
SUMMARY:PEZZONOVANTE vs CHALLENGERS
URL:/League/Schedule/2985
DESCRIPTION:Regular Season match: PEZZONOVANTE vs CHALLENGER
 S
LOCATION:Martinez Court 4
END:VEVENT
BEGIN:VEVENT
DTSTAMP:20260419T000000Z
UID:465db1b1-3271-48f8-9a7f-a0d88600530f@ClaytonBocce
DTSTART;TZID=America/Los_Angeles:20260505T183000
DTEND;TZID=America/Los_Angeles:20260505T210000
STATUS:CONFIRMED
SUMMARY:PEZZONOVANTE vs BOCCE BUSTERS
URL:/League/Schedule/2985
DESCRIPTION:Regular Season match: PEZZONOVANTE vs BOCCE BUST
 ERS
LOCATION:Martinez Court 15
END:VEVENT
BEGIN:VEVENT
DTSTAMP:20260419T000000Z
UID:38420d99-61dc-486a-ad95-7725db2e8ca8@ClaytonBocce
DTSTART;TZID=America/Los_Angeles:20260512T183000
DTEND;TZID=America/Los_Angeles:20260512T210000
STATUS:CONFIRMED
SUMMARY:PEZZONOVANTE vs ROLANDELLI CONSTRUCTION
URL:/League/Schedule/2985
DESCRIPTION:Regular Season match: PEZZONOVANTE vs ROLANDELLI
  CONSTRUCTION
LOCATION:Martinez Court 2
END:VEVENT
BEGIN:VEVENT
DTSTAMP:20260419T000000Z
UID:e90c733f-1640-4d70-a388-abcb8e155830@ClaytonBocce
DTSTART;TZID=America/Los_Angeles:20260519T183000
DTEND;TZID=America/Los_Angeles:20260519T210000
STATUS:CONFIRMED
SUMMARY:PEZZONOVANTE vs JB SERVICES
URL:/League/Schedule/2985
DESCRIPTION:Regular Season match: PEZZONOVANTE vs JB SERVICE
 S
LOCATION:Martinez Court 8
END:VEVENT
BEGIN:VEVENT
DTSTAMP:20260419T000000Z
UID:0fbf859c-dd84-4548-b1d0-807c83ad8acc@ClaytonBocce
DTSTART;TZID=America/Los_Angeles:20260526T183000
DTEND;TZID=America/Los_Angeles:20260526T210000
STATUS:CONFIRMED
SUMMARY:PEZZONOVANTE vs MARDI GRAS MADNESS
URL:/League/Schedule/2985
DESCRIPTION:Regular Season match: PEZZONOVANTE vs MARDI GRAS
  MADNESS
LOCATION:Martinez Court 9
END:VEVENT
BEGIN:VEVENT
DTSTAMP:20260419T000000Z
UID:37bf94b0-aac0-41cc-b81c-a977006adeab@ClaytonBocce
DTSTART;TZID=America/Los_Angeles:20260602T183000
DTEND;TZID=America/Los_Angeles:20260602T210000
STATUS:CONFIRMED
SUMMARY:PEZZONOVANTE vs BOCCE AMICI TOO!
URL:/League/Schedule/2985
DESCRIPTION:Regular Season match: PEZZONOVANTE vs BOCCE AMIC
 I TOO!
LOCATION:Martinez Court 12
END:VEVENT
BEGIN:VEVENT
DTSTAMP:20260419T000000Z
UID:8d052671-4e36-4ac7-9cb5-64dccf29ef0a@ClaytonBocce
DTSTART;TZID=America/Los_Angeles:20260609T183000
DTEND;TZID=America/Los_Angeles:20260609T210000
STATUS:CONFIRMED
SUMMARY:PEZZONOVANTE vs CHALLENGERS
URL:/League/Schedule/2985
DESCRIPTION:Regular Season match: PEZZONOVANTE vs CHALLENGER
 S
LOCATION:Martinez Court 5
END:VEVENT
BEGIN:VEVENT
DTSTAMP:20260419T000000Z
UID:d6caff88-b3f8-49cb-9aa8-c23669f81690@ClaytonBocce
DTSTART;TZID=America/Los_Angeles:20260623T183000
DTEND;TZID=America/Los_Angeles:20260623T210000
STATUS:CONFIRMED
SUMMARY:PEZZONOVANTE vs BOCCE BUSTERS
URL:/League/Schedule/2985
DESCRIPTION:Regular Season match: PEZZONOVANTE vs BOCCE BUST
 ERS
LOCATION:Martinez Court 11
END:VEVENT
BEGIN:VEVENT
DTSTAMP:20260419T000000Z
UID:2b7076db-c19b-4443-ba94-5041083162bc@ClaytonBocce
DTSTART;TZID=America/Los_Angeles:20260630T183000
DTEND;TZID=America/Los_Angeles:20260630T210000
STATUS:CONFIRMED
SUMMARY:PEZZONOVANTE vs ROLANDELLI CONSTRUCTION
URL:/League/Schedule/2985
DESCRIPTION:Regular Season match: PEZZONOVANTE vs ROLANDELLI
  CONSTRUCTION
LOCATION:Martinez Court 10
END:VEVENT
BEGIN:VEVENT
DTSTAMP:20260419T000000Z
UID:83bc6546-b613-4c1f-a748-f207ddff3884@ClaytonBocce
DTSTART;TZID=America/Los_Angeles:20260714T183000
DTEND;TZID=America/Los_Angeles:20260714T210000
STATUS:CONFIRMED
SUMMARY:PEZZONOVANTE vs JB SERVICES
URL:/League/Schedule/2985
DESCRIPTION:Regular Season match: PEZZONOVANTE vs JB SERVICE
 S
LOCATION:Martinez Court 13
END:VEVENT
BEGIN:VEVENT
DTSTAMP:20260419T000000Z
UID:b180061e-49ea-4334-a68c-f92909e9b1c0@ClaytonBocce
DTSTART;TZID=America/Los_Angeles:20260721T183000
DTEND;TZID=America/Los_Angeles:20260721T210000
STATUS:CONFIRMED
SUMMARY:PEZZONOVANTE vs MARDI GRAS MADNESS
URL:/League/Schedule/2985
DESCRIPTION:Regular Season match: PEZZONOVANTE vs MARDI GRAS
  MADNESS
LOCATION:Martinez Court 14
END:VEVENT
BEGIN:VEVENT
DTSTAMP:20260419T000000Z
UID:5a39bd40-fd70-4501-a6a7-3115b4d6ebdc@ClaytonBocce
DTSTART;TZID=America/Los_Angeles:20260728T183000
DTEND;TZID=America/Los_Angeles:20260728T210000
STATUS:CONFIRMED
SUMMARY:PEZZONOVANTE vs BOCCE AMICI TOO!
URL:/League/Schedule/2985
DESCRIPTION:Regular Season match: PEZZONOVANTE vs BOCCE AMIC
 I TOO!
LOCATION:Martinez Court 5
END:VEVENT
BEGIN:VEVENT
DTSTAMP:20260419T000000Z
UID:cd2da732-2b9e-43f2-b626-3ee047133ba0@ClaytonBocce
DTSTART;TZID=America/Los_Angeles:20260811T183000
DTEND;TZID=America/Los_Angeles:20260811T210000
STATUS:CONFIRMED
SUMMARY:PEZZONOVANTE vs CHALLENGERS
URL:/League/Schedule/2985
DESCRIPTION:Regular Season match: PEZZONOVANTE vs CHALLENGER
 S
LOCATION:Martinez Court 12
END:VEVENT
BEGIN:VEVENT
DTSTAMP:20260419T000000Z
UID:90453108-f1c3-4e80-ad81-9586df8cd294@ClaytonBocce
DTSTART;TZID=America/Los_Angeles:20260825T183000
DTEND;TZID=America/Los_Angeles:20260825T210000
STATUS:CONFIRMED
SUMMARY:PEZZONOVANTE vs BOCCE BUSTERS
URL:/League/Schedule/2985
DESCRIPTION:Regular Season match: PEZZONOVANTE vs BOCCE BUST
 ERS
LOCATION:Martinez Court 3
END:VEVENT
BEGIN:VEVENT
DTSTAMP:20260419T000000Z
UID:d872fcf0-e2de-42e9-b672-55cc04e733dd@ClaytonBocce
DTSTART;TZID=America/Los_Angeles:20260901T183000
DTEND;TZID=America/Los_Angeles:20260901T210000
STATUS:CONFIRMED
SUMMARY:PEZZONOVANTE vs ROLANDELLI CONSTRUCTION
URL:/League/Schedule/2985
DESCRIPTION:Regular Season match: PEZZONOVANTE vs ROLANDELLI
  CONSTRUCTION
LOCATION:Martinez Court 6
END:VEVENT
BEGIN:VEVENT
DTSTAMP:20260419T000000Z
UID:193c4959-8ae9-4ea7-9297-b810c9ea5784@ClaytonBocce
DTSTART;TZID=America/Los_Angeles:20260908T183000
DTEND;TZID=America/Los_Angeles:20260908T210000
STATUS:CONFIRMED
SUMMARY:PEZZONOVANTE vs JB SERVICES
URL:/League/Schedule/2985
DESCRIPTION:Regular Season match: PEZZONOVANTE vs JB SERVICE
 S
LOCATION:Martinez Court 1
END:VEVENT
BEGIN:VEVENT
DTSTAMP:20260419T000000Z
UID:d7f908d3-ac3d-45f5-a90c-90a60a8277f6@ClaytonBocce
DTSTART;TZID=America/Los_Angeles:20260915T183000
DTEND;TZID=America/Los_Angeles:20260915T210000
STATUS:CONFIRMED
SUMMARY:PEZZONOVANTE vs MARDI GRAS MADNESS
URL:/League/Schedule/2985
DESCRIPTION:Regular Season match: PEZZONOVANTE vs MARDI GRAS
  MADNESS
LOCATION:Martinez Court 13
END:VEVENT
BEGIN:VEVENT
DTSTAMP:20260419T000000Z
UID:e391dc12-3780-4bd8-ba99-b5a7fe9e8305@ClaytonBocce
DTSTART;TZID=America/Los_Angeles:20260922T183000
DTEND;TZID=America/Los_Angeles:20260922T210000
STATUS:CONFIRMED
SUMMARY:PEZZONOVANTE vs BOCCE AMICI TOO!
URL:/League/Schedule/2985
DESCRIPTION:Regular Season match: PEZZONOVANTE vs BOCCE AMIC
 I TOO!
LOCATION:Martinez Court 9
END:VEVENT
END:VCALENDAR
