BEGIN:VCALENDAR
VERSION:2.0
PRODID:-//Clayton Bocce League
METHOD:PUBLISH
BEGIN:VTIMEZONE
TZID:America/Los_Angeles
X-LIC-LOCATION:America/Los_Angeles
BEGIN:DAYLIGHT
TZOFFSETFROM:-0800
TZOFFSETTO:-0700
TZNAME:PDT
DTSTART:20070311T020000
RRULE:FREQ=YEARLY;BYMONTH=3;BYDAY=2SU
END:DAYLIGHT
BEGIN:STANDARD
TZOFFSETFROM:-0700
TZOFFSETTO:-0800
TZNAME:PST
DTSTART:20071104T020000
RRULE:FREQ=YEARLY;BYMONTH=11;BYDAY=1SU
END:STANDARD
END:VTIMEZONE
BEGIN:VEVENT
DTSTAMP:20260419T000000Z
UID:7985761b-f59a-4e64-a98c-c2348000577d@ClaytonBocce
DTSTART;TZID=America/Los_Angeles:20260421T183000
DTEND;TZID=America/Los_Angeles:20260421T210000
STATUS:CONFIRMED
SUMMARY:CHALLENGERS vs PEZZONOVANTE
URL:/League/Schedule/2980
DESCRIPTION:Regular Season match: CHALLENGERS vs PEZZONOVANT
 E
LOCATION:Martinez Court 4
END:VEVENT
BEGIN:VEVENT
DTSTAMP:20260419T000000Z
UID:e365947b-c485-4987-89e6-4dcfd6d7592b@ClaytonBocce
DTSTART;TZID=America/Los_Angeles:20260428T183000
DTEND;TZID=America/Los_Angeles:20260428T210000
STATUS:CONFIRMED
SUMMARY:CHALLENGERS vs ROLANDELLI CONSTRUCTION
URL:/League/Schedule/2980
DESCRIPTION:Regular Season match: CHALLENGERS vs ROLANDELLI 
 CONSTRUCTION
LOCATION:Martinez Court 9
END:VEVENT
BEGIN:VEVENT
DTSTAMP:20260419T000000Z
UID:5ef5b94c-0a95-4453-82b3-ff227512d6b8@ClaytonBocce
DTSTART;TZID=America/Los_Angeles:20260505T183000
DTEND;TZID=America/Los_Angeles:20260505T210000
STATUS:CONFIRMED
SUMMARY:CHALLENGERS vs MARDI GRAS MADNESS
URL:/League/Schedule/2980
DESCRIPTION:Regular Season match: CHALLENGERS vs MARDI GRAS 
 MADNESS
LOCATION:Martinez Court 14
END:VEVENT
BEGIN:VEVENT
DTSTAMP:20260419T000000Z
UID:23316b7f-0ec4-4076-a2fc-4f7b7ba4a058@ClaytonBocce
DTSTART;TZID=America/Los_Angeles:20260512T183000
DTEND;TZID=America/Los_Angeles:20260512T210000
STATUS:CONFIRMED
SUMMARY:CHALLENGERS vs BOCCE AMICI TOO!
URL:/League/Schedule/2980
DESCRIPTION:Regular Season match: CHALLENGERS vs BOCCE AMICI
  TOO!
LOCATION:Martinez Court 3
END:VEVENT
BEGIN:VEVENT
DTSTAMP:20260419T000000Z
UID:5d00a509-e15c-4052-9d40-c7bc81697f7f@ClaytonBocce
DTSTART;TZID=America/Los_Angeles:20260519T183000
DTEND;TZID=America/Los_Angeles:20260519T210000
STATUS:CONFIRMED
SUMMARY:CHALLENGERS vs BOCCE BUSTERS
URL:/League/Schedule/2980
DESCRIPTION:Regular Season match: CHALLENGERS vs BOCCE BUSTE
 RS
LOCATION:Martinez Court 6
END:VEVENT
BEGIN:VEVENT
DTSTAMP:20260419T000000Z
UID:79643896-3391-49d8-9ed9-573c54b01594@ClaytonBocce
DTSTART;TZID=America/Los_Angeles:20260526T183000
DTEND;TZID=America/Los_Angeles:20260526T210000
STATUS:CONFIRMED
SUMMARY:CHALLENGERS vs JB SERVICES
URL:/League/Schedule/2980
DESCRIPTION:Regular Season match: CHALLENGERS vs JB SERVICES
LOCATION:Martinez Court 7
END:VEVENT
BEGIN:VEVENT
DTSTAMP:20260419T000000Z
UID:8d052671-4e36-4ac7-9cb5-64dccf29ef0a@ClaytonBocce
DTSTART;TZID=America/Los_Angeles:20260609T183000
DTEND;TZID=America/Los_Angeles:20260609T210000
STATUS:CONFIRMED
SUMMARY:CHALLENGERS vs PEZZONOVANTE
URL:/League/Schedule/2980
DESCRIPTION:Regular Season match: CHALLENGERS vs PEZZONOVANT
 E
LOCATION:Martinez Court 5
END:VEVENT
BEGIN:VEVENT
DTSTAMP:20260419T000000Z
UID:fe15c83b-7483-4db0-b5ae-18ab98fc7e4d@ClaytonBocce
DTSTART;TZID=America/Los_Angeles:20260616T183000
DTEND;TZID=America/Los_Angeles:20260616T210000
STATUS:CONFIRMED
SUMMARY:CHALLENGERS vs ROLANDELLI CONSTRUCTION
URL:/League/Schedule/2980
DESCRIPTION:Regular Season match: CHALLENGERS vs ROLANDELLI 
 CONSTRUCTION
LOCATION:Martinez Court 13
END:VEVENT
BEGIN:VEVENT
DTSTAMP:20260419T000000Z
UID:3690147a-f927-4c1f-93f9-297e1f40bea4@ClaytonBocce
DTSTART;TZID=America/Los_Angeles:20260623T183000
DTEND;TZID=America/Los_Angeles:20260623T210000
STATUS:CONFIRMED
SUMMARY:CHALLENGERS vs MARDI GRAS MADNESS
URL:/League/Schedule/2980
DESCRIPTION:Regular Season match: CHALLENGERS vs MARDI GRAS 
 MADNESS
LOCATION:Martinez Court 10
END:VEVENT
BEGIN:VEVENT
DTSTAMP:20260419T000000Z
UID:24bb3e6b-d656-4673-bde3-4e4d5436b20d@ClaytonBocce
DTSTART;TZID=America/Los_Angeles:20260630T183000
DTEND;TZID=America/Los_Angeles:20260630T210000
STATUS:CONFIRMED
SUMMARY:CHALLENGERS vs BOCCE AMICI TOO!
URL:/League/Schedule/2980
DESCRIPTION:Regular Season match: CHALLENGERS vs BOCCE AMICI
  TOO!
LOCATION:Martinez Court 11
END:VEVENT
BEGIN:VEVENT
DTSTAMP:20260419T000000Z
UID:d0f26d83-aaf2-4c18-ab28-11c9d0cc594c@ClaytonBocce
DTSTART;TZID=America/Los_Angeles:20260714T183000
DTEND;TZID=America/Los_Angeles:20260714T210000
STATUS:CONFIRMED
SUMMARY:CHALLENGERS vs BOCCE BUSTERS
URL:/League/Schedule/2980
DESCRIPTION:Regular Season match: CHALLENGERS vs BOCCE BUSTE
 RS
LOCATION:Martinez Court 8
END:VEVENT
BEGIN:VEVENT
DTSTAMP:20260419T000000Z
UID:1bbfa880-ed15-4491-9013-ba20649f2a87@ClaytonBocce
DTSTART;TZID=America/Los_Angeles:20260721T183000
DTEND;TZID=America/Los_Angeles:20260721T210000
STATUS:CONFIRMED
SUMMARY:CHALLENGERS vs JB SERVICES
URL:/League/Schedule/2980
DESCRIPTION:Regular Season match: CHALLENGERS vs JB SERVICES
LOCATION:Martinez Court 10
END:VEVENT
BEGIN:VEVENT
DTSTAMP:20260419T000000Z
UID:cd2da732-2b9e-43f2-b626-3ee047133ba0@ClaytonBocce
DTSTART;TZID=America/Los_Angeles:20260811T183000
DTEND;TZID=America/Los_Angeles:20260811T210000
STATUS:CONFIRMED
SUMMARY:CHALLENGERS vs PEZZONOVANTE
URL:/League/Schedule/2980
DESCRIPTION:Regular Season match: CHALLENGERS vs PEZZONOVANT
 E
LOCATION:Martinez Court 12
END:VEVENT
BEGIN:VEVENT
DTSTAMP:20260419T000000Z
UID:973194cd-7a6b-41ad-9d55-0438f8c00ccc@ClaytonBocce
DTSTART;TZID=America/Los_Angeles:20260818T183000
DTEND;TZID=America/Los_Angeles:20260818T210000
STATUS:CONFIRMED
SUMMARY:CHALLENGERS vs ROLANDELLI CONSTRUCTION
URL:/League/Schedule/2980
DESCRIPTION:Regular Season match: CHALLENGERS vs ROLANDELLI 
 CONSTRUCTION
LOCATION:Martinez Court 1
END:VEVENT
BEGIN:VEVENT
DTSTAMP:20260419T000000Z
UID:b2ee75e1-5646-482c-b671-de684235166d@ClaytonBocce
DTSTART;TZID=America/Los_Angeles:20260825T183000
DTEND;TZID=America/Los_Angeles:20260825T210000
STATUS:CONFIRMED
SUMMARY:CHALLENGERS vs MARDI GRAS MADNESS
URL:/League/Schedule/2980
DESCRIPTION:Regular Season match: CHALLENGERS vs MARDI GRAS 
 MADNESS
LOCATION:Martinez Court 2
END:VEVENT
BEGIN:VEVENT
DTSTAMP:20260419T000000Z
UID:07f8623b-d2b4-405d-9149-bd9368549c2e@ClaytonBocce
DTSTART;TZID=America/Los_Angeles:20260901T183000
DTEND;TZID=America/Los_Angeles:20260901T210000
STATUS:CONFIRMED
SUMMARY:CHALLENGERS vs BOCCE AMICI TOO!
URL:/League/Schedule/2980
DESCRIPTION:Regular Season match: CHALLENGERS vs BOCCE AMICI
  TOO!
LOCATION:Martinez Court 15
END:VEVENT
BEGIN:VEVENT
DTSTAMP:20260419T000000Z
UID:fbebdaeb-d43d-4a68-9e0f-e56c173c17c8@ClaytonBocce
DTSTART;TZID=America/Los_Angeles:20260908T183000
DTEND;TZID=America/Los_Angeles:20260908T210000
STATUS:CONFIRMED
SUMMARY:CHALLENGERS vs BOCCE BUSTERS
URL:/League/Schedule/2980
DESCRIPTION:Regular Season match: CHALLENGERS vs BOCCE BUSTE
 RS
LOCATION:Martinez Court 14
END:VEVENT
BEGIN:VEVENT
DTSTAMP:20260419T000000Z
UID:512b167f-bb11-40c0-bb1a-b1155e767ff8@ClaytonBocce
DTSTART;TZID=America/Los_Angeles:20260915T183000
DTEND;TZID=America/Los_Angeles:20260915T210000
STATUS:CONFIRMED
SUMMARY:CHALLENGERS vs JB SERVICES
URL:/League/Schedule/2980
DESCRIPTION:Regular Season match: CHALLENGERS vs JB SERVICES
LOCATION:Martinez Court 9
END:VEVENT
END:VCALENDAR
