BEGIN:VCALENDAR
VERSION:2.0
PRODID:-//Clayton Bocce League
METHOD:PUBLISH
BEGIN:VTIMEZONE
TZID:America/Los_Angeles
X-LIC-LOCATION:America/Los_Angeles
BEGIN:DAYLIGHT
TZOFFSETFROM:-0800
TZOFFSETTO:-0700
TZNAME:PDT
DTSTART:20070311T020000
RRULE:FREQ=YEARLY;BYMONTH=3;BYDAY=2SU
END:DAYLIGHT
BEGIN:STANDARD
TZOFFSETFROM:-0700
TZOFFSETTO:-0800
TZNAME:PST
DTSTART:20071104T020000
RRULE:FREQ=YEARLY;BYMONTH=11;BYDAY=1SU
END:STANDARD
END:VTIMEZONE
BEGIN:VEVENT
DTSTAMP:20260419T000000Z
UID:f811f70a-b0ee-4025-ae31-5ef74d3ae6bf@ClaytonBocce
DTSTART;TZID=America/Los_Angeles:20260421T183000
DTEND;TZID=America/Los_Angeles:20260421T210000
STATUS:CONFIRMED
SUMMARY:BOCCE BUSTERS vs ROLANDELLI CONSTRUCTION
URL:/League/Schedule/2981
DESCRIPTION:Regular Season match: BOCCE BUSTERS vs ROLANDELL
 I CONSTRUCTION
LOCATION:Martinez Court 5
END:VEVENT
BEGIN:VEVENT
DTSTAMP:20260419T000000Z
UID:50b2d771-45fb-4786-bce3-8ba7aa98b09f@ClaytonBocce
DTSTART;TZID=America/Los_Angeles:20260428T183000
DTEND;TZID=America/Los_Angeles:20260428T210000
STATUS:CONFIRMED
SUMMARY:BOCCE BUSTERS vs BOCCE AMICI TOO!
URL:/League/Schedule/2981
DESCRIPTION:Regular Season match: BOCCE BUSTERS vs BOCCE AMI
 CI TOO!
LOCATION:Martinez Court 10
END:VEVENT
BEGIN:VEVENT
DTSTAMP:20260419T000000Z
UID:465db1b1-3271-48f8-9a7f-a0d88600530f@ClaytonBocce
DTSTART;TZID=America/Los_Angeles:20260505T183000
DTEND;TZID=America/Los_Angeles:20260505T210000
STATUS:CONFIRMED
SUMMARY:BOCCE BUSTERS vs PEZZONOVANTE
URL:/League/Schedule/2981
DESCRIPTION:Regular Season match: BOCCE BUSTERS vs PEZZONOVA
 NTE
LOCATION:Martinez Court 15
END:VEVENT
BEGIN:VEVENT
DTSTAMP:20260419T000000Z
UID:9ec1a0b4-2067-4ac6-8c24-86f2db22b5e5@ClaytonBocce
DTSTART;TZID=America/Los_Angeles:20260512T183000
DTEND;TZID=America/Los_Angeles:20260512T210000
STATUS:CONFIRMED
SUMMARY:BOCCE BUSTERS vs JB SERVICES
URL:/League/Schedule/2981
DESCRIPTION:Regular Season match: BOCCE BUSTERS vs JB SERVIC
 ES
LOCATION:Martinez Court 4
END:VEVENT
BEGIN:VEVENT
DTSTAMP:20260419T000000Z
UID:5d00a509-e15c-4052-9d40-c7bc81697f7f@ClaytonBocce
DTSTART;TZID=America/Los_Angeles:20260519T183000
DTEND;TZID=America/Los_Angeles:20260519T210000
STATUS:CONFIRMED
SUMMARY:BOCCE BUSTERS vs CHALLENGERS
URL:/League/Schedule/2981
DESCRIPTION:Regular Season match: BOCCE BUSTERS vs CHALLENGE
 RS
LOCATION:Martinez Court 6
END:VEVENT
BEGIN:VEVENT
DTSTAMP:20260419T000000Z
UID:7ff875ff-f598-4aa0-bd7c-00ecbc77841b@ClaytonBocce
DTSTART;TZID=America/Los_Angeles:20260602T183000
DTEND;TZID=America/Los_Angeles:20260602T210000
STATUS:CONFIRMED
SUMMARY:BOCCE BUSTERS vs MARDI GRAS MADNESS
URL:/League/Schedule/2981
DESCRIPTION:Regular Season match: BOCCE BUSTERS vs MARDI GRA
 S MADNESS
LOCATION:Martinez Court 3
END:VEVENT
BEGIN:VEVENT
DTSTAMP:20260419T000000Z
UID:1065f595-e5f8-4d6c-915a-8907e18f674f@ClaytonBocce
DTSTART;TZID=America/Los_Angeles:20260609T183000
DTEND;TZID=America/Los_Angeles:20260609T210000
STATUS:CONFIRMED
SUMMARY:BOCCE BUSTERS vs ROLANDELLI CONSTRUCTION
URL:/League/Schedule/2981
DESCRIPTION:Regular Season match: BOCCE BUSTERS vs ROLANDELL
 I CONSTRUCTION
LOCATION:Martinez Court 9
END:VEVENT
BEGIN:VEVENT
DTSTAMP:20260419T000000Z
UID:56859353-d6d2-4b74-a62d-8005993025d4@ClaytonBocce
DTSTART;TZID=America/Los_Angeles:20260616T183000
DTEND;TZID=America/Los_Angeles:20260616T210000
STATUS:CONFIRMED
SUMMARY:BOCCE BUSTERS vs BOCCE AMICI TOO!
URL:/League/Schedule/2981
DESCRIPTION:Regular Season match: BOCCE BUSTERS vs BOCCE AMI
 CI TOO!
LOCATION:Martinez Court 14
END:VEVENT
BEGIN:VEVENT
DTSTAMP:20260419T000000Z
UID:d6caff88-b3f8-49cb-9aa8-c23669f81690@ClaytonBocce
DTSTART;TZID=America/Los_Angeles:20260623T183000
DTEND;TZID=America/Los_Angeles:20260623T210000
STATUS:CONFIRMED
SUMMARY:BOCCE BUSTERS vs PEZZONOVANTE
URL:/League/Schedule/2981
DESCRIPTION:Regular Season match: BOCCE BUSTERS vs PEZZONOVA
 NTE
LOCATION:Martinez Court 11
END:VEVENT
BEGIN:VEVENT
DTSTAMP:20260419T000000Z
UID:b900a432-0490-4346-91f1-fd57cdb1e4e5@ClaytonBocce
DTSTART;TZID=America/Los_Angeles:20260630T183000
DTEND;TZID=America/Los_Angeles:20260630T210000
STATUS:CONFIRMED
SUMMARY:BOCCE BUSTERS vs JB SERVICES
URL:/League/Schedule/2981
DESCRIPTION:Regular Season match: BOCCE BUSTERS vs JB SERVIC
 ES
LOCATION:Martinez Court 12
END:VEVENT
BEGIN:VEVENT
DTSTAMP:20260419T000000Z
UID:d0f26d83-aaf2-4c18-ab28-11c9d0cc594c@ClaytonBocce
DTSTART;TZID=America/Los_Angeles:20260714T183000
DTEND;TZID=America/Los_Angeles:20260714T210000
STATUS:CONFIRMED
SUMMARY:BOCCE BUSTERS vs CHALLENGERS
URL:/League/Schedule/2981
DESCRIPTION:Regular Season match: BOCCE BUSTERS vs CHALLENGE
 RS
LOCATION:Martinez Court 8
END:VEVENT
BEGIN:VEVENT
DTSTAMP:20260419T000000Z
UID:de366328-3cd9-4bc8-846f-e4d1dc76dd3a@ClaytonBocce
DTSTART;TZID=America/Los_Angeles:20260728T183000
DTEND;TZID=America/Los_Angeles:20260728T210000
STATUS:CONFIRMED
SUMMARY:BOCCE BUSTERS vs MARDI GRAS MADNESS
URL:/League/Schedule/2981
DESCRIPTION:Regular Season match: BOCCE BUSTERS vs MARDI GRA
 S MADNESS
LOCATION:Martinez Court 7
END:VEVENT
BEGIN:VEVENT
DTSTAMP:20260419T000000Z
UID:e770cbe4-f1a1-4d79-8a2a-9b83e420b9ea@ClaytonBocce
DTSTART;TZID=America/Los_Angeles:20260811T183000
DTEND;TZID=America/Los_Angeles:20260811T210000
STATUS:CONFIRMED
SUMMARY:BOCCE BUSTERS vs ROLANDELLI CONSTRUCTION
URL:/League/Schedule/2981
DESCRIPTION:Regular Season match: BOCCE BUSTERS vs ROLANDELL
 I CONSTRUCTION
LOCATION:Martinez Court 11
END:VEVENT
BEGIN:VEVENT
DTSTAMP:20260419T000000Z
UID:b768dab5-1672-49db-948c-ac2a8370ead1@ClaytonBocce
DTSTART;TZID=America/Los_Angeles:20260818T183000
DTEND;TZID=America/Los_Angeles:20260818T210000
STATUS:CONFIRMED
SUMMARY:BOCCE BUSTERS vs BOCCE AMICI TOO!
URL:/League/Schedule/2981
DESCRIPTION:Regular Season match: BOCCE BUSTERS vs BOCCE AMI
 CI TOO!
LOCATION:Martinez Court 13
END:VEVENT
BEGIN:VEVENT
DTSTAMP:20260419T000000Z
UID:90453108-f1c3-4e80-ad81-9586df8cd294@ClaytonBocce
DTSTART;TZID=America/Los_Angeles:20260825T183000
DTEND;TZID=America/Los_Angeles:20260825T210000
STATUS:CONFIRMED
SUMMARY:BOCCE BUSTERS vs PEZZONOVANTE
URL:/League/Schedule/2981
DESCRIPTION:Regular Season match: BOCCE BUSTERS vs PEZZONOVA
 NTE
LOCATION:Martinez Court 3
END:VEVENT
BEGIN:VEVENT
DTSTAMP:20260419T000000Z
UID:42d1eddd-1f92-4bc3-b3aa-f6c2e8fff7ce@ClaytonBocce
DTSTART;TZID=America/Los_Angeles:20260901T183000
DTEND;TZID=America/Los_Angeles:20260901T210000
STATUS:CONFIRMED
SUMMARY:BOCCE BUSTERS vs JB SERVICES
URL:/League/Schedule/2981
DESCRIPTION:Regular Season match: BOCCE BUSTERS vs JB SERVIC
 ES
LOCATION:Martinez Court 2
END:VEVENT
BEGIN:VEVENT
DTSTAMP:20260419T000000Z
UID:fbebdaeb-d43d-4a68-9e0f-e56c173c17c8@ClaytonBocce
DTSTART;TZID=America/Los_Angeles:20260908T183000
DTEND;TZID=America/Los_Angeles:20260908T210000
STATUS:CONFIRMED
SUMMARY:BOCCE BUSTERS vs CHALLENGERS
URL:/League/Schedule/2981
DESCRIPTION:Regular Season match: BOCCE BUSTERS vs CHALLENGE
 RS
LOCATION:Martinez Court 14
END:VEVENT
BEGIN:VEVENT
DTSTAMP:20260419T000000Z
UID:7c998809-8c9f-4f84-b014-ab32628e1980@ClaytonBocce
DTSTART;TZID=America/Los_Angeles:20260922T183000
DTEND;TZID=America/Los_Angeles:20260922T210000
STATUS:CONFIRMED
SUMMARY:BOCCE BUSTERS vs MARDI GRAS MADNESS
URL:/League/Schedule/2981
DESCRIPTION:Regular Season match: BOCCE BUSTERS vs MARDI GRA
 S MADNESS
LOCATION:Martinez Court 1
END:VEVENT
END:VCALENDAR
