BEGIN:VCALENDAR
VERSION:2.0
PRODID:-//Clayton Bocce League
METHOD:PUBLISH
BEGIN:VTIMEZONE
TZID:America/Los_Angeles
X-LIC-LOCATION:America/Los_Angeles
BEGIN:DAYLIGHT
TZOFFSETFROM:-0800
TZOFFSETTO:-0700
TZNAME:PDT
DTSTART:20070311T020000
RRULE:FREQ=YEARLY;BYMONTH=3;BYDAY=2SU
END:DAYLIGHT
BEGIN:STANDARD
TZOFFSETFROM:-0700
TZOFFSETTO:-0800
TZNAME:PST
DTSTART:20071104T020000
RRULE:FREQ=YEARLY;BYMONTH=11;BYDAY=1SU
END:STANDARD
END:VTIMEZONE
BEGIN:VEVENT
DTSTAMP:20260419T000000Z
UID:f811f70a-b0ee-4025-ae31-5ef74d3ae6bf@ClaytonBocce
DTSTART;TZID=America/Los_Angeles:20260421T183000
DTEND;TZID=America/Los_Angeles:20260421T210000
STATUS:CONFIRMED
SUMMARY:ROLANDELLI CONSTRUCTION vs BOCCE BUSTERS
URL:/League/Schedule/2984
DESCRIPTION:Regular Season match: ROLANDELLI CONSTRUCTION vs
  BOCCE BUSTERS
LOCATION:Martinez Court 5
END:VEVENT
BEGIN:VEVENT
DTSTAMP:20260419T000000Z
UID:e365947b-c485-4987-89e6-4dcfd6d7592b@ClaytonBocce
DTSTART;TZID=America/Los_Angeles:20260428T183000
DTEND;TZID=America/Los_Angeles:20260428T210000
STATUS:CONFIRMED
SUMMARY:ROLANDELLI CONSTRUCTION vs CHALLENGERS
URL:/League/Schedule/2984
DESCRIPTION:Regular Season match: ROLANDELLI CONSTRUCTION vs
  CHALLENGERS
LOCATION:Martinez Court 9
END:VEVENT
BEGIN:VEVENT
DTSTAMP:20260419T000000Z
UID:38420d99-61dc-486a-ad95-7725db2e8ca8@ClaytonBocce
DTSTART;TZID=America/Los_Angeles:20260512T183000
DTEND;TZID=America/Los_Angeles:20260512T210000
STATUS:CONFIRMED
SUMMARY:ROLANDELLI CONSTRUCTION vs PEZZONOVANTE
URL:/League/Schedule/2984
DESCRIPTION:Regular Season match: ROLANDELLI CONSTRUCTION vs
  PEZZONOVANTE
LOCATION:Martinez Court 2
END:VEVENT
BEGIN:VEVENT
DTSTAMP:20260419T000000Z
UID:7680af45-e6c1-4508-a2bb-7f35fcfac3dd@ClaytonBocce
DTSTART;TZID=America/Los_Angeles:20260519T183000
DTEND;TZID=America/Los_Angeles:20260519T210000
STATUS:CONFIRMED
SUMMARY:ROLANDELLI CONSTRUCTION vs MARDI GRAS MADNESS
URL:/League/Schedule/2984
DESCRIPTION:Regular Season match: ROLANDELLI CONSTRUCTION vs
  MARDI GRAS MADNESS
LOCATION:Martinez Court 7
END:VEVENT
BEGIN:VEVENT
DTSTAMP:20260419T000000Z
UID:d6576aa8-d652-4812-ac86-a7fffe07253d@ClaytonBocce
DTSTART;TZID=America/Los_Angeles:20260526T183000
DTEND;TZID=America/Los_Angeles:20260526T210000
STATUS:CONFIRMED
SUMMARY:ROLANDELLI CONSTRUCTION vs BOCCE AMICI TOO!
URL:/League/Schedule/2984
DESCRIPTION:Regular Season match: ROLANDELLI CONSTRUCTION vs
  BOCCE AMICI TOO!
LOCATION:Martinez Court 8
END:VEVENT
BEGIN:VEVENT
DTSTAMP:20260419T000000Z
UID:3f65005f-1a27-44f8-81b4-8165a9b1183a@ClaytonBocce
DTSTART;TZID=America/Los_Angeles:20260602T183000
DTEND;TZID=America/Los_Angeles:20260602T210000
STATUS:CONFIRMED
SUMMARY:ROLANDELLI CONSTRUCTION vs JB SERVICES
URL:/League/Schedule/2984
DESCRIPTION:Regular Season match: ROLANDELLI CONSTRUCTION vs
  JB SERVICES
LOCATION:Martinez Court 14
END:VEVENT
BEGIN:VEVENT
DTSTAMP:20260419T000000Z
UID:1065f595-e5f8-4d6c-915a-8907e18f674f@ClaytonBocce
DTSTART;TZID=America/Los_Angeles:20260609T183000
DTEND;TZID=America/Los_Angeles:20260609T210000
STATUS:CONFIRMED
SUMMARY:ROLANDELLI CONSTRUCTION vs BOCCE BUSTERS
URL:/League/Schedule/2984
DESCRIPTION:Regular Season match: ROLANDELLI CONSTRUCTION vs
  BOCCE BUSTERS
LOCATION:Martinez Court 9
END:VEVENT
BEGIN:VEVENT
DTSTAMP:20260419T000000Z
UID:fe15c83b-7483-4db0-b5ae-18ab98fc7e4d@ClaytonBocce
DTSTART;TZID=America/Los_Angeles:20260616T183000
DTEND;TZID=America/Los_Angeles:20260616T210000
STATUS:CONFIRMED
SUMMARY:ROLANDELLI CONSTRUCTION vs CHALLENGERS
URL:/League/Schedule/2984
DESCRIPTION:Regular Season match: ROLANDELLI CONSTRUCTION vs
  CHALLENGERS
LOCATION:Martinez Court 13
END:VEVENT
BEGIN:VEVENT
DTSTAMP:20260419T000000Z
UID:2b7076db-c19b-4443-ba94-5041083162bc@ClaytonBocce
DTSTART;TZID=America/Los_Angeles:20260630T183000
DTEND;TZID=America/Los_Angeles:20260630T210000
STATUS:CONFIRMED
SUMMARY:ROLANDELLI CONSTRUCTION vs PEZZONOVANTE
URL:/League/Schedule/2984
DESCRIPTION:Regular Season match: ROLANDELLI CONSTRUCTION vs
  PEZZONOVANTE
LOCATION:Martinez Court 10
END:VEVENT
BEGIN:VEVENT
DTSTAMP:20260419T000000Z
UID:59252d7c-fbbc-4848-b8e5-381042e6af35@ClaytonBocce
DTSTART;TZID=America/Los_Angeles:20260714T183000
DTEND;TZID=America/Los_Angeles:20260714T210000
STATUS:CONFIRMED
SUMMARY:ROLANDELLI CONSTRUCTION vs MARDI GRAS MADNESS
URL:/League/Schedule/2984
DESCRIPTION:Regular Season match: ROLANDELLI CONSTRUCTION vs
  MARDI GRAS MADNESS
LOCATION:Martinez Court 12
END:VEVENT
BEGIN:VEVENT
DTSTAMP:20260419T000000Z
UID:c4aad894-708a-4ba9-bad1-3bb5bdcc2b8a@ClaytonBocce
DTSTART;TZID=America/Los_Angeles:20260721T183000
DTEND;TZID=America/Los_Angeles:20260721T210000
STATUS:CONFIRMED
SUMMARY:ROLANDELLI CONSTRUCTION vs BOCCE AMICI TOO!
URL:/League/Schedule/2984
DESCRIPTION:Regular Season match: ROLANDELLI CONSTRUCTION vs
  BOCCE AMICI TOO!
LOCATION:Martinez Court 15
END:VEVENT
BEGIN:VEVENT
DTSTAMP:20260419T000000Z
UID:a38a8718-1778-4523-9464-cdb4cc64576b@ClaytonBocce
DTSTART;TZID=America/Los_Angeles:20260728T183000
DTEND;TZID=America/Los_Angeles:20260728T210000
STATUS:CONFIRMED
SUMMARY:ROLANDELLI CONSTRUCTION vs JB SERVICES
URL:/League/Schedule/2984
DESCRIPTION:Regular Season match: ROLANDELLI CONSTRUCTION vs
  JB SERVICES
LOCATION:Martinez Court 3
END:VEVENT
BEGIN:VEVENT
DTSTAMP:20260419T000000Z
UID:e770cbe4-f1a1-4d79-8a2a-9b83e420b9ea@ClaytonBocce
DTSTART;TZID=America/Los_Angeles:20260811T183000
DTEND;TZID=America/Los_Angeles:20260811T210000
STATUS:CONFIRMED
SUMMARY:ROLANDELLI CONSTRUCTION vs BOCCE BUSTERS
URL:/League/Schedule/2984
DESCRIPTION:Regular Season match: ROLANDELLI CONSTRUCTION vs
  BOCCE BUSTERS
LOCATION:Martinez Court 11
END:VEVENT
BEGIN:VEVENT
DTSTAMP:20260419T000000Z
UID:973194cd-7a6b-41ad-9d55-0438f8c00ccc@ClaytonBocce
DTSTART;TZID=America/Los_Angeles:20260818T183000
DTEND;TZID=America/Los_Angeles:20260818T210000
STATUS:CONFIRMED
SUMMARY:ROLANDELLI CONSTRUCTION vs CHALLENGERS
URL:/League/Schedule/2984
DESCRIPTION:Regular Season match: ROLANDELLI CONSTRUCTION vs
  CHALLENGERS
LOCATION:Martinez Court 1
END:VEVENT
BEGIN:VEVENT
DTSTAMP:20260419T000000Z
UID:d872fcf0-e2de-42e9-b672-55cc04e733dd@ClaytonBocce
DTSTART;TZID=America/Los_Angeles:20260901T183000
DTEND;TZID=America/Los_Angeles:20260901T210000
STATUS:CONFIRMED
SUMMARY:ROLANDELLI CONSTRUCTION vs PEZZONOVANTE
URL:/League/Schedule/2984
DESCRIPTION:Regular Season match: ROLANDELLI CONSTRUCTION vs
  PEZZONOVANTE
LOCATION:Martinez Court 6
END:VEVENT
BEGIN:VEVENT
DTSTAMP:20260419T000000Z
UID:17569c42-39d9-4882-bdf2-e505ebc30e4d@ClaytonBocce
DTSTART;TZID=America/Los_Angeles:20260908T183000
DTEND;TZID=America/Los_Angeles:20260908T210000
STATUS:CONFIRMED
SUMMARY:ROLANDELLI CONSTRUCTION vs MARDI GRAS MADNESS
URL:/League/Schedule/2984
DESCRIPTION:Regular Season match: ROLANDELLI CONSTRUCTION vs
  MARDI GRAS MADNESS
LOCATION:Martinez Court 4
END:VEVENT
BEGIN:VEVENT
DTSTAMP:20260419T000000Z
UID:e5cc1ffe-84b7-41e6-8668-24421cecc40c@ClaytonBocce
DTSTART;TZID=America/Los_Angeles:20260915T183000
DTEND;TZID=America/Los_Angeles:20260915T210000
STATUS:CONFIRMED
SUMMARY:ROLANDELLI CONSTRUCTION vs BOCCE AMICI TOO!
URL:/League/Schedule/2984
DESCRIPTION:Regular Season match: ROLANDELLI CONSTRUCTION vs
  BOCCE AMICI TOO!
LOCATION:Martinez Court 7
END:VEVENT
BEGIN:VEVENT
DTSTAMP:20260419T000000Z
UID:3616d8e7-d41c-4348-bd5e-7bc47812f1bb@ClaytonBocce
DTSTART;TZID=America/Los_Angeles:20260922T183000
DTEND;TZID=America/Los_Angeles:20260922T210000
STATUS:CONFIRMED
SUMMARY:ROLANDELLI CONSTRUCTION vs JB SERVICES
URL:/League/Schedule/2984
DESCRIPTION:Regular Season match: ROLANDELLI CONSTRUCTION vs
  JB SERVICES
LOCATION:Martinez Court 8
END:VEVENT
END:VCALENDAR
