BEGIN:VCALENDAR
VERSION:2.0
PRODID:-//Clayton Bocce League
METHOD:PUBLISH
BEGIN:VTIMEZONE
TZID:America/Los_Angeles
X-LIC-LOCATION:America/Los_Angeles
BEGIN:DAYLIGHT
TZOFFSETFROM:-0800
TZOFFSETTO:-0700
TZNAME:PDT
DTSTART:20070311T020000
RRULE:FREQ=YEARLY;BYMONTH=3;BYDAY=2SU
END:DAYLIGHT
BEGIN:STANDARD
TZOFFSETFROM:-0700
TZOFFSETTO:-0800
TZNAME:PST
DTSTART:20071104T020000
RRULE:FREQ=YEARLY;BYMONTH=11;BYDAY=1SU
END:STANDARD
END:VTIMEZONE
BEGIN:VEVENT
DTSTAMP:20260419T000000Z
UID:4a8bc1af-d496-4639-8216-87cda74addc2@ClaytonBocce
DTSTART;TZID=America/Los_Angeles:20260428T183000
DTEND;TZID=America/Los_Angeles:20260428T210000
STATUS:CONFIRMED
SUMMARY:BocceLeo vs ZANDONELLA CATERING
URL:/League/Schedule/2979
DESCRIPTION:Regular Season match: BocceLeo vs ZANDONELLA CAT
 ERING
LOCATION:Martinez Court 8
END:VEVENT
BEGIN:VEVENT
DTSTAMP:20260419T000000Z
UID:306eaa15-acc6-4ebb-9043-c3664250724b@ClaytonBocce
DTSTART;TZID=America/Los_Angeles:20260505T183000
DTEND;TZID=America/Los_Angeles:20260505T210000
STATUS:CONFIRMED
SUMMARY:BocceLeo vs XVENGERS
URL:/League/Schedule/2979
DESCRIPTION:Regular Season match: BocceLeo vs XVENGERS
LOCATION:Martinez Court 13
END:VEVENT
BEGIN:VEVENT
DTSTAMP:20260419T000000Z
UID:e0cf60ba-799e-45fa-a89a-0cc3c2bf9e3d@ClaytonBocce
DTSTART;TZID=America/Los_Angeles:20260512T183000
DTEND;TZID=America/Los_Angeles:20260512T210000
STATUS:CONFIRMED
SUMMARY:BocceLeo vs THE PLAYERS
URL:/League/Schedule/2979
DESCRIPTION:Regular Season match: BocceLeo vs THE PLAYERS
LOCATION:Martinez Court 1
END:VEVENT
BEGIN:VEVENT
DTSTAMP:20260419T000000Z
UID:510257a5-8fba-4e65-82c3-e735ca55c14c@ClaytonBocce
DTSTART;TZID=America/Los_Angeles:20260519T183000
DTEND;TZID=America/Los_Angeles:20260519T210000
STATUS:CONFIRMED
SUMMARY:BocceLeo vs INTERNATIONAL BOCCE
URL:/League/Schedule/2979
DESCRIPTION:Regular Season match: BocceLeo vs INTERNATIONAL 
 BOCCE
LOCATION:Martinez Court 5
END:VEVENT
BEGIN:VEVENT
DTSTAMP:20260419T000000Z
UID:df4a0a62-f995-4846-a6a1-6a0413b4d73d@ClaytonBocce
DTSTART;TZID=America/Los_Angeles:20260526T183000
DTEND;TZID=America/Los_Angeles:20260526T210000
STATUS:CONFIRMED
SUMMARY:BocceLeo vs TEAM BOB
URL:/League/Schedule/2979
DESCRIPTION:Regular Season match: BocceLeo vs TEAM BOB
LOCATION:Martinez Court 4
END:VEVENT
BEGIN:VEVENT
DTSTAMP:20260419T000000Z
UID:7736e323-2a60-4256-9589-cfbacead6b9b@ClaytonBocce
DTSTART;TZID=America/Los_Angeles:20260602T183000
DTEND;TZID=America/Los_Angeles:20260602T210000
STATUS:CONFIRMED
SUMMARY:BocceLeo vs SPED
URL:/League/Schedule/2979
DESCRIPTION:Regular Season match: BocceLeo vs SPED
LOCATION:Martinez Court 11
END:VEVENT
BEGIN:VEVENT
DTSTAMP:20260419T000000Z
UID:9083692b-bda4-4ac1-aefe-97af1f0ebec6@ClaytonBocce
DTSTART;TZID=America/Los_Angeles:20260616T183000
DTEND;TZID=America/Los_Angeles:20260616T210000
STATUS:CONFIRMED
SUMMARY:BocceLeo vs ZANDONELLA CATERING
URL:/League/Schedule/2979
DESCRIPTION:Regular Season match: BocceLeo vs ZANDONELLA CAT
 ERING
LOCATION:Martinez Court 12
END:VEVENT
BEGIN:VEVENT
DTSTAMP:20260419T000000Z
UID:baddbaae-2761-4a06-bab5-618b70b2c6ec@ClaytonBocce
DTSTART;TZID=America/Los_Angeles:20260623T183000
DTEND;TZID=America/Los_Angeles:20260623T210000
STATUS:CONFIRMED
SUMMARY:BocceLeo vs XVENGERS
URL:/League/Schedule/2979
DESCRIPTION:Regular Season match: BocceLeo vs XVENGERS
LOCATION:Martinez Court 14
END:VEVENT
BEGIN:VEVENT
DTSTAMP:20260419T000000Z
UID:2427d215-c513-45c5-a292-10fc69a4cda0@ClaytonBocce
DTSTART;TZID=America/Los_Angeles:20260630T183000
DTEND;TZID=America/Los_Angeles:20260630T210000
STATUS:CONFIRMED
SUMMARY:BocceLeo vs THE PLAYERS
URL:/League/Schedule/2979
DESCRIPTION:Regular Season match: BocceLeo vs THE PLAYERS
LOCATION:Martinez Court 9
END:VEVENT
BEGIN:VEVENT
DTSTAMP:20260419T000000Z
UID:9d536599-7c00-4f1f-88f1-c4c313f321f9@ClaytonBocce
DTSTART;TZID=America/Los_Angeles:20260714T183000
DTEND;TZID=America/Los_Angeles:20260714T210000
STATUS:CONFIRMED
SUMMARY:BocceLeo vs INTERNATIONAL BOCCE
URL:/League/Schedule/2979
DESCRIPTION:Regular Season match: BocceLeo vs INTERNATIONAL 
 BOCCE
LOCATION:Martinez Court 10
END:VEVENT
BEGIN:VEVENT
DTSTAMP:20260419T000000Z
UID:81808daa-713a-4339-b285-040f526c4021@ClaytonBocce
DTSTART;TZID=America/Los_Angeles:20260721T183000
DTEND;TZID=America/Los_Angeles:20260721T210000
STATUS:CONFIRMED
SUMMARY:BocceLeo vs TEAM BOB
URL:/League/Schedule/2979
DESCRIPTION:Regular Season match: BocceLeo vs TEAM BOB
LOCATION:Martinez Court 7
END:VEVENT
BEGIN:VEVENT
DTSTAMP:20260419T000000Z
UID:eec84f32-2216-407e-bdb8-377517ba927e@ClaytonBocce
DTSTART;TZID=America/Los_Angeles:20260728T183000
DTEND;TZID=America/Los_Angeles:20260728T210000
STATUS:CONFIRMED
SUMMARY:BocceLeo vs SPED
URL:/League/Schedule/2979
DESCRIPTION:Regular Season match: BocceLeo vs SPED
LOCATION:Martinez Court 15
END:VEVENT
BEGIN:VEVENT
DTSTAMP:20260419T000000Z
UID:1cefa0b0-080a-4fea-b32f-ff958aa02c38@ClaytonBocce
DTSTART;TZID=America/Los_Angeles:20260818T183000
DTEND;TZID=America/Los_Angeles:20260818T210000
STATUS:CONFIRMED
SUMMARY:BocceLeo vs ZANDONELLA CATERING
URL:/League/Schedule/2979
DESCRIPTION:Regular Season match: BocceLeo vs ZANDONELLA CAT
 ERING
LOCATION:Martinez Court 6
END:VEVENT
BEGIN:VEVENT
DTSTAMP:20260419T000000Z
UID:21e2737e-7673-4c3b-8dee-ea1fbf3aa151@ClaytonBocce
DTSTART;TZID=America/Los_Angeles:20260825T183000
DTEND;TZID=America/Los_Angeles:20260825T210000
STATUS:CONFIRMED
SUMMARY:BocceLeo vs XVENGERS
URL:/League/Schedule/2979
DESCRIPTION:Regular Season match: BocceLeo vs XVENGERS
LOCATION:Martinez Court 5
END:VEVENT
BEGIN:VEVENT
DTSTAMP:20260419T000000Z
UID:f168d1fe-6382-4456-bf56-8b54539c6950@ClaytonBocce
DTSTART;TZID=America/Los_Angeles:20260901T183000
DTEND;TZID=America/Los_Angeles:20260901T210000
STATUS:CONFIRMED
SUMMARY:BocceLeo vs THE PLAYERS
URL:/League/Schedule/2979
DESCRIPTION:Regular Season match: BocceLeo vs THE PLAYERS
LOCATION:Martinez Court 14
END:VEVENT
BEGIN:VEVENT
DTSTAMP:20260419T000000Z
UID:a6c3c558-56e2-4451-9154-f2210da547bd@ClaytonBocce
DTSTART;TZID=America/Los_Angeles:20260908T183000
DTEND;TZID=America/Los_Angeles:20260908T210000
STATUS:CONFIRMED
SUMMARY:BocceLeo vs INTERNATIONAL BOCCE
URL:/League/Schedule/2979
DESCRIPTION:Regular Season match: BocceLeo vs INTERNATIONAL 
 BOCCE
LOCATION:Martinez Court 10
END:VEVENT
BEGIN:VEVENT
DTSTAMP:20260419T000000Z
UID:10078a1e-4be7-412f-b47b-0bc11de70b75@ClaytonBocce
DTSTART;TZID=America/Los_Angeles:20260915T183000
DTEND;TZID=America/Los_Angeles:20260915T210000
STATUS:CONFIRMED
SUMMARY:BocceLeo vs TEAM BOB
URL:/League/Schedule/2979
DESCRIPTION:Regular Season match: BocceLeo vs TEAM BOB
LOCATION:Martinez Court 2
END:VEVENT
BEGIN:VEVENT
DTSTAMP:20260419T000000Z
UID:3c89d606-9dcb-40b7-86f1-f4018b00fc2d@ClaytonBocce
DTSTART;TZID=America/Los_Angeles:20260922T183000
DTEND;TZID=America/Los_Angeles:20260922T210000
STATUS:CONFIRMED
SUMMARY:BocceLeo vs SPED
URL:/League/Schedule/2979
DESCRIPTION:Regular Season match: BocceLeo vs SPED
LOCATION:Martinez Court 3
END:VEVENT
END:VCALENDAR
