BEGIN:VCALENDAR
VERSION:2.0
PRODID:-//Clayton Bocce League
METHOD:PUBLISH
BEGIN:VTIMEZONE
TZID:America/Los_Angeles
X-LIC-LOCATION:America/Los_Angeles
BEGIN:DAYLIGHT
TZOFFSETFROM:-0800
TZOFFSETTO:-0700
TZNAME:PDT
DTSTART:20070311T020000
RRULE:FREQ=YEARLY;BYMONTH=3;BYDAY=2SU
END:DAYLIGHT
BEGIN:STANDARD
TZOFFSETFROM:-0700
TZOFFSETTO:-0800
TZNAME:PST
DTSTART:20071104T020000
RRULE:FREQ=YEARLY;BYMONTH=11;BYDAY=1SU
END:STANDARD
END:VTIMEZONE
BEGIN:VEVENT
DTSTAMP:20260419T000000Z
UID:c08949c2-727f-49f1-bdf8-9cbdd641d4e2@ClaytonBocce
DTSTART;TZID=America/Los_Angeles:20260421T183000
DTEND;TZID=America/Los_Angeles:20260421T210000
STATUS:CONFIRMED
SUMMARY:THE PLAYERS vs SPED
URL:/League/Schedule/2974
DESCRIPTION:Regular Season match: THE PLAYERS vs SPED
LOCATION:Martinez Court 2
END:VEVENT
BEGIN:VEVENT
DTSTAMP:20260419T000000Z
UID:24b10e8e-ef07-465f-be72-e55aaca3ef87@ClaytonBocce
DTSTART;TZID=America/Los_Angeles:20260428T183000
DTEND;TZID=America/Los_Angeles:20260428T210000
STATUS:CONFIRMED
SUMMARY:THE PLAYERS vs XVENGERS
URL:/League/Schedule/2974
DESCRIPTION:Regular Season match: THE PLAYERS vs XVENGERS
LOCATION:Martinez Court 7
END:VEVENT
BEGIN:VEVENT
DTSTAMP:20260419T000000Z
UID:44731d42-34e2-4538-8916-d95c3123f676@ClaytonBocce
DTSTART;TZID=America/Los_Angeles:20260505T183000
DTEND;TZID=America/Los_Angeles:20260505T210000
STATUS:CONFIRMED
SUMMARY:THE PLAYERS vs INTERNATIONAL BOCCE
URL:/League/Schedule/2974
DESCRIPTION:Regular Season match: THE PLAYERS vs INTERNATION
 AL BOCCE
LOCATION:Martinez Court 12
END:VEVENT
BEGIN:VEVENT
DTSTAMP:20260419T000000Z
UID:e0cf60ba-799e-45fa-a89a-0cc3c2bf9e3d@ClaytonBocce
DTSTART;TZID=America/Los_Angeles:20260512T183000
DTEND;TZID=America/Los_Angeles:20260512T210000
STATUS:CONFIRMED
SUMMARY:THE PLAYERS vs BocceLeo
URL:/League/Schedule/2974
DESCRIPTION:Regular Season match: THE PLAYERS vs BocceLeo
LOCATION:Martinez Court 1
END:VEVENT
BEGIN:VEVENT
DTSTAMP:20260419T000000Z
UID:04f2809f-7384-4db9-a84f-bd057fe6f7ab@ClaytonBocce
DTSTART;TZID=America/Los_Angeles:20260519T183000
DTEND;TZID=America/Los_Angeles:20260519T210000
STATUS:CONFIRMED
SUMMARY:THE PLAYERS vs TEAM BOB
URL:/League/Schedule/2974
DESCRIPTION:Regular Season match: THE PLAYERS vs TEAM BOB
LOCATION:Martinez Court 3
END:VEVENT
BEGIN:VEVENT
DTSTAMP:20260419T000000Z
UID:b7741394-0198-406f-8695-1cbe1332435e@ClaytonBocce
DTSTART;TZID=America/Los_Angeles:20260602T183000
DTEND;TZID=America/Los_Angeles:20260602T210000
STATUS:CONFIRMED
SUMMARY:THE PLAYERS vs ZANDONELLA CATERING
URL:/League/Schedule/2974
DESCRIPTION:Regular Season match: THE PLAYERS vs ZANDONELLA 
 CATERING
LOCATION:Martinez Court 10
END:VEVENT
BEGIN:VEVENT
DTSTAMP:20260419T000000Z
UID:34e3c520-bb82-479a-97d1-1cb8d8024138@ClaytonBocce
DTSTART;TZID=America/Los_Angeles:20260609T183000
DTEND;TZID=America/Los_Angeles:20260609T210000
STATUS:CONFIRMED
SUMMARY:THE PLAYERS vs SPED
URL:/League/Schedule/2974
DESCRIPTION:Regular Season match: THE PLAYERS vs SPED
LOCATION:Martinez Court 8
END:VEVENT
BEGIN:VEVENT
DTSTAMP:20260419T000000Z
UID:c90dc464-768e-49a6-b4a2-d314a35fe426@ClaytonBocce
DTSTART;TZID=America/Los_Angeles:20260616T183000
DTEND;TZID=America/Los_Angeles:20260616T210000
STATUS:CONFIRMED
SUMMARY:THE PLAYERS vs XVENGERS
URL:/League/Schedule/2974
DESCRIPTION:Regular Season match: THE PLAYERS vs XVENGERS
LOCATION:Martinez Court 4
END:VEVENT
BEGIN:VEVENT
DTSTAMP:20260419T000000Z
UID:022cad67-7fbe-4fca-99d0-5f9112b9eb96@ClaytonBocce
DTSTART;TZID=America/Los_Angeles:20260623T183000
DTEND;TZID=America/Los_Angeles:20260623T210000
STATUS:CONFIRMED
SUMMARY:THE PLAYERS vs INTERNATIONAL BOCCE
URL:/League/Schedule/2974
DESCRIPTION:Regular Season match: THE PLAYERS vs INTERNATION
 AL BOCCE
LOCATION:Martinez Court 15
END:VEVENT
BEGIN:VEVENT
DTSTAMP:20260419T000000Z
UID:2427d215-c513-45c5-a292-10fc69a4cda0@ClaytonBocce
DTSTART;TZID=America/Los_Angeles:20260630T183000
DTEND;TZID=America/Los_Angeles:20260630T210000
STATUS:CONFIRMED
SUMMARY:THE PLAYERS vs BocceLeo
URL:/League/Schedule/2974
DESCRIPTION:Regular Season match: THE PLAYERS vs BocceLeo
LOCATION:Martinez Court 9
END:VEVENT
BEGIN:VEVENT
DTSTAMP:20260419T000000Z
UID:05efcef0-6f69-4b71-abe9-05cf95da7d45@ClaytonBocce
DTSTART;TZID=America/Los_Angeles:20260714T183000
DTEND;TZID=America/Los_Angeles:20260714T210000
STATUS:CONFIRMED
SUMMARY:THE PLAYERS vs TEAM BOB
URL:/League/Schedule/2974
DESCRIPTION:Regular Season match: THE PLAYERS vs TEAM BOB
LOCATION:Martinez Court 5
END:VEVENT
BEGIN:VEVENT
DTSTAMP:20260419T000000Z
UID:443d0ba6-8e7b-4612-8158-09766bc956be@ClaytonBocce
DTSTART;TZID=America/Los_Angeles:20260728T183000
DTEND;TZID=America/Los_Angeles:20260728T210000
STATUS:CONFIRMED
SUMMARY:THE PLAYERS vs ZANDONELLA CATERING
URL:/League/Schedule/2974
DESCRIPTION:Regular Season match: THE PLAYERS vs ZANDONELLA 
 CATERING
LOCATION:Martinez Court 13
END:VEVENT
BEGIN:VEVENT
DTSTAMP:20260419T000000Z
UID:0487689e-445a-484e-9772-127a337d9c9b@ClaytonBocce
DTSTART;TZID=America/Los_Angeles:20260811T183000
DTEND;TZID=America/Los_Angeles:20260811T210000
STATUS:CONFIRMED
SUMMARY:THE PLAYERS vs SPED
URL:/League/Schedule/2974
DESCRIPTION:Regular Season match: THE PLAYERS vs SPED
LOCATION:Martinez Court 10
END:VEVENT
BEGIN:VEVENT
DTSTAMP:20260419T000000Z
UID:22fb3eee-085d-413a-8477-f8f7befca237@ClaytonBocce
DTSTART;TZID=America/Los_Angeles:20260818T183000
DTEND;TZID=America/Los_Angeles:20260818T210000
STATUS:CONFIRMED
SUMMARY:THE PLAYERS vs XVENGERS
URL:/League/Schedule/2974
DESCRIPTION:Regular Season match: THE PLAYERS vs XVENGERS
LOCATION:Martinez Court 2
END:VEVENT
BEGIN:VEVENT
DTSTAMP:20260419T000000Z
UID:c6a1ef7a-cd39-4809-a391-5e3e88d28b17@ClaytonBocce
DTSTART;TZID=America/Los_Angeles:20260825T183000
DTEND;TZID=America/Los_Angeles:20260825T210000
STATUS:CONFIRMED
SUMMARY:THE PLAYERS vs INTERNATIONAL BOCCE
URL:/League/Schedule/2974
DESCRIPTION:Regular Season match: THE PLAYERS vs INTERNATION
 AL BOCCE
LOCATION:Martinez Court 6
END:VEVENT
BEGIN:VEVENT
DTSTAMP:20260419T000000Z
UID:f168d1fe-6382-4456-bf56-8b54539c6950@ClaytonBocce
DTSTART;TZID=America/Los_Angeles:20260901T183000
DTEND;TZID=America/Los_Angeles:20260901T210000
STATUS:CONFIRMED
SUMMARY:THE PLAYERS vs BocceLeo
URL:/League/Schedule/2974
DESCRIPTION:Regular Season match: THE PLAYERS vs BocceLeo
LOCATION:Martinez Court 14
END:VEVENT
BEGIN:VEVENT
DTSTAMP:20260419T000000Z
UID:2ecfdb06-ebc4-48ae-bec3-59c055d71112@ClaytonBocce
DTSTART;TZID=America/Los_Angeles:20260908T183000
DTEND;TZID=America/Los_Angeles:20260908T210000
STATUS:CONFIRMED
SUMMARY:THE PLAYERS vs TEAM BOB
URL:/League/Schedule/2974
DESCRIPTION:Regular Season match: THE PLAYERS vs TEAM BOB
LOCATION:Martinez Court 11
END:VEVENT
BEGIN:VEVENT
DTSTAMP:20260419T000000Z
UID:8bc719a2-c22a-43d1-a16b-c2f77c17c6ec@ClaytonBocce
DTSTART;TZID=America/Los_Angeles:20260922T183000
DTEND;TZID=America/Los_Angeles:20260922T210000
STATUS:CONFIRMED
SUMMARY:THE PLAYERS vs ZANDONELLA CATERING
URL:/League/Schedule/2974
DESCRIPTION:Regular Season match: THE PLAYERS vs ZANDONELLA 
 CATERING
LOCATION:Martinez Court 15
END:VEVENT
END:VCALENDAR
