BEGIN:VCALENDAR
VERSION:2.0
PRODID:-//Clayton Bocce League
METHOD:PUBLISH
BEGIN:VTIMEZONE
TZID:America/Los_Angeles
X-LIC-LOCATION:America/Los_Angeles
BEGIN:DAYLIGHT
TZOFFSETFROM:-0800
TZOFFSETTO:-0700
TZNAME:PDT
DTSTART:20070311T020000
RRULE:FREQ=YEARLY;BYMONTH=3;BYDAY=2SU
END:DAYLIGHT
BEGIN:STANDARD
TZOFFSETFROM:-0700
TZOFFSETTO:-0800
TZNAME:PST
DTSTART:20071104T020000
RRULE:FREQ=YEARLY;BYMONTH=11;BYDAY=1SU
END:STANDARD
END:VTIMEZONE
BEGIN:VEVENT
DTSTAMP:20260419T000000Z
UID:c08949c2-727f-49f1-bdf8-9cbdd641d4e2@ClaytonBocce
DTSTART;TZID=America/Los_Angeles:20260421T183000
DTEND;TZID=America/Los_Angeles:20260421T210000
STATUS:CONFIRMED
SUMMARY:SPED vs THE PLAYERS
URL:/League/Schedule/2977
DESCRIPTION:Regular Season match: SPED vs THE PLAYERS
LOCATION:Martinez Court 2
END:VEVENT
BEGIN:VEVENT
DTSTAMP:20260419T000000Z
UID:2b3b0ad4-3ae0-4784-a7d6-c6dba3002ec8@ClaytonBocce
DTSTART;TZID=America/Los_Angeles:20260428T183000
DTEND;TZID=America/Los_Angeles:20260428T210000
STATUS:CONFIRMED
SUMMARY:SPED vs TEAM BOB
URL:/League/Schedule/2977
DESCRIPTION:Regular Season match: SPED vs TEAM BOB
LOCATION:Martinez Court 6
END:VEVENT
BEGIN:VEVENT
DTSTAMP:20260419T000000Z
UID:de8795d0-e668-43a7-9da8-094952e9bd19@ClaytonBocce
DTSTART;TZID=America/Los_Angeles:20260512T183000
DTEND;TZID=America/Los_Angeles:20260512T210000
STATUS:CONFIRMED
SUMMARY:SPED vs INTERNATIONAL BOCCE
URL:/League/Schedule/2977
DESCRIPTION:Regular Season match: SPED vs INTERNATIONAL BOCC
 E
LOCATION:Martinez Court 14
END:VEVENT
BEGIN:VEVENT
DTSTAMP:20260419T000000Z
UID:fc279c43-cacd-437f-8c51-2fa9dafec316@ClaytonBocce
DTSTART;TZID=America/Los_Angeles:20260519T183000
DTEND;TZID=America/Los_Angeles:20260519T210000
STATUS:CONFIRMED
SUMMARY:SPED vs ZANDONELLA CATERING
URL:/League/Schedule/2977
DESCRIPTION:Regular Season match: SPED vs ZANDONELLA CATERIN
 G
LOCATION:Martinez Court 4
END:VEVENT
BEGIN:VEVENT
DTSTAMP:20260419T000000Z
UID:ad6253ba-bac8-432a-9e47-2716c9726c25@ClaytonBocce
DTSTART;TZID=America/Los_Angeles:20260526T183000
DTEND;TZID=America/Los_Angeles:20260526T210000
STATUS:CONFIRMED
SUMMARY:SPED vs XVENGERS
URL:/League/Schedule/2977
DESCRIPTION:Regular Season match: SPED vs XVENGERS
LOCATION:Martinez Court 5
END:VEVENT
BEGIN:VEVENT
DTSTAMP:20260419T000000Z
UID:7736e323-2a60-4256-9589-cfbacead6b9b@ClaytonBocce
DTSTART;TZID=America/Los_Angeles:20260602T183000
DTEND;TZID=America/Los_Angeles:20260602T210000
STATUS:CONFIRMED
SUMMARY:SPED vs BocceLeo
URL:/League/Schedule/2977
DESCRIPTION:Regular Season match: SPED vs BocceLeo
LOCATION:Martinez Court 11
END:VEVENT
BEGIN:VEVENT
DTSTAMP:20260419T000000Z
UID:34e3c520-bb82-479a-97d1-1cb8d8024138@ClaytonBocce
DTSTART;TZID=America/Los_Angeles:20260609T183000
DTEND;TZID=America/Los_Angeles:20260609T210000
STATUS:CONFIRMED
SUMMARY:SPED vs THE PLAYERS
URL:/League/Schedule/2977
DESCRIPTION:Regular Season match: SPED vs THE PLAYERS
LOCATION:Martinez Court 8
END:VEVENT
BEGIN:VEVENT
DTSTAMP:20260419T000000Z
UID:a4067bfa-8934-46ad-9803-671f9fbd2196@ClaytonBocce
DTSTART;TZID=America/Los_Angeles:20260616T183000
DTEND;TZID=America/Los_Angeles:20260616T210000
STATUS:CONFIRMED
SUMMARY:SPED vs TEAM BOB
URL:/League/Schedule/2977
DESCRIPTION:Regular Season match: SPED vs TEAM BOB
LOCATION:Martinez Court 10
END:VEVENT
BEGIN:VEVENT
DTSTAMP:20260419T000000Z
UID:d0869e48-1a57-435d-9893-08ce62bc9c04@ClaytonBocce
DTSTART;TZID=America/Los_Angeles:20260630T183000
DTEND;TZID=America/Los_Angeles:20260630T210000
STATUS:CONFIRMED
SUMMARY:SPED vs INTERNATIONAL BOCCE
URL:/League/Schedule/2977
DESCRIPTION:Regular Season match: SPED vs INTERNATIONAL BOCC
 E
LOCATION:Martinez Court 7
END:VEVENT
BEGIN:VEVENT
DTSTAMP:20260419T000000Z
UID:61111937-83e2-4760-bfd0-7caf64feba42@ClaytonBocce
DTSTART;TZID=America/Los_Angeles:20260714T183000
DTEND;TZID=America/Los_Angeles:20260714T210000
STATUS:CONFIRMED
SUMMARY:SPED vs ZANDONELLA CATERING
URL:/League/Schedule/2977
DESCRIPTION:Regular Season match: SPED vs ZANDONELLA CATERIN
 G
LOCATION:Martinez Court 9
END:VEVENT
BEGIN:VEVENT
DTSTAMP:20260419T000000Z
UID:ec0fed25-3c7a-4a77-a3e5-8eb783c809a0@ClaytonBocce
DTSTART;TZID=America/Los_Angeles:20260721T183000
DTEND;TZID=America/Los_Angeles:20260721T210000
STATUS:CONFIRMED
SUMMARY:SPED vs XVENGERS
URL:/League/Schedule/2977
DESCRIPTION:Regular Season match: SPED vs XVENGERS
LOCATION:Martinez Court 12
END:VEVENT
BEGIN:VEVENT
DTSTAMP:20260419T000000Z
UID:eec84f32-2216-407e-bdb8-377517ba927e@ClaytonBocce
DTSTART;TZID=America/Los_Angeles:20260728T183000
DTEND;TZID=America/Los_Angeles:20260728T210000
STATUS:CONFIRMED
SUMMARY:SPED vs BocceLeo
URL:/League/Schedule/2977
DESCRIPTION:Regular Season match: SPED vs BocceLeo
LOCATION:Martinez Court 15
END:VEVENT
BEGIN:VEVENT
DTSTAMP:20260419T000000Z
UID:0487689e-445a-484e-9772-127a337d9c9b@ClaytonBocce
DTSTART;TZID=America/Los_Angeles:20260811T183000
DTEND;TZID=America/Los_Angeles:20260811T210000
STATUS:CONFIRMED
SUMMARY:SPED vs THE PLAYERS
URL:/League/Schedule/2977
DESCRIPTION:Regular Season match: SPED vs THE PLAYERS
LOCATION:Martinez Court 10
END:VEVENT
BEGIN:VEVENT
DTSTAMP:20260419T000000Z
UID:ab006c9e-9c3e-4ccc-a975-e308ce9b9ac4@ClaytonBocce
DTSTART;TZID=America/Los_Angeles:20260818T183000
DTEND;TZID=America/Los_Angeles:20260818T210000
STATUS:CONFIRMED
SUMMARY:SPED vs TEAM BOB
URL:/League/Schedule/2977
DESCRIPTION:Regular Season match: SPED vs TEAM BOB
LOCATION:Martinez Court 3
END:VEVENT
BEGIN:VEVENT
DTSTAMP:20260419T000000Z
UID:ce37c2fa-a817-4dd7-ae9f-430a9fd2c060@ClaytonBocce
DTSTART;TZID=America/Los_Angeles:20260901T183000
DTEND;TZID=America/Los_Angeles:20260901T210000
STATUS:CONFIRMED
SUMMARY:SPED vs INTERNATIONAL BOCCE
URL:/League/Schedule/2977
DESCRIPTION:Regular Season match: SPED vs INTERNATIONAL BOCC
 E
LOCATION:Martinez Court 13
END:VEVENT
BEGIN:VEVENT
DTSTAMP:20260419T000000Z
UID:677d282a-7067-4618-93d1-5debf15f9729@ClaytonBocce
DTSTART;TZID=America/Los_Angeles:20260908T183000
DTEND;TZID=America/Los_Angeles:20260908T210000
STATUS:CONFIRMED
SUMMARY:SPED vs ZANDONELLA CATERING
URL:/League/Schedule/2977
DESCRIPTION:Regular Season match: SPED vs ZANDONELLA CATERIN
 G
LOCATION:Martinez Court 2
END:VEVENT
BEGIN:VEVENT
DTSTAMP:20260419T000000Z
UID:9c67e96f-85ac-44c3-a6e0-5e8c5ae61f75@ClaytonBocce
DTSTART;TZID=America/Los_Angeles:20260915T183000
DTEND;TZID=America/Los_Angeles:20260915T210000
STATUS:CONFIRMED
SUMMARY:SPED vs XVENGERS
URL:/League/Schedule/2977
DESCRIPTION:Regular Season match: SPED vs XVENGERS
LOCATION:Martinez Court 6
END:VEVENT
BEGIN:VEVENT
DTSTAMP:20260419T000000Z
UID:3c89d606-9dcb-40b7-86f1-f4018b00fc2d@ClaytonBocce
DTSTART;TZID=America/Los_Angeles:20260922T183000
DTEND;TZID=America/Los_Angeles:20260922T210000
STATUS:CONFIRMED
SUMMARY:SPED vs BocceLeo
URL:/League/Schedule/2977
DESCRIPTION:Regular Season match: SPED vs BocceLeo
LOCATION:Martinez Court 3
END:VEVENT
END:VCALENDAR
