BEGIN:VCALENDAR
VERSION:2.0
PRODID:-//Clayton Bocce League
METHOD:PUBLISH
BEGIN:VTIMEZONE
TZID:America/Los_Angeles
X-LIC-LOCATION:America/Los_Angeles
BEGIN:DAYLIGHT
TZOFFSETFROM:-0800
TZOFFSETTO:-0700
TZNAME:PDT
DTSTART:20070311T020000
RRULE:FREQ=YEARLY;BYMONTH=3;BYDAY=2SU
END:DAYLIGHT
BEGIN:STANDARD
TZOFFSETFROM:-0700
TZOFFSETTO:-0800
TZNAME:PST
DTSTART:20071104T020000
RRULE:FREQ=YEARLY;BYMONTH=11;BYDAY=1SU
END:STANDARD
END:VTIMEZONE
BEGIN:VEVENT
DTSTAMP:20260419T000000Z
UID:9f04e928-d49b-48b6-8ab1-2625135f8154@ClaytonBocce
DTSTART;TZID=America/Los_Angeles:20260421T183000
DTEND;TZID=America/Los_Angeles:20260421T210000
STATUS:CONFIRMED
SUMMARY:XVENGERS vs ZANDONELLA CATERING
URL:/League/Schedule/2975
DESCRIPTION:Regular Season match: XVENGERS vs ZANDONELLA CAT
 ERING
LOCATION:Martinez Court 3
END:VEVENT
BEGIN:VEVENT
DTSTAMP:20260419T000000Z
UID:24b10e8e-ef07-465f-be72-e55aaca3ef87@ClaytonBocce
DTSTART;TZID=America/Los_Angeles:20260428T183000
DTEND;TZID=America/Los_Angeles:20260428T210000
STATUS:CONFIRMED
SUMMARY:XVENGERS vs THE PLAYERS
URL:/League/Schedule/2975
DESCRIPTION:Regular Season match: XVENGERS vs THE PLAYERS
LOCATION:Martinez Court 7
END:VEVENT
BEGIN:VEVENT
DTSTAMP:20260419T000000Z
UID:306eaa15-acc6-4ebb-9043-c3664250724b@ClaytonBocce
DTSTART;TZID=America/Los_Angeles:20260505T183000
DTEND;TZID=America/Los_Angeles:20260505T210000
STATUS:CONFIRMED
SUMMARY:XVENGERS vs BocceLeo
URL:/League/Schedule/2975
DESCRIPTION:Regular Season match: XVENGERS vs BocceLeo
LOCATION:Martinez Court 13
END:VEVENT
BEGIN:VEVENT
DTSTAMP:20260419T000000Z
UID:6274f253-91c0-442a-9b2e-2de88965caba@ClaytonBocce
DTSTART;TZID=America/Los_Angeles:20260512T183000
DTEND;TZID=America/Los_Angeles:20260512T210000
STATUS:CONFIRMED
SUMMARY:XVENGERS vs TEAM BOB
URL:/League/Schedule/2975
DESCRIPTION:Regular Season match: XVENGERS vs TEAM BOB
LOCATION:Martinez Court 15
END:VEVENT
BEGIN:VEVENT
DTSTAMP:20260419T000000Z
UID:ad6253ba-bac8-432a-9e47-2716c9726c25@ClaytonBocce
DTSTART;TZID=America/Los_Angeles:20260526T183000
DTEND;TZID=America/Los_Angeles:20260526T210000
STATUS:CONFIRMED
SUMMARY:XVENGERS vs SPED
URL:/League/Schedule/2975
DESCRIPTION:Regular Season match: XVENGERS vs SPED
LOCATION:Martinez Court 5
END:VEVENT
BEGIN:VEVENT
DTSTAMP:20260419T000000Z
UID:dc4ac78a-2553-40ad-a348-56559edcf592@ClaytonBocce
DTSTART;TZID=America/Los_Angeles:20260602T183000
DTEND;TZID=America/Los_Angeles:20260602T210000
STATUS:CONFIRMED
SUMMARY:XVENGERS vs INTERNATIONAL BOCCE
URL:/League/Schedule/2975
DESCRIPTION:Regular Season match: XVENGERS vs INTERNATIONAL 
 BOCCE
LOCATION:Martinez Court 9
END:VEVENT
BEGIN:VEVENT
DTSTAMP:20260419T000000Z
UID:1bd52743-8470-4b1e-97c7-784036ba2abf@ClaytonBocce
DTSTART;TZID=America/Los_Angeles:20260609T183000
DTEND;TZID=America/Los_Angeles:20260609T210000
STATUS:CONFIRMED
SUMMARY:XVENGERS vs ZANDONELLA CATERING
URL:/League/Schedule/2975
DESCRIPTION:Regular Season match: XVENGERS vs ZANDONELLA CAT
 ERING
LOCATION:Martinez Court 1
END:VEVENT
BEGIN:VEVENT
DTSTAMP:20260419T000000Z
UID:c90dc464-768e-49a6-b4a2-d314a35fe426@ClaytonBocce
DTSTART;TZID=America/Los_Angeles:20260616T183000
DTEND;TZID=America/Los_Angeles:20260616T210000
STATUS:CONFIRMED
SUMMARY:XVENGERS vs THE PLAYERS
URL:/League/Schedule/2975
DESCRIPTION:Regular Season match: XVENGERS vs THE PLAYERS
LOCATION:Martinez Court 4
END:VEVENT
BEGIN:VEVENT
DTSTAMP:20260419T000000Z
UID:baddbaae-2761-4a06-bab5-618b70b2c6ec@ClaytonBocce
DTSTART;TZID=America/Los_Angeles:20260623T183000
DTEND;TZID=America/Los_Angeles:20260623T210000
STATUS:CONFIRMED
SUMMARY:XVENGERS vs BocceLeo
URL:/League/Schedule/2975
DESCRIPTION:Regular Season match: XVENGERS vs BocceLeo
LOCATION:Martinez Court 14
END:VEVENT
BEGIN:VEVENT
DTSTAMP:20260419T000000Z
UID:d26db88e-4f19-4eaa-b5e3-ebd76f875e07@ClaytonBocce
DTSTART;TZID=America/Los_Angeles:20260630T183000
DTEND;TZID=America/Los_Angeles:20260630T210000
STATUS:CONFIRMED
SUMMARY:XVENGERS vs TEAM BOB
URL:/League/Schedule/2975
DESCRIPTION:Regular Season match: XVENGERS vs TEAM BOB
LOCATION:Martinez Court 8
END:VEVENT
BEGIN:VEVENT
DTSTAMP:20260419T000000Z
UID:ec0fed25-3c7a-4a77-a3e5-8eb783c809a0@ClaytonBocce
DTSTART;TZID=America/Los_Angeles:20260721T183000
DTEND;TZID=America/Los_Angeles:20260721T210000
STATUS:CONFIRMED
SUMMARY:XVENGERS vs SPED
URL:/League/Schedule/2975
DESCRIPTION:Regular Season match: XVENGERS vs SPED
LOCATION:Martinez Court 12
END:VEVENT
BEGIN:VEVENT
DTSTAMP:20260419T000000Z
UID:7fd05830-f036-4728-8378-9e4c855b5265@ClaytonBocce
DTSTART;TZID=America/Los_Angeles:20260728T183000
DTEND;TZID=America/Los_Angeles:20260728T210000
STATUS:CONFIRMED
SUMMARY:XVENGERS vs INTERNATIONAL BOCCE
URL:/League/Schedule/2975
DESCRIPTION:Regular Season match: XVENGERS vs INTERNATIONAL 
 BOCCE
LOCATION:Martinez Court 4
END:VEVENT
BEGIN:VEVENT
DTSTAMP:20260419T000000Z
UID:34065bb2-3f9a-4247-964e-ca783c37ef20@ClaytonBocce
DTSTART;TZID=America/Los_Angeles:20260811T183000
DTEND;TZID=America/Los_Angeles:20260811T210000
STATUS:CONFIRMED
SUMMARY:XVENGERS vs ZANDONELLA CATERING
URL:/League/Schedule/2975
DESCRIPTION:Regular Season match: XVENGERS vs ZANDONELLA CAT
 ERING
LOCATION:Martinez Court 7
END:VEVENT
BEGIN:VEVENT
DTSTAMP:20260419T000000Z
UID:22fb3eee-085d-413a-8477-f8f7befca237@ClaytonBocce
DTSTART;TZID=America/Los_Angeles:20260818T183000
DTEND;TZID=America/Los_Angeles:20260818T210000
STATUS:CONFIRMED
SUMMARY:XVENGERS vs THE PLAYERS
URL:/League/Schedule/2975
DESCRIPTION:Regular Season match: XVENGERS vs THE PLAYERS
LOCATION:Martinez Court 2
END:VEVENT
BEGIN:VEVENT
DTSTAMP:20260419T000000Z
UID:21e2737e-7673-4c3b-8dee-ea1fbf3aa151@ClaytonBocce
DTSTART;TZID=America/Los_Angeles:20260825T183000
DTEND;TZID=America/Los_Angeles:20260825T210000
STATUS:CONFIRMED
SUMMARY:XVENGERS vs BocceLeo
URL:/League/Schedule/2975
DESCRIPTION:Regular Season match: XVENGERS vs BocceLeo
LOCATION:Martinez Court 5
END:VEVENT
BEGIN:VEVENT
DTSTAMP:20260419T000000Z
UID:0907ad03-1895-49af-8fdb-bc908007da5d@ClaytonBocce
DTSTART;TZID=America/Los_Angeles:20260901T183000
DTEND;TZID=America/Los_Angeles:20260901T210000
STATUS:CONFIRMED
SUMMARY:XVENGERS vs TEAM BOB
URL:/League/Schedule/2975
DESCRIPTION:Regular Season match: XVENGERS vs TEAM BOB
LOCATION:Martinez Court 12
END:VEVENT
BEGIN:VEVENT
DTSTAMP:20260419T000000Z
UID:9c67e96f-85ac-44c3-a6e0-5e8c5ae61f75@ClaytonBocce
DTSTART;TZID=America/Los_Angeles:20260915T183000
DTEND;TZID=America/Los_Angeles:20260915T210000
STATUS:CONFIRMED
SUMMARY:XVENGERS vs SPED
URL:/League/Schedule/2975
DESCRIPTION:Regular Season match: XVENGERS vs SPED
LOCATION:Martinez Court 6
END:VEVENT
BEGIN:VEVENT
DTSTAMP:20260419T000000Z
UID:2130d200-a4af-4f7b-9453-2d8a851cb496@ClaytonBocce
DTSTART;TZID=America/Los_Angeles:20260922T183000
DTEND;TZID=America/Los_Angeles:20260922T210000
STATUS:CONFIRMED
SUMMARY:XVENGERS vs INTERNATIONAL BOCCE
URL:/League/Schedule/2975
DESCRIPTION:Regular Season match: XVENGERS vs INTERNATIONAL 
 BOCCE
LOCATION:Martinez Court 11
END:VEVENT
END:VCALENDAR
