BEGIN:VCALENDAR
VERSION:2.0
PRODID:-//Clayton Bocce League
METHOD:PUBLISH
BEGIN:VTIMEZONE
TZID:America/Los_Angeles
X-LIC-LOCATION:America/Los_Angeles
BEGIN:DAYLIGHT
TZOFFSETFROM:-0800
TZOFFSETTO:-0700
TZNAME:PDT
DTSTART:20070311T020000
RRULE:FREQ=YEARLY;BYMONTH=3;BYDAY=2SU
END:DAYLIGHT
BEGIN:STANDARD
TZOFFSETFROM:-0700
TZOFFSETTO:-0800
TZNAME:PST
DTSTART:20071104T020000
RRULE:FREQ=YEARLY;BYMONTH=11;BYDAY=1SU
END:STANDARD
END:VTIMEZONE
BEGIN:VEVENT
DTSTAMP:20260419T000000Z
UID:9f04e928-d49b-48b6-8ab1-2625135f8154@ClaytonBocce
DTSTART;TZID=America/Los_Angeles:20260421T183000
DTEND;TZID=America/Los_Angeles:20260421T210000
STATUS:CONFIRMED
SUMMARY:ZANDONELLA CATERING vs XVENGERS
URL:/League/Schedule/2976
DESCRIPTION:Regular Season match: ZANDONELLA CATERING vs XVE
 NGERS
LOCATION:Martinez Court 3
END:VEVENT
BEGIN:VEVENT
DTSTAMP:20260419T000000Z
UID:4a8bc1af-d496-4639-8216-87cda74addc2@ClaytonBocce
DTSTART;TZID=America/Los_Angeles:20260428T183000
DTEND;TZID=America/Los_Angeles:20260428T210000
STATUS:CONFIRMED
SUMMARY:ZANDONELLA CATERING vs BocceLeo
URL:/League/Schedule/2976
DESCRIPTION:Regular Season match: ZANDONELLA CATERING vs Boc
 ceLeo
LOCATION:Martinez Court 8
END:VEVENT
BEGIN:VEVENT
DTSTAMP:20260419T000000Z
UID:988a13a6-2a0b-4207-915e-2ac471f4eaa1@ClaytonBocce
DTSTART;TZID=America/Los_Angeles:20260505T183000
DTEND;TZID=America/Los_Angeles:20260505T210000
STATUS:CONFIRMED
SUMMARY:ZANDONELLA CATERING vs TEAM BOB
URL:/League/Schedule/2976
DESCRIPTION:Regular Season match: ZANDONELLA CATERING vs TEA
 M BOB
LOCATION:Martinez Court 11
END:VEVENT
BEGIN:VEVENT
DTSTAMP:20260419T000000Z
UID:fc279c43-cacd-437f-8c51-2fa9dafec316@ClaytonBocce
DTSTART;TZID=America/Los_Angeles:20260519T183000
DTEND;TZID=America/Los_Angeles:20260519T210000
STATUS:CONFIRMED
SUMMARY:ZANDONELLA CATERING vs SPED
URL:/League/Schedule/2976
DESCRIPTION:Regular Season match: ZANDONELLA CATERING vs SPE
 D
LOCATION:Martinez Court 4
END:VEVENT
BEGIN:VEVENT
DTSTAMP:20260419T000000Z
UID:287eeb37-6d3a-4be3-a193-62f90bb8fe05@ClaytonBocce
DTSTART;TZID=America/Los_Angeles:20260526T183000
DTEND;TZID=America/Los_Angeles:20260526T210000
STATUS:CONFIRMED
SUMMARY:ZANDONELLA CATERING vs INTERNATIONAL BOCCE
URL:/League/Schedule/2976
DESCRIPTION:Regular Season match: ZANDONELLA CATERING vs INT
 ERNATIONAL BOCCE
LOCATION:Martinez Court 6
END:VEVENT
BEGIN:VEVENT
DTSTAMP:20260419T000000Z
UID:b7741394-0198-406f-8695-1cbe1332435e@ClaytonBocce
DTSTART;TZID=America/Los_Angeles:20260602T183000
DTEND;TZID=America/Los_Angeles:20260602T210000
STATUS:CONFIRMED
SUMMARY:ZANDONELLA CATERING vs THE PLAYERS
URL:/League/Schedule/2976
DESCRIPTION:Regular Season match: ZANDONELLA CATERING vs THE
  PLAYERS
LOCATION:Martinez Court 10
END:VEVENT
BEGIN:VEVENT
DTSTAMP:20260419T000000Z
UID:1bd52743-8470-4b1e-97c7-784036ba2abf@ClaytonBocce
DTSTART;TZID=America/Los_Angeles:20260609T183000
DTEND;TZID=America/Los_Angeles:20260609T210000
STATUS:CONFIRMED
SUMMARY:ZANDONELLA CATERING vs XVENGERS
URL:/League/Schedule/2976
DESCRIPTION:Regular Season match: ZANDONELLA CATERING vs XVE
 NGERS
LOCATION:Martinez Court 1
END:VEVENT
BEGIN:VEVENT
DTSTAMP:20260419T000000Z
UID:9083692b-bda4-4ac1-aefe-97af1f0ebec6@ClaytonBocce
DTSTART;TZID=America/Los_Angeles:20260616T183000
DTEND;TZID=America/Los_Angeles:20260616T210000
STATUS:CONFIRMED
SUMMARY:ZANDONELLA CATERING vs BocceLeo
URL:/League/Schedule/2976
DESCRIPTION:Regular Season match: ZANDONELLA CATERING vs Boc
 ceLeo
LOCATION:Martinez Court 12
END:VEVENT
BEGIN:VEVENT
DTSTAMP:20260419T000000Z
UID:24ff0ec2-a8e3-4bdb-bc7c-c650ba9f02df@ClaytonBocce
DTSTART;TZID=America/Los_Angeles:20260623T183000
DTEND;TZID=America/Los_Angeles:20260623T210000
STATUS:CONFIRMED
SUMMARY:ZANDONELLA CATERING vs TEAM BOB
URL:/League/Schedule/2976
DESCRIPTION:Regular Season match: ZANDONELLA CATERING vs TEA
 M BOB
LOCATION:Martinez Court 13
END:VEVENT
BEGIN:VEVENT
DTSTAMP:20260419T000000Z
UID:61111937-83e2-4760-bfd0-7caf64feba42@ClaytonBocce
DTSTART;TZID=America/Los_Angeles:20260714T183000
DTEND;TZID=America/Los_Angeles:20260714T210000
STATUS:CONFIRMED
SUMMARY:ZANDONELLA CATERING vs SPED
URL:/League/Schedule/2976
DESCRIPTION:Regular Season match: ZANDONELLA CATERING vs SPE
 D
LOCATION:Martinez Court 9
END:VEVENT
BEGIN:VEVENT
DTSTAMP:20260419T000000Z
UID:dcc18b2c-7ace-4243-8d62-e8c6405280e5@ClaytonBocce
DTSTART;TZID=America/Los_Angeles:20260721T183000
DTEND;TZID=America/Los_Angeles:20260721T210000
STATUS:CONFIRMED
SUMMARY:ZANDONELLA CATERING vs INTERNATIONAL BOCCE
URL:/League/Schedule/2976
DESCRIPTION:Regular Season match: ZANDONELLA CATERING vs INT
 ERNATIONAL BOCCE
LOCATION:Martinez Court 3
END:VEVENT
BEGIN:VEVENT
DTSTAMP:20260419T000000Z
UID:443d0ba6-8e7b-4612-8158-09766bc956be@ClaytonBocce
DTSTART;TZID=America/Los_Angeles:20260728T183000
DTEND;TZID=America/Los_Angeles:20260728T210000
STATUS:CONFIRMED
SUMMARY:ZANDONELLA CATERING vs THE PLAYERS
URL:/League/Schedule/2976
DESCRIPTION:Regular Season match: ZANDONELLA CATERING vs THE
  PLAYERS
LOCATION:Martinez Court 13
END:VEVENT
BEGIN:VEVENT
DTSTAMP:20260419T000000Z
UID:34065bb2-3f9a-4247-964e-ca783c37ef20@ClaytonBocce
DTSTART;TZID=America/Los_Angeles:20260811T183000
DTEND;TZID=America/Los_Angeles:20260811T210000
STATUS:CONFIRMED
SUMMARY:ZANDONELLA CATERING vs XVENGERS
URL:/League/Schedule/2976
DESCRIPTION:Regular Season match: ZANDONELLA CATERING vs XVE
 NGERS
LOCATION:Martinez Court 7
END:VEVENT
BEGIN:VEVENT
DTSTAMP:20260419T000000Z
UID:1cefa0b0-080a-4fea-b32f-ff958aa02c38@ClaytonBocce
DTSTART;TZID=America/Los_Angeles:20260818T183000
DTEND;TZID=America/Los_Angeles:20260818T210000
STATUS:CONFIRMED
SUMMARY:ZANDONELLA CATERING vs BocceLeo
URL:/League/Schedule/2976
DESCRIPTION:Regular Season match: ZANDONELLA CATERING vs Boc
 ceLeo
LOCATION:Martinez Court 6
END:VEVENT
BEGIN:VEVENT
DTSTAMP:20260419T000000Z
UID:57d8abda-c1f8-48c4-901e-9237c1551372@ClaytonBocce
DTSTART;TZID=America/Los_Angeles:20260825T183000
DTEND;TZID=America/Los_Angeles:20260825T210000
STATUS:CONFIRMED
SUMMARY:ZANDONELLA CATERING vs TEAM BOB
URL:/League/Schedule/2976
DESCRIPTION:Regular Season match: ZANDONELLA CATERING vs TEA
 M BOB
LOCATION:Martinez Court 14
END:VEVENT
BEGIN:VEVENT
DTSTAMP:20260419T000000Z
UID:677d282a-7067-4618-93d1-5debf15f9729@ClaytonBocce
DTSTART;TZID=America/Los_Angeles:20260908T183000
DTEND;TZID=America/Los_Angeles:20260908T210000
STATUS:CONFIRMED
SUMMARY:ZANDONELLA CATERING vs SPED
URL:/League/Schedule/2976
DESCRIPTION:Regular Season match: ZANDONELLA CATERING vs SPE
 D
LOCATION:Martinez Court 2
END:VEVENT
BEGIN:VEVENT
DTSTAMP:20260419T000000Z
UID:3ede9153-bbaf-4abe-ab4b-3edb98a97d0d@ClaytonBocce
DTSTART;TZID=America/Los_Angeles:20260915T183000
DTEND;TZID=America/Los_Angeles:20260915T210000
STATUS:CONFIRMED
SUMMARY:ZANDONELLA CATERING vs INTERNATIONAL BOCCE
URL:/League/Schedule/2976
DESCRIPTION:Regular Season match: ZANDONELLA CATERING vs INT
 ERNATIONAL BOCCE
LOCATION:Martinez Court 5
END:VEVENT
BEGIN:VEVENT
DTSTAMP:20260419T000000Z
UID:8bc719a2-c22a-43d1-a16b-c2f77c17c6ec@ClaytonBocce
DTSTART;TZID=America/Los_Angeles:20260922T183000
DTEND;TZID=America/Los_Angeles:20260922T210000
STATUS:CONFIRMED
SUMMARY:ZANDONELLA CATERING vs THE PLAYERS
URL:/League/Schedule/2976
DESCRIPTION:Regular Season match: ZANDONELLA CATERING vs THE
  PLAYERS
LOCATION:Martinez Court 15
END:VEVENT
END:VCALENDAR
