BEGIN:VCALENDAR
VERSION:2.0
PRODID:-//Clayton Bocce League
METHOD:PUBLISH
BEGIN:VTIMEZONE
TZID:America/Los_Angeles
X-LIC-LOCATION:America/Los_Angeles
BEGIN:DAYLIGHT
TZOFFSETFROM:-0800
TZOFFSETTO:-0700
TZNAME:PDT
DTSTART:20070311T020000
RRULE:FREQ=YEARLY;BYMONTH=3;BYDAY=2SU
END:DAYLIGHT
BEGIN:STANDARD
TZOFFSETFROM:-0700
TZOFFSETTO:-0800
TZNAME:PST
DTSTART:20071104T020000
RRULE:FREQ=YEARLY;BYMONTH=11;BYDAY=1SU
END:STANDARD
END:VTIMEZONE
BEGIN:VEVENT
DTSTAMP:20260419T000000Z
UID:09308510-9d1f-4002-9aa1-f9bd6424d6f9@ClaytonBocce
DTSTART;TZID=America/Los_Angeles:20260421T183000
DTEND;TZID=America/Los_Angeles:20260421T210000
STATUS:CONFIRMED
SUMMARY:ROCK n ROLLERS vs THE OTHER TEAM
URL:/League/Schedule/3006
DESCRIPTION:Regular Season match: ROCK n ROLLERS vs THE OTHE
 R TEAM
LOCATION:Martinez Court 13
END:VEVENT
BEGIN:VEVENT
DTSTAMP:20260419T000000Z
UID:68dd3934-5854-4573-855f-c52469ac4587@ClaytonBocce
DTSTART;TZID=America/Los_Angeles:20260505T183000
DTEND;TZID=America/Los_Angeles:20260505T210000
STATUS:CONFIRMED
SUMMARY:ROCK n ROLLERS vs ROLLIN FATTIES
URL:/League/Schedule/3006
DESCRIPTION:Regular Season match: ROCK n ROLLERS vs ROLLIN F
 ATTIES
LOCATION:Martinez Court 9
END:VEVENT
BEGIN:VEVENT
DTSTAMP:20260419T000000Z
UID:d7208f40-45fe-4fbb-bca9-2d0b27645fca@ClaytonBocce
DTSTART;TZID=America/Los_Angeles:20260512T183000
DTEND;TZID=America/Los_Angeles:20260512T210000
STATUS:CONFIRMED
SUMMARY:ROCK n ROLLERS vs HERE FOR THE PARTY
URL:/League/Schedule/3006
DESCRIPTION:Regular Season match: ROCK n ROLLERS vs HERE FOR
  THE PARTY
LOCATION:Martinez Court 11
END:VEVENT
BEGIN:VEVENT
DTSTAMP:20260419T000000Z
UID:76ce3c23-884a-4f0b-88ef-f560e470b325@ClaytonBocce
DTSTART;TZID=America/Los_Angeles:20260519T183000
DTEND;TZID=America/Los_Angeles:20260519T210000
STATUS:CONFIRMED
SUMMARY:ROCK n ROLLERS vs SHOOT IT
URL:/League/Schedule/3006
DESCRIPTION:Regular Season match: ROCK n ROLLERS vs SHOOT IT
LOCATION:Martinez Court 2
END:VEVENT
BEGIN:VEVENT
DTSTAMP:20260419T000000Z
UID:3cdea553-386a-40c9-aea5-97a572c0db0e@ClaytonBocce
DTSTART;TZID=America/Los_Angeles:20260526T183000
DTEND;TZID=America/Los_Angeles:20260526T210000
STATUS:CONFIRMED
SUMMARY:ROCK n ROLLERS vs STOCKINGER SURVEYS
URL:/League/Schedule/3006
DESCRIPTION:Regular Season match: ROCK n ROLLERS vs STOCKING
 ER SURVEYS
LOCATION:Martinez Court 3
END:VEVENT
BEGIN:VEVENT
DTSTAMP:20260419T000000Z
UID:ad042a33-5d27-4924-a7cd-071f6d96e0a1@ClaytonBocce
DTSTART;TZID=America/Los_Angeles:20260602T183000
DTEND;TZID=America/Los_Angeles:20260602T210000
STATUS:CONFIRMED
SUMMARY:ROCK n ROLLERS vs ROGER THAT!
URL:/League/Schedule/3006
DESCRIPTION:Regular Season match: ROCK n ROLLERS vs ROGER TH
 AT!
LOCATION:Martinez Court 6
END:VEVENT
BEGIN:VEVENT
DTSTAMP:20260419T000000Z
UID:f0b61202-8385-4ae2-afb3-085970957749@ClaytonBocce
DTSTART;TZID=America/Los_Angeles:20260609T183000
DTEND;TZID=America/Los_Angeles:20260609T210000
STATUS:CONFIRMED
SUMMARY:ROCK n ROLLERS vs THE OTHER TEAM
URL:/League/Schedule/3006
DESCRIPTION:Regular Season match: ROCK n ROLLERS vs THE OTHE
 R TEAM
LOCATION:Martinez Court 14
END:VEVENT
BEGIN:VEVENT
DTSTAMP:20260419T000000Z
UID:5bc6f72c-c69a-4e40-a495-7b722e88c4c2@ClaytonBocce
DTSTART;TZID=America/Los_Angeles:20260623T183000
DTEND;TZID=America/Los_Angeles:20260623T210000
STATUS:CONFIRMED
SUMMARY:ROCK n ROLLERS vs ROLLIN FATTIES
URL:/League/Schedule/3006
DESCRIPTION:Regular Season match: ROCK n ROLLERS vs ROLLIN F
 ATTIES
LOCATION:Martinez Court 1
END:VEVENT
BEGIN:VEVENT
DTSTAMP:20260419T000000Z
UID:34643ae8-6f56-4b79-9551-ba8ef59949ec@ClaytonBocce
DTSTART;TZID=America/Los_Angeles:20260630T183000
DTEND;TZID=America/Los_Angeles:20260630T210000
STATUS:CONFIRMED
SUMMARY:ROCK n ROLLERS vs HERE FOR THE PARTY
URL:/League/Schedule/3006
DESCRIPTION:Regular Season match: ROCK n ROLLERS vs HERE FOR
  THE PARTY
LOCATION:Martinez Court 4
END:VEVENT
BEGIN:VEVENT
DTSTAMP:20260419T000000Z
UID:0ef11a23-6e53-4bfc-9823-e35496fda489@ClaytonBocce
DTSTART;TZID=America/Los_Angeles:20260714T183000
DTEND;TZID=America/Los_Angeles:20260714T210000
STATUS:CONFIRMED
SUMMARY:ROCK n ROLLERS vs SHOOT IT
URL:/League/Schedule/3006
DESCRIPTION:Regular Season match: ROCK n ROLLERS vs SHOOT IT
LOCATION:Martinez Court 7
END:VEVENT
BEGIN:VEVENT
DTSTAMP:20260419T000000Z
UID:0fdc026c-5e7c-461b-874e-278fb45635fa@ClaytonBocce
DTSTART;TZID=America/Los_Angeles:20260721T183000
DTEND;TZID=America/Los_Angeles:20260721T210000
STATUS:CONFIRMED
SUMMARY:ROCK n ROLLERS vs STOCKINGER SURVEYS
URL:/League/Schedule/3006
DESCRIPTION:Regular Season match: ROCK n ROLLERS vs STOCKING
 ER SURVEYS
LOCATION:Martinez Court 5
END:VEVENT
BEGIN:VEVENT
DTSTAMP:20260419T000000Z
UID:1699a464-10f4-43d1-9eb2-36943e7b61a7@ClaytonBocce
DTSTART;TZID=America/Los_Angeles:20260728T183000
DTEND;TZID=America/Los_Angeles:20260728T210000
STATUS:CONFIRMED
SUMMARY:ROCK n ROLLERS vs ROGER THAT!
URL:/League/Schedule/3006
DESCRIPTION:Regular Season match: ROCK n ROLLERS vs ROGER TH
 AT!
LOCATION:Martinez Court 12
END:VEVENT
BEGIN:VEVENT
DTSTAMP:20260419T000000Z
UID:3afc25d4-b58d-470d-921e-0b027a20f192@ClaytonBocce
DTSTART;TZID=America/Los_Angeles:20260811T183000
DTEND;TZID=America/Los_Angeles:20260811T210000
STATUS:CONFIRMED
SUMMARY:ROCK n ROLLERS vs THE OTHER TEAM
URL:/League/Schedule/3006
DESCRIPTION:Regular Season match: ROCK n ROLLERS vs THE OTHE
 R TEAM
LOCATION:Martinez Court 6
END:VEVENT
BEGIN:VEVENT
DTSTAMP:20260419T000000Z
UID:9a12e92f-62ed-4ec9-9911-0a941311a668@ClaytonBocce
DTSTART;TZID=America/Los_Angeles:20260825T183000
DTEND;TZID=America/Los_Angeles:20260825T210000
STATUS:CONFIRMED
SUMMARY:ROCK n ROLLERS vs ROLLIN FATTIES
URL:/League/Schedule/3006
DESCRIPTION:Regular Season match: ROCK n ROLLERS vs ROLLIN F
 ATTIES
LOCATION:Martinez Court 1
END:VEVENT
BEGIN:VEVENT
DTSTAMP:20260419T000000Z
UID:4a9df128-9c22-47a7-a2a7-2aa841838382@ClaytonBocce
DTSTART;TZID=America/Los_Angeles:20260901T183000
DTEND;TZID=America/Los_Angeles:20260901T210000
STATUS:CONFIRMED
SUMMARY:ROCK n ROLLERS vs HERE FOR THE PARTY
URL:/League/Schedule/3006
DESCRIPTION:Regular Season match: ROCK n ROLLERS vs HERE FOR
  THE PARTY
LOCATION:Martinez Court 10
END:VEVENT
BEGIN:VEVENT
DTSTAMP:20260419T000000Z
UID:1c423ca9-764a-4b0c-8815-1b3b6b31e122@ClaytonBocce
DTSTART;TZID=America/Los_Angeles:20260908T183000
DTEND;TZID=America/Los_Angeles:20260908T210000
STATUS:CONFIRMED
SUMMARY:ROCK n ROLLERS vs SHOOT IT
URL:/League/Schedule/3006
DESCRIPTION:Regular Season match: ROCK n ROLLERS vs SHOOT IT
LOCATION:Martinez Court 15
END:VEVENT
BEGIN:VEVENT
DTSTAMP:20260419T000000Z
UID:20427470-4de5-4ee8-b625-c17e3eb28b3d@ClaytonBocce
DTSTART;TZID=America/Los_Angeles:20260915T183000
DTEND;TZID=America/Los_Angeles:20260915T210000
STATUS:CONFIRMED
SUMMARY:ROCK n ROLLERS vs STOCKINGER SURVEYS
URL:/League/Schedule/3006
DESCRIPTION:Regular Season match: ROCK n ROLLERS vs STOCKING
 ER SURVEYS
LOCATION:Martinez Court 3
END:VEVENT
BEGIN:VEVENT
DTSTAMP:20260419T000000Z
UID:7feb7230-66ab-4e3d-b6e5-4b81ea41b7a1@ClaytonBocce
DTSTART;TZID=America/Los_Angeles:20260922T183000
DTEND;TZID=America/Los_Angeles:20260922T210000
STATUS:CONFIRMED
SUMMARY:ROCK n ROLLERS vs ROGER THAT!
URL:/League/Schedule/3006
DESCRIPTION:Regular Season match: ROCK n ROLLERS vs ROGER TH
 AT!
LOCATION:Martinez Court 13
END:VEVENT
END:VCALENDAR
