BEGIN:VCALENDAR
VERSION:2.0
PRODID:-//Clayton Bocce League
METHOD:PUBLISH
BEGIN:VTIMEZONE
TZID:America/Los_Angeles
X-LIC-LOCATION:America/Los_Angeles
BEGIN:DAYLIGHT
TZOFFSETFROM:-0800
TZOFFSETTO:-0700
TZNAME:PDT
DTSTART:20070311T020000
RRULE:FREQ=YEARLY;BYMONTH=3;BYDAY=2SU
END:DAYLIGHT
BEGIN:STANDARD
TZOFFSETFROM:-0700
TZOFFSETTO:-0800
TZNAME:PST
DTSTART:20071104T020000
RRULE:FREQ=YEARLY;BYMONTH=11;BYDAY=1SU
END:STANDARD
END:VTIMEZONE
BEGIN:VEVENT
DTSTAMP:20260419T000000Z
UID:09308510-9d1f-4002-9aa1-f9bd6424d6f9@ClaytonBocce
DTSTART;TZID=America/Los_Angeles:20260421T183000
DTEND;TZID=America/Los_Angeles:20260421T210000
STATUS:CONFIRMED
SUMMARY:THE OTHER TEAM vs ROCK n ROLLERS
URL:/League/Schedule/3001
DESCRIPTION:Regular Season match: THE OTHER TEAM vs ROCK n R
 OLLERS
LOCATION:Martinez Court 13
END:VEVENT
BEGIN:VEVENT
DTSTAMP:20260419T000000Z
UID:e4f31ba0-da91-4916-a71b-1b1af824908e@ClaytonBocce
DTSTART;TZID=America/Los_Angeles:20260428T183000
DTEND;TZID=America/Los_Angeles:20260428T210000
STATUS:CONFIRMED
SUMMARY:THE OTHER TEAM vs HERE FOR THE PARTY
URL:/League/Schedule/3001
DESCRIPTION:Regular Season match: THE OTHER TEAM vs HERE FOR
  THE PARTY
LOCATION:Martinez Court 3
END:VEVENT
BEGIN:VEVENT
DTSTAMP:20260419T000000Z
UID:8fd5ea80-3b70-46cb-8f70-16156b501873@ClaytonBocce
DTSTART;TZID=America/Los_Angeles:20260505T183000
DTEND;TZID=America/Los_Angeles:20260505T210000
STATUS:CONFIRMED
SUMMARY:THE OTHER TEAM vs STOCKINGER SURVEYS
URL:/League/Schedule/3001
DESCRIPTION:Regular Season match: THE OTHER TEAM vs STOCKING
 ER SURVEYS
LOCATION:Martinez Court 8
END:VEVENT
BEGIN:VEVENT
DTSTAMP:20260419T000000Z
UID:433117d6-f20b-4a0a-a366-f6665b08fbcd@ClaytonBocce
DTSTART;TZID=America/Los_Angeles:20260512T183000
DTEND;TZID=America/Los_Angeles:20260512T210000
STATUS:CONFIRMED
SUMMARY:THE OTHER TEAM vs ROGER THAT!
URL:/League/Schedule/3001
DESCRIPTION:Regular Season match: THE OTHER TEAM vs ROGER TH
 AT!
LOCATION:Martinez Court 7
END:VEVENT
BEGIN:VEVENT
DTSTAMP:20260419T000000Z
UID:8a91f390-decc-482a-8c3d-0bd8578219ca@ClaytonBocce
DTSTART;TZID=America/Los_Angeles:20260519T183000
DTEND;TZID=America/Los_Angeles:20260519T210000
STATUS:CONFIRMED
SUMMARY:THE OTHER TEAM vs ROLLIN FATTIES
URL:/League/Schedule/3001
DESCRIPTION:Regular Season match: THE OTHER TEAM vs ROLLIN F
 ATTIES
LOCATION:Martinez Court 15
END:VEVENT
BEGIN:VEVENT
DTSTAMP:20260419T000000Z
UID:95f0796a-4baf-4c40-965f-9efa95f4b905@ClaytonBocce
DTSTART;TZID=America/Los_Angeles:20260526T183000
DTEND;TZID=America/Los_Angeles:20260526T210000
STATUS:CONFIRMED
SUMMARY:THE OTHER TEAM vs SHOOT IT
URL:/League/Schedule/3001
DESCRIPTION:Regular Season match: THE OTHER TEAM vs SHOOT IT
LOCATION:Martinez Court 1
END:VEVENT
BEGIN:VEVENT
DTSTAMP:20260419T000000Z
UID:f0b61202-8385-4ae2-afb3-085970957749@ClaytonBocce
DTSTART;TZID=America/Los_Angeles:20260609T183000
DTEND;TZID=America/Los_Angeles:20260609T210000
STATUS:CONFIRMED
SUMMARY:THE OTHER TEAM vs ROCK n ROLLERS
URL:/League/Schedule/3001
DESCRIPTION:Regular Season match: THE OTHER TEAM vs ROCK n R
 OLLERS
LOCATION:Martinez Court 14
END:VEVENT
BEGIN:VEVENT
DTSTAMP:20260419T000000Z
UID:56358cdb-a6ce-452e-a61f-10c1b3bc4f9b@ClaytonBocce
DTSTART;TZID=America/Los_Angeles:20260616T183000
DTEND;TZID=America/Los_Angeles:20260616T210000
STATUS:CONFIRMED
SUMMARY:THE OTHER TEAM vs HERE FOR THE PARTY
URL:/League/Schedule/3001
DESCRIPTION:Regular Season match: THE OTHER TEAM vs HERE FOR
  THE PARTY
LOCATION:Martinez Court 7
END:VEVENT
BEGIN:VEVENT
DTSTAMP:20260419T000000Z
UID:10d7d4b8-68a0-4b0a-b96c-04e07e771117@ClaytonBocce
DTSTART;TZID=America/Los_Angeles:20260623T183000
DTEND;TZID=America/Los_Angeles:20260623T210000
STATUS:CONFIRMED
SUMMARY:THE OTHER TEAM vs STOCKINGER SURVEYS
URL:/League/Schedule/3001
DESCRIPTION:Regular Season match: THE OTHER TEAM vs STOCKING
 ER SURVEYS
LOCATION:Martinez Court 12
END:VEVENT
BEGIN:VEVENT
DTSTAMP:20260419T000000Z
UID:c6d71c37-1f4c-4c30-a45c-2567350ee202@ClaytonBocce
DTSTART;TZID=America/Los_Angeles:20260630T183000
DTEND;TZID=America/Los_Angeles:20260630T210000
STATUS:CONFIRMED
SUMMARY:THE OTHER TEAM vs ROGER THAT!
URL:/League/Schedule/3001
DESCRIPTION:Regular Season match: THE OTHER TEAM vs ROGER TH
 AT!
LOCATION:Martinez Court 5
END:VEVENT
BEGIN:VEVENT
DTSTAMP:20260419T000000Z
UID:c720d8dd-03da-4174-9ee5-3430955349ab@ClaytonBocce
DTSTART;TZID=America/Los_Angeles:20260714T183000
DTEND;TZID=America/Los_Angeles:20260714T210000
STATUS:CONFIRMED
SUMMARY:THE OTHER TEAM vs ROLLIN FATTIES
URL:/League/Schedule/3001
DESCRIPTION:Regular Season match: THE OTHER TEAM vs ROLLIN F
 ATTIES
LOCATION:Martinez Court 2
END:VEVENT
BEGIN:VEVENT
DTSTAMP:20260419T000000Z
UID:d6c427cc-f91e-451f-9c3b-bdaf1b35f8d4@ClaytonBocce
DTSTART;TZID=America/Los_Angeles:20260721T183000
DTEND;TZID=America/Los_Angeles:20260721T210000
STATUS:CONFIRMED
SUMMARY:THE OTHER TEAM vs SHOOT IT
URL:/League/Schedule/3001
DESCRIPTION:Regular Season match: THE OTHER TEAM vs SHOOT IT
LOCATION:Martinez Court 4
END:VEVENT
BEGIN:VEVENT
DTSTAMP:20260419T000000Z
UID:3afc25d4-b58d-470d-921e-0b027a20f192@ClaytonBocce
DTSTART;TZID=America/Los_Angeles:20260811T183000
DTEND;TZID=America/Los_Angeles:20260811T210000
STATUS:CONFIRMED
SUMMARY:THE OTHER TEAM vs ROCK n ROLLERS
URL:/League/Schedule/3001
DESCRIPTION:Regular Season match: THE OTHER TEAM vs ROCK n R
 OLLERS
LOCATION:Martinez Court 6
END:VEVENT
BEGIN:VEVENT
DTSTAMP:20260419T000000Z
UID:1dc6d3a2-3ca5-4c2b-9bdb-d796baee11e4@ClaytonBocce
DTSTART;TZID=America/Los_Angeles:20260818T183000
DTEND;TZID=America/Los_Angeles:20260818T210000
STATUS:CONFIRMED
SUMMARY:THE OTHER TEAM vs HERE FOR THE PARTY
URL:/League/Schedule/3001
DESCRIPTION:Regular Season match: THE OTHER TEAM vs HERE FOR
  THE PARTY
LOCATION:Martinez Court 8
END:VEVENT
BEGIN:VEVENT
DTSTAMP:20260419T000000Z
UID:3496602e-0b62-4bf7-90eb-2adb7fa34676@ClaytonBocce
DTSTART;TZID=America/Los_Angeles:20260825T183000
DTEND;TZID=America/Los_Angeles:20260825T210000
STATUS:CONFIRMED
SUMMARY:THE OTHER TEAM vs STOCKINGER SURVEYS
URL:/League/Schedule/3001
DESCRIPTION:Regular Season match: THE OTHER TEAM vs STOCKING
 ER SURVEYS
LOCATION:Martinez Court 11
END:VEVENT
BEGIN:VEVENT
DTSTAMP:20260419T000000Z
UID:a227724e-eff0-41d9-a220-185d77422098@ClaytonBocce
DTSTART;TZID=America/Los_Angeles:20260901T183000
DTEND;TZID=America/Los_Angeles:20260901T210000
STATUS:CONFIRMED
SUMMARY:THE OTHER TEAM vs ROGER THAT!
URL:/League/Schedule/3001
DESCRIPTION:Regular Season match: THE OTHER TEAM vs ROGER TH
 AT!
LOCATION:Martinez Court 1
END:VEVENT
BEGIN:VEVENT
DTSTAMP:20260419T000000Z
UID:e412e7bc-de3f-478c-910c-31a97fd9f7fe@ClaytonBocce
DTSTART;TZID=America/Los_Angeles:20260908T183000
DTEND;TZID=America/Los_Angeles:20260908T210000
STATUS:CONFIRMED
SUMMARY:THE OTHER TEAM vs ROLLIN FATTIES
URL:/League/Schedule/3001
DESCRIPTION:Regular Season match: THE OTHER TEAM vs ROLLIN F
 ATTIES
LOCATION:Martinez Court 9
END:VEVENT
BEGIN:VEVENT
DTSTAMP:20260419T000000Z
UID:1d4bc2e2-c0b8-4271-b7e9-bf639032c4ab@ClaytonBocce
DTSTART;TZID=America/Los_Angeles:20260915T183000
DTEND;TZID=America/Los_Angeles:20260915T210000
STATUS:CONFIRMED
SUMMARY:THE OTHER TEAM vs SHOOT IT
URL:/League/Schedule/3001
DESCRIPTION:Regular Season match: THE OTHER TEAM vs SHOOT IT
LOCATION:Martinez Court 12
END:VEVENT
END:VCALENDAR
