BEGIN:VCALENDAR
VERSION:2.0
PRODID:-//Clayton Bocce League
METHOD:PUBLISH
BEGIN:VTIMEZONE
TZID:America/Los_Angeles
X-LIC-LOCATION:America/Los_Angeles
BEGIN:DAYLIGHT
TZOFFSETFROM:-0800
TZOFFSETTO:-0700
TZNAME:PDT
DTSTART:20070311T020000
RRULE:FREQ=YEARLY;BYMONTH=3;BYDAY=2SU
END:DAYLIGHT
BEGIN:STANDARD
TZOFFSETFROM:-0700
TZOFFSETTO:-0800
TZNAME:PST
DTSTART:20071104T020000
RRULE:FREQ=YEARLY;BYMONTH=11;BYDAY=1SU
END:STANDARD
END:VTIMEZONE
BEGIN:VEVENT
DTSTAMP:20260419T000000Z
UID:ffe72829-d0d4-4e82-81e0-a441f10f3462@ClaytonBocce
DTSTART;TZID=America/Los_Angeles:20260421T183000
DTEND;TZID=America/Los_Angeles:20260421T210000
STATUS:CONFIRMED
SUMMARY:INTERNATIONAL BOCCE vs TEAM BOB
URL:/League/Schedule/2978
DESCRIPTION:Regular Season match: INTERNATIONAL BOCCE vs TEA
 M BOB
LOCATION:Martinez Court 1
END:VEVENT
BEGIN:VEVENT
DTSTAMP:20260419T000000Z
UID:44731d42-34e2-4538-8916-d95c3123f676@ClaytonBocce
DTSTART;TZID=America/Los_Angeles:20260505T183000
DTEND;TZID=America/Los_Angeles:20260505T210000
STATUS:CONFIRMED
SUMMARY:INTERNATIONAL BOCCE vs THE PLAYERS
URL:/League/Schedule/2978
DESCRIPTION:Regular Season match: INTERNATIONAL BOCCE vs THE
  PLAYERS
LOCATION:Martinez Court 12
END:VEVENT
BEGIN:VEVENT
DTSTAMP:20260419T000000Z
UID:de8795d0-e668-43a7-9da8-094952e9bd19@ClaytonBocce
DTSTART;TZID=America/Los_Angeles:20260512T183000
DTEND;TZID=America/Los_Angeles:20260512T210000
STATUS:CONFIRMED
SUMMARY:INTERNATIONAL BOCCE vs SPED
URL:/League/Schedule/2978
DESCRIPTION:Regular Season match: INTERNATIONAL BOCCE vs SPE
 D
LOCATION:Martinez Court 14
END:VEVENT
BEGIN:VEVENT
DTSTAMP:20260419T000000Z
UID:510257a5-8fba-4e65-82c3-e735ca55c14c@ClaytonBocce
DTSTART;TZID=America/Los_Angeles:20260519T183000
DTEND;TZID=America/Los_Angeles:20260519T210000
STATUS:CONFIRMED
SUMMARY:INTERNATIONAL BOCCE vs BocceLeo
URL:/League/Schedule/2978
DESCRIPTION:Regular Season match: INTERNATIONAL BOCCE vs Boc
 ceLeo
LOCATION:Martinez Court 5
END:VEVENT
BEGIN:VEVENT
DTSTAMP:20260419T000000Z
UID:287eeb37-6d3a-4be3-a193-62f90bb8fe05@ClaytonBocce
DTSTART;TZID=America/Los_Angeles:20260526T183000
DTEND;TZID=America/Los_Angeles:20260526T210000
STATUS:CONFIRMED
SUMMARY:INTERNATIONAL BOCCE vs ZANDONELLA CATERING
URL:/League/Schedule/2978
DESCRIPTION:Regular Season match: INTERNATIONAL BOCCE vs ZAN
 DONELLA CATERING
LOCATION:Martinez Court 6
END:VEVENT
BEGIN:VEVENT
DTSTAMP:20260419T000000Z
UID:dc4ac78a-2553-40ad-a348-56559edcf592@ClaytonBocce
DTSTART;TZID=America/Los_Angeles:20260602T183000
DTEND;TZID=America/Los_Angeles:20260602T210000
STATUS:CONFIRMED
SUMMARY:INTERNATIONAL BOCCE vs XVENGERS
URL:/League/Schedule/2978
DESCRIPTION:Regular Season match: INTERNATIONAL BOCCE vs XVE
 NGERS
LOCATION:Martinez Court 9
END:VEVENT
BEGIN:VEVENT
DTSTAMP:20260419T000000Z
UID:6f95e16d-2277-4dc4-9318-122217678339@ClaytonBocce
DTSTART;TZID=America/Los_Angeles:20260609T183000
DTEND;TZID=America/Los_Angeles:20260609T210000
STATUS:CONFIRMED
SUMMARY:INTERNATIONAL BOCCE vs TEAM BOB
URL:/League/Schedule/2978
DESCRIPTION:Regular Season match: INTERNATIONAL BOCCE vs TEA
 M BOB
LOCATION:Martinez Court 2
END:VEVENT
BEGIN:VEVENT
DTSTAMP:20260419T000000Z
UID:022cad67-7fbe-4fca-99d0-5f9112b9eb96@ClaytonBocce
DTSTART;TZID=America/Los_Angeles:20260623T183000
DTEND;TZID=America/Los_Angeles:20260623T210000
STATUS:CONFIRMED
SUMMARY:INTERNATIONAL BOCCE vs THE PLAYERS
URL:/League/Schedule/2978
DESCRIPTION:Regular Season match: INTERNATIONAL BOCCE vs THE
  PLAYERS
LOCATION:Martinez Court 15
END:VEVENT
BEGIN:VEVENT
DTSTAMP:20260419T000000Z
UID:d0869e48-1a57-435d-9893-08ce62bc9c04@ClaytonBocce
DTSTART;TZID=America/Los_Angeles:20260630T183000
DTEND;TZID=America/Los_Angeles:20260630T210000
STATUS:CONFIRMED
SUMMARY:INTERNATIONAL BOCCE vs SPED
URL:/League/Schedule/2978
DESCRIPTION:Regular Season match: INTERNATIONAL BOCCE vs SPE
 D
LOCATION:Martinez Court 7
END:VEVENT
BEGIN:VEVENT
DTSTAMP:20260419T000000Z
UID:9d536599-7c00-4f1f-88f1-c4c313f321f9@ClaytonBocce
DTSTART;TZID=America/Los_Angeles:20260714T183000
DTEND;TZID=America/Los_Angeles:20260714T210000
STATUS:CONFIRMED
SUMMARY:INTERNATIONAL BOCCE vs BocceLeo
URL:/League/Schedule/2978
DESCRIPTION:Regular Season match: INTERNATIONAL BOCCE vs Boc
 ceLeo
LOCATION:Martinez Court 10
END:VEVENT
BEGIN:VEVENT
DTSTAMP:20260419T000000Z
UID:dcc18b2c-7ace-4243-8d62-e8c6405280e5@ClaytonBocce
DTSTART;TZID=America/Los_Angeles:20260721T183000
DTEND;TZID=America/Los_Angeles:20260721T210000
STATUS:CONFIRMED
SUMMARY:INTERNATIONAL BOCCE vs ZANDONELLA CATERING
URL:/League/Schedule/2978
DESCRIPTION:Regular Season match: INTERNATIONAL BOCCE vs ZAN
 DONELLA CATERING
LOCATION:Martinez Court 3
END:VEVENT
BEGIN:VEVENT
DTSTAMP:20260419T000000Z
UID:7fd05830-f036-4728-8378-9e4c855b5265@ClaytonBocce
DTSTART;TZID=America/Los_Angeles:20260728T183000
DTEND;TZID=America/Los_Angeles:20260728T210000
STATUS:CONFIRMED
SUMMARY:INTERNATIONAL BOCCE vs XVENGERS
URL:/League/Schedule/2978
DESCRIPTION:Regular Season match: INTERNATIONAL BOCCE vs XVE
 NGERS
LOCATION:Martinez Court 4
END:VEVENT
BEGIN:VEVENT
DTSTAMP:20260419T000000Z
UID:c88f8c0f-3e7b-4895-883c-e9a078a0a43a@ClaytonBocce
DTSTART;TZID=America/Los_Angeles:20260811T183000
DTEND;TZID=America/Los_Angeles:20260811T210000
STATUS:CONFIRMED
SUMMARY:INTERNATIONAL BOCCE vs TEAM BOB
URL:/League/Schedule/2978
DESCRIPTION:Regular Season match: INTERNATIONAL BOCCE vs TEA
 M BOB
LOCATION:Martinez Court 9
END:VEVENT
BEGIN:VEVENT
DTSTAMP:20260419T000000Z
UID:c6a1ef7a-cd39-4809-a391-5e3e88d28b17@ClaytonBocce
DTSTART;TZID=America/Los_Angeles:20260825T183000
DTEND;TZID=America/Los_Angeles:20260825T210000
STATUS:CONFIRMED
SUMMARY:INTERNATIONAL BOCCE vs THE PLAYERS
URL:/League/Schedule/2978
DESCRIPTION:Regular Season match: INTERNATIONAL BOCCE vs THE
  PLAYERS
LOCATION:Martinez Court 6
END:VEVENT
BEGIN:VEVENT
DTSTAMP:20260419T000000Z
UID:ce37c2fa-a817-4dd7-ae9f-430a9fd2c060@ClaytonBocce
DTSTART;TZID=America/Los_Angeles:20260901T183000
DTEND;TZID=America/Los_Angeles:20260901T210000
STATUS:CONFIRMED
SUMMARY:INTERNATIONAL BOCCE vs SPED
URL:/League/Schedule/2978
DESCRIPTION:Regular Season match: INTERNATIONAL BOCCE vs SPE
 D
LOCATION:Martinez Court 13
END:VEVENT
BEGIN:VEVENT
DTSTAMP:20260419T000000Z
UID:a6c3c558-56e2-4451-9154-f2210da547bd@ClaytonBocce
DTSTART;TZID=America/Los_Angeles:20260908T183000
DTEND;TZID=America/Los_Angeles:20260908T210000
STATUS:CONFIRMED
SUMMARY:INTERNATIONAL BOCCE vs BocceLeo
URL:/League/Schedule/2978
DESCRIPTION:Regular Season match: INTERNATIONAL BOCCE vs Boc
 ceLeo
LOCATION:Martinez Court 10
END:VEVENT
BEGIN:VEVENT
DTSTAMP:20260419T000000Z
UID:3ede9153-bbaf-4abe-ab4b-3edb98a97d0d@ClaytonBocce
DTSTART;TZID=America/Los_Angeles:20260915T183000
DTEND;TZID=America/Los_Angeles:20260915T210000
STATUS:CONFIRMED
SUMMARY:INTERNATIONAL BOCCE vs ZANDONELLA CATERING
URL:/League/Schedule/2978
DESCRIPTION:Regular Season match: INTERNATIONAL BOCCE vs ZAN
 DONELLA CATERING
LOCATION:Martinez Court 5
END:VEVENT
BEGIN:VEVENT
DTSTAMP:20260419T000000Z
UID:2130d200-a4af-4f7b-9453-2d8a851cb496@ClaytonBocce
DTSTART;TZID=America/Los_Angeles:20260922T183000
DTEND;TZID=America/Los_Angeles:20260922T210000
STATUS:CONFIRMED
SUMMARY:INTERNATIONAL BOCCE vs XVENGERS
URL:/League/Schedule/2978
DESCRIPTION:Regular Season match: INTERNATIONAL BOCCE vs XVE
 NGERS
LOCATION:Martinez Court 11
END:VEVENT
END:VCALENDAR
