BEGIN:VCALENDAR
VERSION:2.0
PRODID:-//Clayton Bocce League
METHOD:PUBLISH
BEGIN:VTIMEZONE
TZID:America/Los_Angeles
X-LIC-LOCATION:America/Los_Angeles
BEGIN:DAYLIGHT
TZOFFSETFROM:-0800
TZOFFSETTO:-0700
TZNAME:PDT
DTSTART:20070311T020000
RRULE:FREQ=YEARLY;BYMONTH=3;BYDAY=2SU
END:DAYLIGHT
BEGIN:STANDARD
TZOFFSETFROM:-0700
TZOFFSETTO:-0800
TZNAME:PST
DTSTART:20071104T020000
RRULE:FREQ=YEARLY;BYMONTH=11;BYDAY=1SU
END:STANDARD
END:VTIMEZONE
BEGIN:VEVENT
DTSTAMP:20260419T000000Z
UID:ffe72829-d0d4-4e82-81e0-a441f10f3462@ClaytonBocce
DTSTART;TZID=America/Los_Angeles:20260421T183000
DTEND;TZID=America/Los_Angeles:20260421T210000
STATUS:CONFIRMED
SUMMARY:TEAM BOB vs INTERNATIONAL BOCCE
URL:/League/Schedule/2973
DESCRIPTION:Regular Season match: TEAM BOB vs INTERNATIONAL 
 BOCCE
LOCATION:Martinez Court 1
END:VEVENT
BEGIN:VEVENT
DTSTAMP:20260419T000000Z
UID:2b3b0ad4-3ae0-4784-a7d6-c6dba3002ec8@ClaytonBocce
DTSTART;TZID=America/Los_Angeles:20260428T183000
DTEND;TZID=America/Los_Angeles:20260428T210000
STATUS:CONFIRMED
SUMMARY:TEAM BOB vs SPED
URL:/League/Schedule/2973
DESCRIPTION:Regular Season match: TEAM BOB vs SPED
LOCATION:Martinez Court 6
END:VEVENT
BEGIN:VEVENT
DTSTAMP:20260419T000000Z
UID:988a13a6-2a0b-4207-915e-2ac471f4eaa1@ClaytonBocce
DTSTART;TZID=America/Los_Angeles:20260505T183000
DTEND;TZID=America/Los_Angeles:20260505T210000
STATUS:CONFIRMED
SUMMARY:TEAM BOB vs ZANDONELLA CATERING
URL:/League/Schedule/2973
DESCRIPTION:Regular Season match: TEAM BOB vs ZANDONELLA CAT
 ERING
LOCATION:Martinez Court 11
END:VEVENT
BEGIN:VEVENT
DTSTAMP:20260419T000000Z
UID:6274f253-91c0-442a-9b2e-2de88965caba@ClaytonBocce
DTSTART;TZID=America/Los_Angeles:20260512T183000
DTEND;TZID=America/Los_Angeles:20260512T210000
STATUS:CONFIRMED
SUMMARY:TEAM BOB vs XVENGERS
URL:/League/Schedule/2973
DESCRIPTION:Regular Season match: TEAM BOB vs XVENGERS
LOCATION:Martinez Court 15
END:VEVENT
BEGIN:VEVENT
DTSTAMP:20260419T000000Z
UID:04f2809f-7384-4db9-a84f-bd057fe6f7ab@ClaytonBocce
DTSTART;TZID=America/Los_Angeles:20260519T183000
DTEND;TZID=America/Los_Angeles:20260519T210000
STATUS:CONFIRMED
SUMMARY:TEAM BOB vs THE PLAYERS
URL:/League/Schedule/2973
DESCRIPTION:Regular Season match: TEAM BOB vs THE PLAYERS
LOCATION:Martinez Court 3
END:VEVENT
BEGIN:VEVENT
DTSTAMP:20260419T000000Z
UID:df4a0a62-f995-4846-a6a1-6a0413b4d73d@ClaytonBocce
DTSTART;TZID=America/Los_Angeles:20260526T183000
DTEND;TZID=America/Los_Angeles:20260526T210000
STATUS:CONFIRMED
SUMMARY:TEAM BOB vs BocceLeo
URL:/League/Schedule/2973
DESCRIPTION:Regular Season match: TEAM BOB vs BocceLeo
LOCATION:Martinez Court 4
END:VEVENT
BEGIN:VEVENT
DTSTAMP:20260419T000000Z
UID:6f95e16d-2277-4dc4-9318-122217678339@ClaytonBocce
DTSTART;TZID=America/Los_Angeles:20260609T183000
DTEND;TZID=America/Los_Angeles:20260609T210000
STATUS:CONFIRMED
SUMMARY:TEAM BOB vs INTERNATIONAL BOCCE
URL:/League/Schedule/2973
DESCRIPTION:Regular Season match: TEAM BOB vs INTERNATIONAL 
 BOCCE
LOCATION:Martinez Court 2
END:VEVENT
BEGIN:VEVENT
DTSTAMP:20260419T000000Z
UID:a4067bfa-8934-46ad-9803-671f9fbd2196@ClaytonBocce
DTSTART;TZID=America/Los_Angeles:20260616T183000
DTEND;TZID=America/Los_Angeles:20260616T210000
STATUS:CONFIRMED
SUMMARY:TEAM BOB vs SPED
URL:/League/Schedule/2973
DESCRIPTION:Regular Season match: TEAM BOB vs SPED
LOCATION:Martinez Court 10
END:VEVENT
BEGIN:VEVENT
DTSTAMP:20260419T000000Z
UID:24ff0ec2-a8e3-4bdb-bc7c-c650ba9f02df@ClaytonBocce
DTSTART;TZID=America/Los_Angeles:20260623T183000
DTEND;TZID=America/Los_Angeles:20260623T210000
STATUS:CONFIRMED
SUMMARY:TEAM BOB vs ZANDONELLA CATERING
URL:/League/Schedule/2973
DESCRIPTION:Regular Season match: TEAM BOB vs ZANDONELLA CAT
 ERING
LOCATION:Martinez Court 13
END:VEVENT
BEGIN:VEVENT
DTSTAMP:20260419T000000Z
UID:d26db88e-4f19-4eaa-b5e3-ebd76f875e07@ClaytonBocce
DTSTART;TZID=America/Los_Angeles:20260630T183000
DTEND;TZID=America/Los_Angeles:20260630T210000
STATUS:CONFIRMED
SUMMARY:TEAM BOB vs XVENGERS
URL:/League/Schedule/2973
DESCRIPTION:Regular Season match: TEAM BOB vs XVENGERS
LOCATION:Martinez Court 8
END:VEVENT
BEGIN:VEVENT
DTSTAMP:20260419T000000Z
UID:05efcef0-6f69-4b71-abe9-05cf95da7d45@ClaytonBocce
DTSTART;TZID=America/Los_Angeles:20260714T183000
DTEND;TZID=America/Los_Angeles:20260714T210000
STATUS:CONFIRMED
SUMMARY:TEAM BOB vs THE PLAYERS
URL:/League/Schedule/2973
DESCRIPTION:Regular Season match: TEAM BOB vs THE PLAYERS
LOCATION:Martinez Court 5
END:VEVENT
BEGIN:VEVENT
DTSTAMP:20260419T000000Z
UID:81808daa-713a-4339-b285-040f526c4021@ClaytonBocce
DTSTART;TZID=America/Los_Angeles:20260721T183000
DTEND;TZID=America/Los_Angeles:20260721T210000
STATUS:CONFIRMED
SUMMARY:TEAM BOB vs BocceLeo
URL:/League/Schedule/2973
DESCRIPTION:Regular Season match: TEAM BOB vs BocceLeo
LOCATION:Martinez Court 7
END:VEVENT
BEGIN:VEVENT
DTSTAMP:20260419T000000Z
UID:c88f8c0f-3e7b-4895-883c-e9a078a0a43a@ClaytonBocce
DTSTART;TZID=America/Los_Angeles:20260811T183000
DTEND;TZID=America/Los_Angeles:20260811T210000
STATUS:CONFIRMED
SUMMARY:TEAM BOB vs INTERNATIONAL BOCCE
URL:/League/Schedule/2973
DESCRIPTION:Regular Season match: TEAM BOB vs INTERNATIONAL 
 BOCCE
LOCATION:Martinez Court 9
END:VEVENT
BEGIN:VEVENT
DTSTAMP:20260419T000000Z
UID:ab006c9e-9c3e-4ccc-a975-e308ce9b9ac4@ClaytonBocce
DTSTART;TZID=America/Los_Angeles:20260818T183000
DTEND;TZID=America/Los_Angeles:20260818T210000
STATUS:CONFIRMED
SUMMARY:TEAM BOB vs SPED
URL:/League/Schedule/2973
DESCRIPTION:Regular Season match: TEAM BOB vs SPED
LOCATION:Martinez Court 3
END:VEVENT
BEGIN:VEVENT
DTSTAMP:20260419T000000Z
UID:57d8abda-c1f8-48c4-901e-9237c1551372@ClaytonBocce
DTSTART;TZID=America/Los_Angeles:20260825T183000
DTEND;TZID=America/Los_Angeles:20260825T210000
STATUS:CONFIRMED
SUMMARY:TEAM BOB vs ZANDONELLA CATERING
URL:/League/Schedule/2973
DESCRIPTION:Regular Season match: TEAM BOB vs ZANDONELLA CAT
 ERING
LOCATION:Martinez Court 14
END:VEVENT
BEGIN:VEVENT
DTSTAMP:20260419T000000Z
UID:0907ad03-1895-49af-8fdb-bc908007da5d@ClaytonBocce
DTSTART;TZID=America/Los_Angeles:20260901T183000
DTEND;TZID=America/Los_Angeles:20260901T210000
STATUS:CONFIRMED
SUMMARY:TEAM BOB vs XVENGERS
URL:/League/Schedule/2973
DESCRIPTION:Regular Season match: TEAM BOB vs XVENGERS
LOCATION:Martinez Court 12
END:VEVENT
BEGIN:VEVENT
DTSTAMP:20260419T000000Z
UID:2ecfdb06-ebc4-48ae-bec3-59c055d71112@ClaytonBocce
DTSTART;TZID=America/Los_Angeles:20260908T183000
DTEND;TZID=America/Los_Angeles:20260908T210000
STATUS:CONFIRMED
SUMMARY:TEAM BOB vs THE PLAYERS
URL:/League/Schedule/2973
DESCRIPTION:Regular Season match: TEAM BOB vs THE PLAYERS
LOCATION:Martinez Court 11
END:VEVENT
BEGIN:VEVENT
DTSTAMP:20260419T000000Z
UID:10078a1e-4be7-412f-b47b-0bc11de70b75@ClaytonBocce
DTSTART;TZID=America/Los_Angeles:20260915T183000
DTEND;TZID=America/Los_Angeles:20260915T210000
STATUS:CONFIRMED
SUMMARY:TEAM BOB vs BocceLeo
URL:/League/Schedule/2973
DESCRIPTION:Regular Season match: TEAM BOB vs BocceLeo
LOCATION:Martinez Court 2
END:VEVENT
END:VCALENDAR
