BEGIN:VCALENDAR
VERSION:2.0
PRODID:-//Clayton Bocce League
METHOD:PUBLISH
BEGIN:VTIMEZONE
TZID:America/Los_Angeles
X-LIC-LOCATION:America/Los_Angeles
BEGIN:DAYLIGHT
TZOFFSETFROM:-0800
TZOFFSETTO:-0700
TZNAME:PDT
DTSTART:20070311T020000
RRULE:FREQ=YEARLY;BYMONTH=3;BYDAY=2SU
END:DAYLIGHT
BEGIN:STANDARD
TZOFFSETFROM:-0700
TZOFFSETTO:-0800
TZNAME:PST
DTSTART:20071104T020000
RRULE:FREQ=YEARLY;BYMONTH=11;BYDAY=1SU
END:STANDARD
END:VTIMEZONE
BEGIN:VEVENT
DTSTAMP:20260419T000000Z
UID:7c83f15e-01f1-42e1-9a48-6c72a7e874df@ClaytonBocce
DTSTART;TZID=America/Los_Angeles:20260420T183000
DTEND;TZID=America/Los_Angeles:20260420T210000
STATUS:CONFIRMED
SUMMARY:WEIRD LITTLE DRINKS vs HOLY ROLLERS
URL:/League/Schedule/2969
DESCRIPTION:Regular Season match: WEIRD LITTLE DRINKS vs HOL
 Y ROLLERS
LOCATION:Martinez Court 15
END:VEVENT
BEGIN:VEVENT
DTSTAMP:20260419T000000Z
UID:a1df6763-8330-4e9f-b499-1fe6542076bc@ClaytonBocce
DTSTART;TZID=America/Los_Angeles:20260427T183000
DTEND;TZID=America/Los_Angeles:20260427T210000
STATUS:CONFIRMED
SUMMARY:WEIRD LITTLE DRINKS vs COSI VICINO
URL:/League/Schedule/2969
DESCRIPTION:Regular Season match: WEIRD LITTLE DRINKS vs COS
 I VICINO
LOCATION:Martinez Court 5
END:VEVENT
BEGIN:VEVENT
DTSTAMP:20260419T000000Z
UID:1842cd4d-04a5-4339-95ba-83899e6e0f4e@ClaytonBocce
DTSTART;TZID=America/Los_Angeles:20260504T183000
DTEND;TZID=America/Los_Angeles:20260504T210000
STATUS:CONFIRMED
SUMMARY:WEIRD LITTLE DRINKS vs MASTER BLASTERS
URL:/League/Schedule/2969
DESCRIPTION:Regular Season match: WEIRD LITTLE DRINKS vs MAS
 TER BLASTERS
LOCATION:Martinez Court 8
END:VEVENT
BEGIN:VEVENT
DTSTAMP:20260419T000000Z
UID:b9883840-d961-40d4-b210-b7088fa3151b@ClaytonBocce
DTSTART;TZID=America/Los_Angeles:20260518T183000
DTEND;TZID=America/Los_Angeles:20260518T210000
STATUS:CONFIRMED
SUMMARY:WEIRD LITTLE DRINKS vs HAPPY HOUR HURLERS
URL:/League/Schedule/2969
DESCRIPTION:Regular Season match: WEIRD LITTLE DRINKS vs HAP
 PY HOUR HURLERS
LOCATION:Martinez Court 1
END:VEVENT
BEGIN:VEVENT
DTSTAMP:20260419T000000Z
UID:56a3f386-c5c5-457b-b5c4-5947e4864a2a@ClaytonBocce
DTSTART;TZID=America/Los_Angeles:20260601T183000
DTEND;TZID=America/Los_Angeles:20260601T210000
STATUS:CONFIRMED
SUMMARY:WEIRD LITTLE DRINKS vs FARLO BAMBINO FARLO
URL:/League/Schedule/2969
DESCRIPTION:Regular Season match: WEIRD LITTLE DRINKS vs FAR
 LO BAMBINO FARLO
LOCATION:Martinez Court 3
END:VEVENT
BEGIN:VEVENT
DTSTAMP:20260419T000000Z
UID:4833c236-2083-4610-8497-586303d6acce@ClaytonBocce
DTSTART;TZID=America/Los_Angeles:20260608T183000
DTEND;TZID=America/Los_Angeles:20260608T210000
STATUS:CONFIRMED
SUMMARY:WEIRD LITTLE DRINKS vs ALL BOCCED UP
URL:/League/Schedule/2969
DESCRIPTION:Regular Season match: WEIRD LITTLE DRINKS vs ALL
  BOCCED UP
LOCATION:Martinez Court 7
END:VEVENT
BEGIN:VEVENT
DTSTAMP:20260419T000000Z
UID:963039e5-0581-4bb4-9e0f-8f9686075fdb@ClaytonBocce
DTSTART;TZID=America/Los_Angeles:20260615T183000
DTEND;TZID=America/Los_Angeles:20260615T210000
STATUS:CONFIRMED
SUMMARY:WEIRD LITTLE DRINKS vs HOLY ROLLERS
URL:/League/Schedule/2969
DESCRIPTION:Regular Season match: WEIRD LITTLE DRINKS vs HOL
 Y ROLLERS
LOCATION:Martinez Court 13
END:VEVENT
BEGIN:VEVENT
DTSTAMP:20260419T000000Z
UID:581c6414-96c5-4d1e-b364-78d0cbdbeaf6@ClaytonBocce
DTSTART;TZID=America/Los_Angeles:20260622T183000
DTEND;TZID=America/Los_Angeles:20260622T210000
STATUS:CONFIRMED
SUMMARY:WEIRD LITTLE DRINKS vs COSI VICINO
URL:/League/Schedule/2969
DESCRIPTION:Regular Season match: WEIRD LITTLE DRINKS vs COS
 I VICINO
LOCATION:Martinez Court 9
END:VEVENT
BEGIN:VEVENT
DTSTAMP:20260419T000000Z
UID:266c7c8e-f2de-453f-8110-d60f64933023@ClaytonBocce
DTSTART;TZID=America/Los_Angeles:20260629T183000
DTEND;TZID=America/Los_Angeles:20260629T210000
STATUS:CONFIRMED
SUMMARY:WEIRD LITTLE DRINKS vs MASTER BLASTERS
URL:/League/Schedule/2969
DESCRIPTION:Regular Season match: WEIRD LITTLE DRINKS vs MAS
 TER BLASTERS
LOCATION:Martinez Court 12
END:VEVENT
BEGIN:VEVENT
DTSTAMP:20260419T000000Z
UID:421bcb8d-304c-4f89-b1d7-ffce834d2077@ClaytonBocce
DTSTART;TZID=America/Los_Angeles:20260720T183000
DTEND;TZID=America/Los_Angeles:20260720T210000
STATUS:CONFIRMED
SUMMARY:WEIRD LITTLE DRINKS vs HAPPY HOUR HURLERS
URL:/League/Schedule/2969
DESCRIPTION:Regular Season match: WEIRD LITTLE DRINKS vs HAP
 PY HOUR HURLERS
LOCATION:Martinez Court 6
END:VEVENT
BEGIN:VEVENT
DTSTAMP:20260419T000000Z
UID:07360d6c-e4cc-4123-aef6-d88f8bf10e06@ClaytonBocce
DTSTART;TZID=America/Los_Angeles:20260727T183000
DTEND;TZID=America/Los_Angeles:20260727T210000
STATUS:CONFIRMED
SUMMARY:WEIRD LITTLE DRINKS vs FARLO BAMBINO FARLO
URL:/League/Schedule/2969
DESCRIPTION:Regular Season match: WEIRD LITTLE DRINKS vs FAR
 LO BAMBINO FARLO
LOCATION:Martinez Court 5
END:VEVENT
BEGIN:VEVENT
DTSTAMP:20260419T000000Z
UID:1d174aae-fb29-4c1b-a480-acb0bd2b666c@ClaytonBocce
DTSTART;TZID=America/Los_Angeles:20260803T183000
DTEND;TZID=America/Los_Angeles:20260803T210000
STATUS:CONFIRMED
SUMMARY:WEIRD LITTLE DRINKS vs ALL BOCCED UP
URL:/League/Schedule/2969
DESCRIPTION:Regular Season match: WEIRD LITTLE DRINKS vs ALL
  BOCCED UP
LOCATION:Martinez Court 10
END:VEVENT
BEGIN:VEVENT
DTSTAMP:20260419T000000Z
UID:ebf0558f-3d57-4e4f-bd7e-fb41dabc3ca0@ClaytonBocce
DTSTART;TZID=America/Los_Angeles:20260810T183000
DTEND;TZID=America/Los_Angeles:20260810T210000
STATUS:CONFIRMED
SUMMARY:WEIRD LITTLE DRINKS vs HOLY ROLLERS
URL:/League/Schedule/2969
DESCRIPTION:Regular Season match: WEIRD LITTLE DRINKS vs HOL
 Y ROLLERS
LOCATION:Martinez Court 4
END:VEVENT
BEGIN:VEVENT
DTSTAMP:20260419T000000Z
UID:1604443f-bdbc-478a-bc0c-9e6b3a0f89bd@ClaytonBocce
DTSTART;TZID=America/Los_Angeles:20260817T183000
DTEND;TZID=America/Los_Angeles:20260817T210000
STATUS:CONFIRMED
SUMMARY:WEIRD LITTLE DRINKS vs COSI VICINO
URL:/League/Schedule/2969
DESCRIPTION:Regular Season match: WEIRD LITTLE DRINKS vs COS
 I VICINO
LOCATION:Martinez Court 14
END:VEVENT
BEGIN:VEVENT
DTSTAMP:20260419T000000Z
UID:0a55389f-e4a1-421b-a6eb-d75488b5e094@ClaytonBocce
DTSTART;TZID=America/Los_Angeles:20260824T183000
DTEND;TZID=America/Los_Angeles:20260824T210000
STATUS:CONFIRMED
SUMMARY:WEIRD LITTLE DRINKS vs MASTER BLASTERS
URL:/League/Schedule/2969
DESCRIPTION:Regular Season match: WEIRD LITTLE DRINKS vs MAS
 TER BLASTERS
LOCATION:Martinez Court 11
END:VEVENT
BEGIN:VEVENT
DTSTAMP:20260419T000000Z
UID:35dd95c1-9c3d-4210-8a47-3e0355cca942@ClaytonBocce
DTSTART;TZID=America/Los_Angeles:20260907T183000
DTEND;TZID=America/Los_Angeles:20260907T210000
STATUS:CONFIRMED
SUMMARY:WEIRD LITTLE DRINKS vs HAPPY HOUR HURLERS
URL:/League/Schedule/2969
DESCRIPTION:Regular Season match: WEIRD LITTLE DRINKS vs HAP
 PY HOUR HURLERS
LOCATION:Martinez Court 13
END:VEVENT
BEGIN:VEVENT
DTSTAMP:20260419T000000Z
UID:a29497d9-b6c6-4684-a494-577d2e2bbfec@ClaytonBocce
DTSTART;TZID=America/Los_Angeles:20260914T183000
DTEND;TZID=America/Los_Angeles:20260914T210000
STATUS:CONFIRMED
SUMMARY:WEIRD LITTLE DRINKS vs FARLO BAMBINO FARLO
URL:/League/Schedule/2969
DESCRIPTION:Regular Season match: WEIRD LITTLE DRINKS vs FAR
 LO BAMBINO FARLO
LOCATION:Martinez Court 3
END:VEVENT
BEGIN:VEVENT
DTSTAMP:20260419T000000Z
UID:d4519e4d-1065-446e-8a20-55bebf427d96@ClaytonBocce
DTSTART;TZID=America/Los_Angeles:20260921T183000
DTEND;TZID=America/Los_Angeles:20260921T210000
STATUS:CONFIRMED
SUMMARY:WEIRD LITTLE DRINKS vs ALL BOCCED UP
URL:/League/Schedule/2969
DESCRIPTION:Regular Season match: WEIRD LITTLE DRINKS vs ALL
  BOCCED UP
LOCATION:Martinez Court 12
END:VEVENT
END:VCALENDAR
