BEGIN:VCALENDAR
VERSION:2.0
PRODID:-//Clayton Bocce League
METHOD:PUBLISH
BEGIN:VTIMEZONE
TZID:America/Los_Angeles
X-LIC-LOCATION:America/Los_Angeles
BEGIN:DAYLIGHT
TZOFFSETFROM:-0800
TZOFFSETTO:-0700
TZNAME:PDT
DTSTART:20070311T020000
RRULE:FREQ=YEARLY;BYMONTH=3;BYDAY=2SU
END:DAYLIGHT
BEGIN:STANDARD
TZOFFSETFROM:-0700
TZOFFSETTO:-0800
TZNAME:PST
DTSTART:20071104T020000
RRULE:FREQ=YEARLY;BYMONTH=11;BYDAY=1SU
END:STANDARD
END:VTIMEZONE
BEGIN:VEVENT
DTSTAMP:20260419T000000Z
UID:a1df6763-8330-4e9f-b499-1fe6542076bc@ClaytonBocce
DTSTART;TZID=America/Los_Angeles:20260427T183000
DTEND;TZID=America/Los_Angeles:20260427T210000
STATUS:CONFIRMED
SUMMARY:COSI VICINO vs WEIRD LITTLE DRINKS
URL:/League/Schedule/2972
DESCRIPTION:Regular Season match: COSI VICINO vs WEIRD LITTL
 E DRINKS
LOCATION:Martinez Court 5
END:VEVENT
BEGIN:VEVENT
DTSTAMP:20260419T000000Z
UID:fa44fcc1-431b-45e2-a204-9b2a6682aa06@ClaytonBocce
DTSTART;TZID=America/Los_Angeles:20260504T183000
DTEND;TZID=America/Los_Angeles:20260504T210000
STATUS:CONFIRMED
SUMMARY:COSI VICINO vs HOLY ROLLERS
URL:/League/Schedule/2972
DESCRIPTION:Regular Season match: COSI VICINO vs HOLY ROLLER
 S
LOCATION:Martinez Court 10
END:VEVENT
BEGIN:VEVENT
DTSTAMP:20260419T000000Z
UID:49d76a86-a509-44d3-a1dc-d4d2e5b9043f@ClaytonBocce
DTSTART;TZID=America/Los_Angeles:20260511T183000
DTEND;TZID=America/Los_Angeles:20260511T210000
STATUS:CONFIRMED
SUMMARY:COSI VICINO vs ALL BOCCED UP
URL:/League/Schedule/2972
DESCRIPTION:Regular Season match: COSI VICINO vs ALL BOCCED 
 UP
LOCATION:Martinez Court 13
END:VEVENT
BEGIN:VEVENT
DTSTAMP:20260419T000000Z
UID:aa835652-a24a-4f95-af52-ab33565898a1@ClaytonBocce
DTSTART;TZID=America/Los_Angeles:20260518T183000
DTEND;TZID=America/Los_Angeles:20260518T210000
STATUS:CONFIRMED
SUMMARY:COSI VICINO vs FARLO BAMBINO FARLO
URL:/League/Schedule/2972
DESCRIPTION:Regular Season match: COSI VICINO vs FARLO BAMBI
 NO FARLO
LOCATION:Martinez Court 2
END:VEVENT
BEGIN:VEVENT
DTSTAMP:20260419T000000Z
UID:ebb8ad6f-5404-4987-9bf6-4f143d472506@ClaytonBocce
DTSTART;TZID=America/Los_Angeles:20260601T183000
DTEND;TZID=America/Los_Angeles:20260601T210000
STATUS:CONFIRMED
SUMMARY:COSI VICINO vs MASTER BLASTERS
URL:/League/Schedule/2972
DESCRIPTION:Regular Season match: COSI VICINO vs MASTER BLAS
 TERS
LOCATION:Martinez Court 1
END:VEVENT
BEGIN:VEVENT
DTSTAMP:20260419T000000Z
UID:b67f7bbf-e486-4ba5-921c-157638551455@ClaytonBocce
DTSTART;TZID=America/Los_Angeles:20260608T183000
DTEND;TZID=America/Los_Angeles:20260608T210000
STATUS:CONFIRMED
SUMMARY:COSI VICINO vs HAPPY HOUR HURLERS
URL:/League/Schedule/2972
DESCRIPTION:Regular Season match: COSI VICINO vs HAPPY HOUR 
 HURLERS
LOCATION:Martinez Court 8
END:VEVENT
BEGIN:VEVENT
DTSTAMP:20260419T000000Z
UID:581c6414-96c5-4d1e-b364-78d0cbdbeaf6@ClaytonBocce
DTSTART;TZID=America/Los_Angeles:20260622T183000
DTEND;TZID=America/Los_Angeles:20260622T210000
STATUS:CONFIRMED
SUMMARY:COSI VICINO vs WEIRD LITTLE DRINKS
URL:/League/Schedule/2972
DESCRIPTION:Regular Season match: COSI VICINO vs WEIRD LITTL
 E DRINKS
LOCATION:Martinez Court 9
END:VEVENT
BEGIN:VEVENT
DTSTAMP:20260419T000000Z
UID:6eb560d4-811c-481b-a49b-b1ecdfda7645@ClaytonBocce
DTSTART;TZID=America/Los_Angeles:20260629T183000
DTEND;TZID=America/Los_Angeles:20260629T210000
STATUS:CONFIRMED
SUMMARY:COSI VICINO vs HOLY ROLLERS
URL:/League/Schedule/2972
DESCRIPTION:Regular Season match: COSI VICINO vs HOLY ROLLER
 S
LOCATION:Martinez Court 3
END:VEVENT
BEGIN:VEVENT
DTSTAMP:20260419T000000Z
UID:09379857-fa6f-490e-9996-a238d2a0b4c3@ClaytonBocce
DTSTART;TZID=America/Los_Angeles:20260713T183000
DTEND;TZID=America/Los_Angeles:20260713T210000
STATUS:CONFIRMED
SUMMARY:COSI VICINO vs ALL BOCCED UP
URL:/League/Schedule/2972
DESCRIPTION:Regular Season match: COSI VICINO vs ALL BOCCED 
 UP
LOCATION:Martinez Court 6
END:VEVENT
BEGIN:VEVENT
DTSTAMP:20260419T000000Z
UID:e5d77742-ec44-4129-925d-e83eec6b0196@ClaytonBocce
DTSTART;TZID=America/Los_Angeles:20260720T183000
DTEND;TZID=America/Los_Angeles:20260720T210000
STATUS:CONFIRMED
SUMMARY:COSI VICINO vs FARLO BAMBINO FARLO
URL:/League/Schedule/2972
DESCRIPTION:Regular Season match: COSI VICINO vs FARLO BAMBI
 NO FARLO
LOCATION:Martinez Court 7
END:VEVENT
BEGIN:VEVENT
DTSTAMP:20260419T000000Z
UID:a5394b25-7498-40a7-8d09-163c683efa2f@ClaytonBocce
DTSTART;TZID=America/Los_Angeles:20260727T183000
DTEND;TZID=America/Los_Angeles:20260727T210000
STATUS:CONFIRMED
SUMMARY:COSI VICINO vs MASTER BLASTERS
URL:/League/Schedule/2972
DESCRIPTION:Regular Season match: COSI VICINO vs MASTER BLAS
 TERS
LOCATION:Martinez Court 4
END:VEVENT
BEGIN:VEVENT
DTSTAMP:20260419T000000Z
UID:216e7708-8323-46fd-93d9-cd4e47edd5d2@ClaytonBocce
DTSTART;TZID=America/Los_Angeles:20260803T183000
DTEND;TZID=America/Los_Angeles:20260803T210000
STATUS:CONFIRMED
SUMMARY:COSI VICINO vs HAPPY HOUR HURLERS
URL:/League/Schedule/2972
DESCRIPTION:Regular Season match: COSI VICINO vs HAPPY HOUR 
 HURLERS
LOCATION:Martinez Court 11
END:VEVENT
BEGIN:VEVENT
DTSTAMP:20260419T000000Z
UID:1604443f-bdbc-478a-bc0c-9e6b3a0f89bd@ClaytonBocce
DTSTART;TZID=America/Los_Angeles:20260817T183000
DTEND;TZID=America/Los_Angeles:20260817T210000
STATUS:CONFIRMED
SUMMARY:COSI VICINO vs WEIRD LITTLE DRINKS
URL:/League/Schedule/2972
DESCRIPTION:Regular Season match: COSI VICINO vs WEIRD LITTL
 E DRINKS
LOCATION:Martinez Court 14
END:VEVENT
BEGIN:VEVENT
DTSTAMP:20260419T000000Z
UID:a1f8ef4d-0dc9-43e1-97cc-310373bc69ea@ClaytonBocce
DTSTART;TZID=America/Los_Angeles:20260824T183000
DTEND;TZID=America/Los_Angeles:20260824T210000
STATUS:CONFIRMED
SUMMARY:COSI VICINO vs HOLY ROLLERS
URL:/League/Schedule/2972
DESCRIPTION:Regular Season match: COSI VICINO vs HOLY ROLLER
 S
LOCATION:Martinez Court 8
END:VEVENT
BEGIN:VEVENT
DTSTAMP:20260419T000000Z
UID:0c449fd1-d2fc-4552-b08f-4cb9228d0330@ClaytonBocce
DTSTART;TZID=America/Los_Angeles:20260831T183000
DTEND;TZID=America/Los_Angeles:20260831T210000
STATUS:CONFIRMED
SUMMARY:COSI VICINO vs ALL BOCCED UP
URL:/League/Schedule/2972
DESCRIPTION:Regular Season match: COSI VICINO vs ALL BOCCED 
 UP
LOCATION:Martinez Court 4
END:VEVENT
BEGIN:VEVENT
DTSTAMP:20260419T000000Z
UID:59008dcf-0487-44e0-8f03-da5f92617623@ClaytonBocce
DTSTART;TZID=America/Los_Angeles:20260907T183000
DTEND;TZID=America/Los_Angeles:20260907T210000
STATUS:CONFIRMED
SUMMARY:COSI VICINO vs FARLO BAMBINO FARLO
URL:/League/Schedule/2972
DESCRIPTION:Regular Season match: COSI VICINO vs FARLO BAMBI
 NO FARLO
LOCATION:Martinez Court 15
END:VEVENT
BEGIN:VEVENT
DTSTAMP:20260419T000000Z
UID:14e91b8d-626e-4ca5-9d27-6cef8174b0af@ClaytonBocce
DTSTART;TZID=America/Los_Angeles:20260914T183000
DTEND;TZID=America/Los_Angeles:20260914T210000
STATUS:CONFIRMED
SUMMARY:COSI VICINO vs MASTER BLASTERS
URL:/League/Schedule/2972
DESCRIPTION:Regular Season match: COSI VICINO vs MASTER BLAS
 TERS
LOCATION:Martinez Court 12
END:VEVENT
BEGIN:VEVENT
DTSTAMP:20260419T000000Z
UID:15912870-cb83-41f5-91b6-f500ce1dfabe@ClaytonBocce
DTSTART;TZID=America/Los_Angeles:20260921T183000
DTEND;TZID=America/Los_Angeles:20260921T210000
STATUS:CONFIRMED
SUMMARY:COSI VICINO vs HAPPY HOUR HURLERS
URL:/League/Schedule/2972
DESCRIPTION:Regular Season match: COSI VICINO vs HAPPY HOUR 
 HURLERS
LOCATION:Martinez Court 2
END:VEVENT
END:VCALENDAR
