BEGIN:VCALENDAR
VERSION:2.0
PRODID:-//Clayton Bocce League
METHOD:PUBLISH
BEGIN:VTIMEZONE
TZID:America/Los_Angeles
X-LIC-LOCATION:America/Los_Angeles
BEGIN:DAYLIGHT
TZOFFSETFROM:-0800
TZOFFSETTO:-0700
TZNAME:PDT
DTSTART:20070311T020000
RRULE:FREQ=YEARLY;BYMONTH=3;BYDAY=2SU
END:DAYLIGHT
BEGIN:STANDARD
TZOFFSETFROM:-0700
TZOFFSETTO:-0800
TZNAME:PST
DTSTART:20071104T020000
RRULE:FREQ=YEARLY;BYMONTH=11;BYDAY=1SU
END:STANDARD
END:VTIMEZONE
BEGIN:VEVENT
DTSTAMP:20260419T000000Z
UID:a3a364e7-969e-465f-9950-31d97324a012@ClaytonBocce
DTSTART;TZID=America/Los_Angeles:20260420T183000
DTEND;TZID=America/Los_Angeles:20260420T210000
STATUS:CONFIRMED
SUMMARY:ROLLING WITH MY HOMIES vs BOCCE AMICI
URL:/League/Schedule/2963
DESCRIPTION:Regular Season match: ROLLING WITH MY HOMIES vs 
 BOCCE AMICI
LOCATION:Martinez Court 11
END:VEVENT
BEGIN:VEVENT
DTSTAMP:20260419T000000Z
UID:f96f9d68-e947-4088-b2ac-f3d0d6134b9a@ClaytonBocce
DTSTART;TZID=America/Los_Angeles:20260427T183000
DTEND;TZID=America/Los_Angeles:20260427T210000
STATUS:CONFIRMED
SUMMARY:ROLLING WITH MY HOMIES vs GWENS FIREBALLS
URL:/League/Schedule/2963
DESCRIPTION:Regular Season match: ROLLING WITH MY HOMIES vs 
 GWENS FIREBALLS
LOCATION:Martinez Court 15
END:VEVENT
BEGIN:VEVENT
DTSTAMP:20260419T000000Z
UID:a3004ff3-0113-4ea2-843f-2808ba05f288@ClaytonBocce
DTSTART;TZID=America/Los_Angeles:20260511T183000
DTEND;TZID=America/Los_Angeles:20260511T210000
STATUS:CONFIRMED
SUMMARY:ROLLING WITH MY HOMIES vs THROW DOWN
URL:/League/Schedule/2963
DESCRIPTION:Regular Season match: ROLLING WITH MY HOMIES vs 
 THROW DOWN
LOCATION:Martinez Court 8
END:VEVENT
BEGIN:VEVENT
DTSTAMP:20260419T000000Z
UID:22f83a95-98c4-4c4b-864e-3daf0087e498@ClaytonBocce
DTSTART;TZID=America/Los_Angeles:20260518T183000
DTEND;TZID=America/Los_Angeles:20260518T210000
STATUS:CONFIRMED
SUMMARY:ROLLING WITH MY HOMIES vs I VINCITORI
URL:/League/Schedule/2963
DESCRIPTION:Regular Season match: ROLLING WITH MY HOMIES vs 
 I VINCITORI
LOCATION:Martinez Court 13
END:VEVENT
BEGIN:VEVENT
DTSTAMP:20260419T000000Z
UID:78928610-0bae-4298-a26a-ab324fc7e7d8@ClaytonBocce
DTSTART;TZID=America/Los_Angeles:20260601T183000
DTEND;TZID=America/Los_Angeles:20260601T210000
STATUS:CONFIRMED
SUMMARY:ROLLING WITH MY HOMIES vs IS IT IN?
URL:/League/Schedule/2963
DESCRIPTION:Regular Season match: ROLLING WITH MY HOMIES vs 
 IS IT IN?
LOCATION:Martinez Court 14
END:VEVENT
BEGIN:VEVENT
DTSTAMP:20260419T000000Z
UID:ae0af1a3-f3e7-441b-a9f6-80323ea3dbe5@ClaytonBocce
DTSTART;TZID=America/Los_Angeles:20260608T183000
DTEND;TZID=America/Los_Angeles:20260608T210000
STATUS:CONFIRMED
SUMMARY:ROLLING WITH MY HOMIES vs CORNERSTONE
URL:/League/Schedule/2963
DESCRIPTION:Regular Season match: ROLLING WITH MY HOMIES vs 
 CORNERSTONE
LOCATION:Martinez Court 5
END:VEVENT
BEGIN:VEVENT
DTSTAMP:20260419T000000Z
UID:cf69def7-b282-4a8b-9401-ce4bc207f56a@ClaytonBocce
DTSTART;TZID=America/Los_Angeles:20260615T183000
DTEND;TZID=America/Los_Angeles:20260615T210000
STATUS:CONFIRMED
SUMMARY:ROLLING WITH MY HOMIES vs BOCCE AMICI
URL:/League/Schedule/2963
DESCRIPTION:Regular Season match: ROLLING WITH MY HOMIES vs 
 BOCCE AMICI
LOCATION:Martinez Court 12
END:VEVENT
BEGIN:VEVENT
DTSTAMP:20260419T000000Z
UID:a6f2fbe7-1011-45d6-b598-267e1da19190@ClaytonBocce
DTSTART;TZID=America/Los_Angeles:20260622T183000
DTEND;TZID=America/Los_Angeles:20260622T210000
STATUS:CONFIRMED
SUMMARY:ROLLING WITH MY HOMIES vs GWENS FIREBALLS
URL:/League/Schedule/2963
DESCRIPTION:Regular Season match: ROLLING WITH MY HOMIES vs 
 GWENS FIREBALLS
LOCATION:Martinez Court 1
END:VEVENT
BEGIN:VEVENT
DTSTAMP:20260419T000000Z
UID:db3b2435-6d87-4fa4-aa88-8adf6fb611f7@ClaytonBocce
DTSTART;TZID=America/Los_Angeles:20260713T183000
DTEND;TZID=America/Los_Angeles:20260713T210000
STATUS:CONFIRMED
SUMMARY:ROLLING WITH MY HOMIES vs THROW DOWN
URL:/League/Schedule/2963
DESCRIPTION:Regular Season match: ROLLING WITH MY HOMIES vs 
 THROW DOWN
LOCATION:Martinez Court 1
END:VEVENT
BEGIN:VEVENT
DTSTAMP:20260419T000000Z
UID:f0b0e6df-ff9c-4780-901e-ce05a82b076d@ClaytonBocce
DTSTART;TZID=America/Los_Angeles:20260720T183000
DTEND;TZID=America/Los_Angeles:20260720T210000
STATUS:CONFIRMED
SUMMARY:ROLLING WITH MY HOMIES vs I VINCITORI
URL:/League/Schedule/2963
DESCRIPTION:Regular Season match: ROLLING WITH MY HOMIES vs 
 I VINCITORI
LOCATION:Martinez Court 3
END:VEVENT
BEGIN:VEVENT
DTSTAMP:20260419T000000Z
UID:202216bc-ce1a-42d4-aeb4-7abfda533ca0@ClaytonBocce
DTSTART;TZID=America/Los_Angeles:20260727T183000
DTEND;TZID=America/Los_Angeles:20260727T210000
STATUS:CONFIRMED
SUMMARY:ROLLING WITH MY HOMIES vs IS IT IN?
URL:/League/Schedule/2963
DESCRIPTION:Regular Season match: ROLLING WITH MY HOMIES vs 
 IS IT IN?
LOCATION:Martinez Court 6
END:VEVENT
BEGIN:VEVENT
DTSTAMP:20260419T000000Z
UID:9e11a288-ce65-4e06-8ce2-82019856b117@ClaytonBocce
DTSTART;TZID=America/Los_Angeles:20260803T183000
DTEND;TZID=America/Los_Angeles:20260803T210000
STATUS:CONFIRMED
SUMMARY:ROLLING WITH MY HOMIES vs CORNERSTONE
URL:/League/Schedule/2963
DESCRIPTION:Regular Season match: ROLLING WITH MY HOMIES vs 
 CORNERSTONE
LOCATION:Martinez Court 9
END:VEVENT
BEGIN:VEVENT
DTSTAMP:20260419T000000Z
UID:13aefd5d-0d50-45c3-a9df-acdc733d9d23@ClaytonBocce
DTSTART;TZID=America/Los_Angeles:20260810T183000
DTEND;TZID=America/Los_Angeles:20260810T210000
STATUS:CONFIRMED
SUMMARY:ROLLING WITH MY HOMIES vs BOCCE AMICI
URL:/League/Schedule/2963
DESCRIPTION:Regular Season match: ROLLING WITH MY HOMIES vs 
 BOCCE AMICI
LOCATION:Martinez Court 2
END:VEVENT
BEGIN:VEVENT
DTSTAMP:20260419T000000Z
UID:782d8df4-edc1-48ce-b8c6-89c089f3d7cd@ClaytonBocce
DTSTART;TZID=America/Los_Angeles:20260817T183000
DTEND;TZID=America/Los_Angeles:20260817T210000
STATUS:CONFIRMED
SUMMARY:ROLLING WITH MY HOMIES vs GWENS FIREBALLS
URL:/League/Schedule/2963
DESCRIPTION:Regular Season match: ROLLING WITH MY HOMIES vs 
 GWENS FIREBALLS
LOCATION:Martinez Court 4
END:VEVENT
BEGIN:VEVENT
DTSTAMP:20260419T000000Z
UID:6ad87475-dcde-4289-8029-6002fcbbba29@ClaytonBocce
DTSTART;TZID=America/Los_Angeles:20260831T183000
DTEND;TZID=America/Los_Angeles:20260831T210000
STATUS:CONFIRMED
SUMMARY:ROLLING WITH MY HOMIES vs THROW DOWN
URL:/League/Schedule/2963
DESCRIPTION:Regular Season match: ROLLING WITH MY HOMIES vs 
 THROW DOWN
LOCATION:Martinez Court 7
END:VEVENT
BEGIN:VEVENT
DTSTAMP:20260419T000000Z
UID:c6661f62-37e4-42ef-9663-2d37e3a78045@ClaytonBocce
DTSTART;TZID=America/Los_Angeles:20260907T183000
DTEND;TZID=America/Los_Angeles:20260907T210000
STATUS:CONFIRMED
SUMMARY:ROLLING WITH MY HOMIES vs I VINCITORI
URL:/League/Schedule/2963
DESCRIPTION:Regular Season match: ROLLING WITH MY HOMIES vs 
 I VINCITORI
LOCATION:Martinez Court 8
END:VEVENT
BEGIN:VEVENT
DTSTAMP:20260419T000000Z
UID:c93502b3-3f8c-44ef-acf0-0837c9fe4744@ClaytonBocce
DTSTART;TZID=America/Los_Angeles:20260914T183000
DTEND;TZID=America/Los_Angeles:20260914T210000
STATUS:CONFIRMED
SUMMARY:ROLLING WITH MY HOMIES vs IS IT IN?
URL:/League/Schedule/2963
DESCRIPTION:Regular Season match: ROLLING WITH MY HOMIES vs 
 IS IT IN?
LOCATION:Martinez Court 15
END:VEVENT
BEGIN:VEVENT
DTSTAMP:20260419T000000Z
UID:d30deec3-97e0-4b97-b8e0-22d32215bf0e@ClaytonBocce
DTSTART;TZID=America/Los_Angeles:20260921T183000
DTEND;TZID=America/Los_Angeles:20260921T210000
STATUS:CONFIRMED
SUMMARY:ROLLING WITH MY HOMIES vs CORNERSTONE
URL:/League/Schedule/2963
DESCRIPTION:Regular Season match: ROLLING WITH MY HOMIES vs 
 CORNERSTONE
LOCATION:Martinez Court 6
END:VEVENT
END:VCALENDAR
