BEGIN:VCALENDAR
VERSION:2.0
PRODID:-//Clayton Bocce League
METHOD:PUBLISH
BEGIN:VTIMEZONE
TZID:America/Los_Angeles
X-LIC-LOCATION:America/Los_Angeles
BEGIN:DAYLIGHT
TZOFFSETFROM:-0800
TZOFFSETTO:-0700
TZNAME:PDT
DTSTART:20070311T020000
RRULE:FREQ=YEARLY;BYMONTH=3;BYDAY=2SU
END:DAYLIGHT
BEGIN:STANDARD
TZOFFSETFROM:-0700
TZOFFSETTO:-0800
TZNAME:PST
DTSTART:20071104T020000
RRULE:FREQ=YEARLY;BYMONTH=11;BYDAY=1SU
END:STANDARD
END:VTIMEZONE
BEGIN:VEVENT
DTSTAMP:20260419T000000Z
UID:a1ad0813-613a-46c9-b24b-3b8810ceda31@ClaytonBocce
DTSTART;TZID=America/Los_Angeles:20260420T183000
DTEND;TZID=America/Los_Angeles:20260420T210000
STATUS:CONFIRMED
SUMMARY:PELOTAS CALIENTE vs ON A ROLL
URL:/League/Schedule/2954
DESCRIPTION:Regular Season match: PELOTAS CALIENTE vs ON A R
 OLL
LOCATION:Martinez Court 9
END:VEVENT
BEGIN:VEVENT
DTSTAMP:20260419T000000Z
UID:ea60c173-2d70-4dad-8af8-312a958a8aed@ClaytonBocce
DTSTART;TZID=America/Los_Angeles:20260427T183000
DTEND;TZID=America/Los_Angeles:20260427T210000
STATUS:CONFIRMED
SUMMARY:PELOTAS CALIENTE vs TEAM CLARK
URL:/League/Schedule/2954
DESCRIPTION:Regular Season match: PELOTAS CALIENTE vs TEAM C
 LARK
LOCATION:Martinez Court 13
END:VEVENT
BEGIN:VEVENT
DTSTAMP:20260419T000000Z
UID:2d4e7385-a1d7-49ca-8f13-9d2a86e13f04@ClaytonBocce
DTSTART;TZID=America/Los_Angeles:20260504T183000
DTEND;TZID=America/Los_Angeles:20260504T210000
STATUS:CONFIRMED
SUMMARY:PELOTAS CALIENTE vs BEEOCHI BALLERS
URL:/League/Schedule/2954
DESCRIPTION:Regular Season match: PELOTAS CALIENTE vs BEEOCH
 I BALLERS
LOCATION:Martinez Court 3
END:VEVENT
BEGIN:VEVENT
DTSTAMP:20260419T000000Z
UID:d893ae03-ef2e-47a5-9604-cec254d5f329@ClaytonBocce
DTSTART;TZID=America/Los_Angeles:20260511T183000
DTEND;TZID=America/Los_Angeles:20260511T210000
STATUS:CONFIRMED
SUMMARY:PELOTAS CALIENTE vs WHISKEY LANE SHOOTERS
URL:/League/Schedule/2954
DESCRIPTION:Regular Season match: PELOTAS CALIENTE vs WHISKE
 Y LANE SHOOTERS
LOCATION:Martinez Court 6
END:VEVENT
BEGIN:VEVENT
DTSTAMP:20260419T000000Z
UID:ef468dd6-7c83-40c4-aaa7-78fadcff0586@ClaytonBocce
DTSTART;TZID=America/Los_Angeles:20260601T183000
DTEND;TZID=America/Los_Angeles:20260601T210000
STATUS:CONFIRMED
SUMMARY:PELOTAS CALIENTE vs BOCCE BOMBERS
URL:/League/Schedule/2954
DESCRIPTION:Regular Season match: PELOTAS CALIENTE vs BOCCE 
 BOMBERS
LOCATION:Martinez Court 11
END:VEVENT
BEGIN:VEVENT
DTSTAMP:20260419T000000Z
UID:0d688779-e2f5-468c-8f6b-653734b31541@ClaytonBocce
DTSTART;TZID=America/Los_Angeles:20260608T183000
DTEND;TZID=America/Los_Angeles:20260608T210000
STATUS:CONFIRMED
SUMMARY:PELOTAS CALIENTE vs BASTARDS
URL:/League/Schedule/2954
DESCRIPTION:Regular Season match: PELOTAS CALIENTE vs BASTAR
 DS
LOCATION:Martinez Court 15
END:VEVENT
BEGIN:VEVENT
DTSTAMP:20260419T000000Z
UID:38423705-4587-44fd-9e66-5529c9fdc42a@ClaytonBocce
DTSTART;TZID=America/Los_Angeles:20260615T183000
DTEND;TZID=America/Los_Angeles:20260615T210000
STATUS:CONFIRMED
SUMMARY:PELOTAS CALIENTE vs ON A ROLL
URL:/League/Schedule/2954
DESCRIPTION:Regular Season match: PELOTAS CALIENTE vs ON A R
 OLL
LOCATION:Martinez Court 6
END:VEVENT
BEGIN:VEVENT
DTSTAMP:20260419T000000Z
UID:1304f25e-473f-446c-8133-353fe34600a8@ClaytonBocce
DTSTART;TZID=America/Los_Angeles:20260622T183000
DTEND;TZID=America/Los_Angeles:20260622T210000
STATUS:CONFIRMED
SUMMARY:PELOTAS CALIENTE vs TEAM CLARK
URL:/League/Schedule/2954
DESCRIPTION:Regular Season match: PELOTAS CALIENTE vs TEAM C
 LARK
LOCATION:Martinez Court 2
END:VEVENT
BEGIN:VEVENT
DTSTAMP:20260419T000000Z
UID:3c1d29a5-4269-41b6-aef8-1bd5d91036c9@ClaytonBocce
DTSTART;TZID=America/Los_Angeles:20260629T183000
DTEND;TZID=America/Los_Angeles:20260629T210000
STATUS:CONFIRMED
SUMMARY:PELOTAS CALIENTE vs BEEOCHI BALLERS
URL:/League/Schedule/2954
DESCRIPTION:Regular Season match: PELOTAS CALIENTE vs BEEOCH
 I BALLERS
LOCATION:Martinez Court 5
END:VEVENT
BEGIN:VEVENT
DTSTAMP:20260419T000000Z
UID:c8cd4dda-9881-4da7-b0e9-7230314a5ffa@ClaytonBocce
DTSTART;TZID=America/Los_Angeles:20260713T183000
DTEND;TZID=America/Los_Angeles:20260713T210000
STATUS:CONFIRMED
SUMMARY:PELOTAS CALIENTE vs WHISKEY LANE SHOOTERS
URL:/League/Schedule/2954
DESCRIPTION:Regular Season match: PELOTAS CALIENTE vs WHISKE
 Y LANE SHOOTERS
LOCATION:Martinez Court 14
END:VEVENT
BEGIN:VEVENT
DTSTAMP:20260419T000000Z
UID:38731024-1f8c-4111-9172-e54ba8f3419e@ClaytonBocce
DTSTART;TZID=America/Los_Angeles:20260727T183000
DTEND;TZID=America/Los_Angeles:20260727T210000
STATUS:CONFIRMED
SUMMARY:PELOTAS CALIENTE vs BOCCE BOMBERS
URL:/League/Schedule/2954
DESCRIPTION:Regular Season match: PELOTAS CALIENTE vs BOCCE 
 BOMBERS
LOCATION:Martinez Court 2
END:VEVENT
BEGIN:VEVENT
DTSTAMP:20260419T000000Z
UID:bc4c6002-2e14-4cef-a79a-10152d68a030@ClaytonBocce
DTSTART;TZID=America/Los_Angeles:20260803T183000
DTEND;TZID=America/Los_Angeles:20260803T210000
STATUS:CONFIRMED
SUMMARY:PELOTAS CALIENTE vs BASTARDS
URL:/League/Schedule/2954
DESCRIPTION:Regular Season match: PELOTAS CALIENTE vs BASTAR
 DS
LOCATION:Martinez Court 1
END:VEVENT
BEGIN:VEVENT
DTSTAMP:20260419T000000Z
UID:de7f6471-4c69-4ba3-8e5a-a633a55bc434@ClaytonBocce
DTSTART;TZID=America/Los_Angeles:20260810T183000
DTEND;TZID=America/Los_Angeles:20260810T210000
STATUS:CONFIRMED
SUMMARY:PELOTAS CALIENTE vs ON A ROLL
URL:/League/Schedule/2954
DESCRIPTION:Regular Season match: PELOTAS CALIENTE vs ON A R
 OLL
LOCATION:Martinez Court 13
END:VEVENT
BEGIN:VEVENT
DTSTAMP:20260419T000000Z
UID:4ad68fe8-912d-483b-afa4-529d52183cc9@ClaytonBocce
DTSTART;TZID=America/Los_Angeles:20260817T183000
DTEND;TZID=America/Los_Angeles:20260817T210000
STATUS:CONFIRMED
SUMMARY:PELOTAS CALIENTE vs TEAM CLARK
URL:/League/Schedule/2954
DESCRIPTION:Regular Season match: PELOTAS CALIENTE vs TEAM C
 LARK
LOCATION:Martinez Court 7
END:VEVENT
BEGIN:VEVENT
DTSTAMP:20260419T000000Z
UID:80992664-5684-4506-aa65-bdc95c16b8fc@ClaytonBocce
DTSTART;TZID=America/Los_Angeles:20260824T183000
DTEND;TZID=America/Los_Angeles:20260824T210000
STATUS:CONFIRMED
SUMMARY:PELOTAS CALIENTE vs BEEOCHI BALLERS
URL:/League/Schedule/2954
DESCRIPTION:Regular Season match: PELOTAS CALIENTE vs BEEOCH
 I BALLERS
LOCATION:Martinez Court 12
END:VEVENT
BEGIN:VEVENT
DTSTAMP:20260419T000000Z
UID:d2bb623f-b664-46f3-9297-d56b6315f54d@ClaytonBocce
DTSTART;TZID=America/Los_Angeles:20260831T183000
DTEND;TZID=America/Los_Angeles:20260831T210000
STATUS:CONFIRMED
SUMMARY:PELOTAS CALIENTE vs WHISKEY LANE SHOOTERS
URL:/League/Schedule/2954
DESCRIPTION:Regular Season match: PELOTAS CALIENTE vs WHISKE
 Y LANE SHOOTERS
LOCATION:Martinez Court 5
END:VEVENT
BEGIN:VEVENT
DTSTAMP:20260419T000000Z
UID:10743de0-a2a2-4604-8f94-1f45ddc13e47@ClaytonBocce
DTSTART;TZID=America/Los_Angeles:20260914T183000
DTEND;TZID=America/Los_Angeles:20260914T210000
STATUS:CONFIRMED
SUMMARY:PELOTAS CALIENTE vs BOCCE BOMBERS
URL:/League/Schedule/2954
DESCRIPTION:Regular Season match: PELOTAS CALIENTE vs BOCCE 
 BOMBERS
LOCATION:Martinez Court 10
END:VEVENT
BEGIN:VEVENT
DTSTAMP:20260419T000000Z
UID:7f03843e-308a-42c1-a6af-acc70c269bbb@ClaytonBocce
DTSTART;TZID=America/Los_Angeles:20260921T183000
DTEND;TZID=America/Los_Angeles:20260921T210000
STATUS:CONFIRMED
SUMMARY:PELOTAS CALIENTE vs BASTARDS
URL:/League/Schedule/2954
DESCRIPTION:Regular Season match: PELOTAS CALIENTE vs BASTAR
 DS
LOCATION:Martinez Court 4
END:VEVENT
END:VCALENDAR
