BEGIN:VCALENDAR
VERSION:2.0
PRODID:-//Clayton Bocce League
METHOD:PUBLISH
BEGIN:VTIMEZONE
TZID:America/Los_Angeles
X-LIC-LOCATION:America/Los_Angeles
BEGIN:DAYLIGHT
TZOFFSETFROM:-0800
TZOFFSETTO:-0700
TZNAME:PDT
DTSTART:20070311T020000
RRULE:FREQ=YEARLY;BYMONTH=3;BYDAY=2SU
END:DAYLIGHT
BEGIN:STANDARD
TZOFFSETFROM:-0700
TZOFFSETTO:-0800
TZNAME:PST
DTSTART:20071104T020000
RRULE:FREQ=YEARLY;BYMONTH=11;BYDAY=1SU
END:STANDARD
END:VTIMEZONE
BEGIN:VEVENT
DTSTAMP:20260419T000000Z
UID:a1ad0813-613a-46c9-b24b-3b8810ceda31@ClaytonBocce
DTSTART;TZID=America/Los_Angeles:20260420T183000
DTEND;TZID=America/Los_Angeles:20260420T210000
STATUS:CONFIRMED
SUMMARY:ON A ROLL vs PELOTAS CALIENTE
URL:/League/Schedule/2955
DESCRIPTION:Regular Season match: ON A ROLL vs PELOTAS CALIE
 NTE
LOCATION:Martinez Court 9
END:VEVENT
BEGIN:VEVENT
DTSTAMP:20260419T000000Z
UID:94fbc193-0ccf-41d5-9212-6a14eb018420@ClaytonBocce
DTSTART;TZID=America/Los_Angeles:20260427T183000
DTEND;TZID=America/Los_Angeles:20260427T210000
STATUS:CONFIRMED
SUMMARY:ON A ROLL vs BEEOCHI BALLERS
URL:/League/Schedule/2955
DESCRIPTION:Regular Season match: ON A ROLL vs BEEOCHI BALLE
 RS
LOCATION:Martinez Court 14
END:VEVENT
BEGIN:VEVENT
DTSTAMP:20260419T000000Z
UID:7d680093-a9c9-4509-b37b-3514f11d2700@ClaytonBocce
DTSTART;TZID=America/Los_Angeles:20260504T183000
DTEND;TZID=America/Los_Angeles:20260504T210000
STATUS:CONFIRMED
SUMMARY:ON A ROLL vs WHISKEY LANE SHOOTERS
URL:/League/Schedule/2955
DESCRIPTION:Regular Season match: ON A ROLL vs WHISKEY LANE 
 SHOOTERS
LOCATION:Martinez Court 2
END:VEVENT
BEGIN:VEVENT
DTSTAMP:20260419T000000Z
UID:be69188d-ba10-4270-b07f-90ae057ea61d@ClaytonBocce
DTSTART;TZID=America/Los_Angeles:20260518T183000
DTEND;TZID=America/Los_Angeles:20260518T210000
STATUS:CONFIRMED
SUMMARY:ON A ROLL vs BOCCE BOMBERS
URL:/League/Schedule/2955
DESCRIPTION:Regular Season match: ON A ROLL vs BOCCE BOMBERS
LOCATION:Martinez Court 10
END:VEVENT
BEGIN:VEVENT
DTSTAMP:20260419T000000Z
UID:6e48c26d-2859-4e71-8ada-d3a85412c112@ClaytonBocce
DTSTART;TZID=America/Los_Angeles:20260601T183000
DTEND;TZID=America/Los_Angeles:20260601T210000
STATUS:CONFIRMED
SUMMARY:ON A ROLL vs BASTARDS
URL:/League/Schedule/2955
DESCRIPTION:Regular Season match: ON A ROLL vs BASTARDS
LOCATION:Martinez Court 12
END:VEVENT
BEGIN:VEVENT
DTSTAMP:20260419T000000Z
UID:c2cede9d-a7dc-45fb-8ad7-ddff57f18568@ClaytonBocce
DTSTART;TZID=America/Los_Angeles:20260608T183000
DTEND;TZID=America/Los_Angeles:20260608T210000
STATUS:CONFIRMED
SUMMARY:ON A ROLL vs TEAM CLARK
URL:/League/Schedule/2955
DESCRIPTION:Regular Season match: ON A ROLL vs TEAM CLARK
LOCATION:Martinez Court 1
END:VEVENT
BEGIN:VEVENT
DTSTAMP:20260419T000000Z
UID:38423705-4587-44fd-9e66-5529c9fdc42a@ClaytonBocce
DTSTART;TZID=America/Los_Angeles:20260615T183000
DTEND;TZID=America/Los_Angeles:20260615T210000
STATUS:CONFIRMED
SUMMARY:ON A ROLL vs PELOTAS CALIENTE
URL:/League/Schedule/2955
DESCRIPTION:Regular Season match: ON A ROLL vs PELOTAS CALIE
 NTE
LOCATION:Martinez Court 6
END:VEVENT
BEGIN:VEVENT
DTSTAMP:20260419T000000Z
UID:9caa8b4e-22db-442c-9d82-1e4e138c4d3d@ClaytonBocce
DTSTART;TZID=America/Los_Angeles:20260622T183000
DTEND;TZID=America/Los_Angeles:20260622T210000
STATUS:CONFIRMED
SUMMARY:ON A ROLL vs BEEOCHI BALLERS
URL:/League/Schedule/2955
DESCRIPTION:Regular Season match: ON A ROLL vs BEEOCHI BALLE
 RS
LOCATION:Martinez Court 15
END:VEVENT
BEGIN:VEVENT
DTSTAMP:20260419T000000Z
UID:446a5e02-40e3-4e88-83b5-4d0a12f958c0@ClaytonBocce
DTSTART;TZID=America/Los_Angeles:20260629T183000
DTEND;TZID=America/Los_Angeles:20260629T210000
STATUS:CONFIRMED
SUMMARY:ON A ROLL vs WHISKEY LANE SHOOTERS
URL:/League/Schedule/2955
DESCRIPTION:Regular Season match: ON A ROLL vs WHISKEY LANE 
 SHOOTERS
LOCATION:Martinez Court 4
END:VEVENT
BEGIN:VEVENT
DTSTAMP:20260419T000000Z
UID:585bc045-fa3d-44c5-8f22-12d1dec48922@ClaytonBocce
DTSTART;TZID=America/Los_Angeles:20260720T183000
DTEND;TZID=America/Los_Angeles:20260720T210000
STATUS:CONFIRMED
SUMMARY:ON A ROLL vs BOCCE BOMBERS
URL:/League/Schedule/2955
DESCRIPTION:Regular Season match: ON A ROLL vs BOCCE BOMBERS
LOCATION:Martinez Court 1
END:VEVENT
BEGIN:VEVENT
DTSTAMP:20260419T000000Z
UID:4a4c4b3e-ffa8-487c-913b-9f476998367a@ClaytonBocce
DTSTART;TZID=America/Los_Angeles:20260727T183000
DTEND;TZID=America/Los_Angeles:20260727T210000
STATUS:CONFIRMED
SUMMARY:ON A ROLL vs BASTARDS
URL:/League/Schedule/2955
DESCRIPTION:Regular Season match: ON A ROLL vs BASTARDS
LOCATION:Martinez Court 11
END:VEVENT
BEGIN:VEVENT
DTSTAMP:20260419T000000Z
UID:48b83ad2-6103-4f4d-b7ac-f29d8b8fe0f2@ClaytonBocce
DTSTART;TZID=America/Los_Angeles:20260803T183000
DTEND;TZID=America/Los_Angeles:20260803T210000
STATUS:CONFIRMED
SUMMARY:ON A ROLL vs TEAM CLARK
URL:/League/Schedule/2955
DESCRIPTION:Regular Season match: ON A ROLL vs TEAM CLARK
LOCATION:Martinez Court 14
END:VEVENT
BEGIN:VEVENT
DTSTAMP:20260419T000000Z
UID:de7f6471-4c69-4ba3-8e5a-a633a55bc434@ClaytonBocce
DTSTART;TZID=America/Los_Angeles:20260810T183000
DTEND;TZID=America/Los_Angeles:20260810T210000
STATUS:CONFIRMED
SUMMARY:ON A ROLL vs PELOTAS CALIENTE
URL:/League/Schedule/2955
DESCRIPTION:Regular Season match: ON A ROLL vs PELOTAS CALIE
 NTE
LOCATION:Martinez Court 13
END:VEVENT
BEGIN:VEVENT
DTSTAMP:20260419T000000Z
UID:d8ddeab6-2fed-4dbe-ac9f-c402ed3231b2@ClaytonBocce
DTSTART;TZID=America/Los_Angeles:20260817T183000
DTEND;TZID=America/Los_Angeles:20260817T210000
STATUS:CONFIRMED
SUMMARY:ON A ROLL vs BEEOCHI BALLERS
URL:/League/Schedule/2955
DESCRIPTION:Regular Season match: ON A ROLL vs BEEOCHI BALLE
 RS
LOCATION:Martinez Court 9
END:VEVENT
BEGIN:VEVENT
DTSTAMP:20260419T000000Z
UID:ff90da96-98f9-482b-8192-144f7db0c542@ClaytonBocce
DTSTART;TZID=America/Los_Angeles:20260824T183000
DTEND;TZID=America/Los_Angeles:20260824T210000
STATUS:CONFIRMED
SUMMARY:ON A ROLL vs WHISKEY LANE SHOOTERS
URL:/League/Schedule/2955
DESCRIPTION:Regular Season match: ON A ROLL vs WHISKEY LANE 
 SHOOTERS
LOCATION:Martinez Court 15
END:VEVENT
BEGIN:VEVENT
DTSTAMP:20260419T000000Z
UID:7302552d-ec58-43b3-8549-6daffe08c76f@ClaytonBocce
DTSTART;TZID=America/Los_Angeles:20260907T183000
DTEND;TZID=America/Los_Angeles:20260907T210000
STATUS:CONFIRMED
SUMMARY:ON A ROLL vs BOCCE BOMBERS
URL:/League/Schedule/2955
DESCRIPTION:Regular Season match: ON A ROLL vs BOCCE BOMBERS
LOCATION:Martinez Court 3
END:VEVENT
BEGIN:VEVENT
DTSTAMP:20260419T000000Z
UID:557f4598-f5d4-46cf-868a-3bb4bec6e410@ClaytonBocce
DTSTART;TZID=America/Los_Angeles:20260914T183000
DTEND;TZID=America/Los_Angeles:20260914T210000
STATUS:CONFIRMED
SUMMARY:ON A ROLL vs BASTARDS
URL:/League/Schedule/2955
DESCRIPTION:Regular Season match: ON A ROLL vs BASTARDS
LOCATION:Martinez Court 8
END:VEVENT
BEGIN:VEVENT
DTSTAMP:20260419T000000Z
UID:f703693d-7b61-44d7-8e3e-89e455e38451@ClaytonBocce
DTSTART;TZID=America/Los_Angeles:20260921T183000
DTEND;TZID=America/Los_Angeles:20260921T210000
STATUS:CONFIRMED
SUMMARY:ON A ROLL vs TEAM CLARK
URL:/League/Schedule/2955
DESCRIPTION:Regular Season match: ON A ROLL vs TEAM CLARK
LOCATION:Martinez Court 5
END:VEVENT
END:VCALENDAR
