BEGIN:VCALENDAR
VERSION:2.0
PRODID:-//Clayton Bocce League
METHOD:PUBLISH
BEGIN:VTIMEZONE
TZID:America/Los_Angeles
X-LIC-LOCATION:America/Los_Angeles
BEGIN:DAYLIGHT
TZOFFSETFROM:-0800
TZOFFSETTO:-0700
TZNAME:PDT
DTSTART:20070311T020000
RRULE:FREQ=YEARLY;BYMONTH=3;BYDAY=2SU
END:DAYLIGHT
BEGIN:STANDARD
TZOFFSETFROM:-0700
TZOFFSETTO:-0800
TZNAME:PST
DTSTART:20071104T020000
RRULE:FREQ=YEARLY;BYMONTH=11;BYDAY=1SU
END:STANDARD
END:VTIMEZONE
BEGIN:VEVENT
DTSTAMP:20260419T000000Z
UID:94fbc193-0ccf-41d5-9212-6a14eb018420@ClaytonBocce
DTSTART;TZID=America/Los_Angeles:20260427T183000
DTEND;TZID=America/Los_Angeles:20260427T210000
STATUS:CONFIRMED
SUMMARY:BEEOCHI BALLERS vs ON A ROLL
URL:/League/Schedule/2958
DESCRIPTION:Regular Season match: BEEOCHI BALLERS vs ON A RO
 LL
LOCATION:Martinez Court 14
END:VEVENT
BEGIN:VEVENT
DTSTAMP:20260419T000000Z
UID:2d4e7385-a1d7-49ca-8f13-9d2a86e13f04@ClaytonBocce
DTSTART;TZID=America/Los_Angeles:20260504T183000
DTEND;TZID=America/Los_Angeles:20260504T210000
STATUS:CONFIRMED
SUMMARY:BEEOCHI BALLERS vs PELOTAS CALIENTE
URL:/League/Schedule/2958
DESCRIPTION:Regular Season match: BEEOCHI BALLERS vs PELOTAS
  CALIENTE
LOCATION:Martinez Court 3
END:VEVENT
BEGIN:VEVENT
DTSTAMP:20260419T000000Z
UID:07741271-3e61-4985-8eef-13cff6b219c2@ClaytonBocce
DTSTART;TZID=America/Los_Angeles:20260511T183000
DTEND;TZID=America/Los_Angeles:20260511T210000
STATUS:CONFIRMED
SUMMARY:BEEOCHI BALLERS vs TEAM CLARK
URL:/League/Schedule/2958
DESCRIPTION:Regular Season match: BEEOCHI BALLERS vs TEAM CL
 ARK
LOCATION:Martinez Court 12
END:VEVENT
BEGIN:VEVENT
DTSTAMP:20260419T000000Z
UID:46ca90be-1680-4801-a2d1-84476a189190@ClaytonBocce
DTSTART;TZID=America/Los_Angeles:20260518T183000
DTEND;TZID=America/Los_Angeles:20260518T210000
STATUS:CONFIRMED
SUMMARY:BEEOCHI BALLERS vs BASTARDS
URL:/League/Schedule/2958
DESCRIPTION:Regular Season match: BEEOCHI BALLERS vs BASTARD
 S
LOCATION:Martinez Court 11
END:VEVENT
BEGIN:VEVENT
DTSTAMP:20260419T000000Z
UID:19969e37-5cc9-4189-b70f-251ba15a28c8@ClaytonBocce
DTSTART;TZID=America/Los_Angeles:20260601T183000
DTEND;TZID=America/Los_Angeles:20260601T210000
STATUS:CONFIRMED
SUMMARY:BEEOCHI BALLERS vs WHISKEY LANE SHOOTERS
URL:/League/Schedule/2958
DESCRIPTION:Regular Season match: BEEOCHI BALLERS vs WHISKEY
  LANE SHOOTERS
LOCATION:Martinez Court 10
END:VEVENT
BEGIN:VEVENT
DTSTAMP:20260419T000000Z
UID:1e2b261b-c50a-4d0f-8800-ad4c00bab9e8@ClaytonBocce
DTSTART;TZID=America/Los_Angeles:20260608T183000
DTEND;TZID=America/Los_Angeles:20260608T210000
STATUS:CONFIRMED
SUMMARY:BEEOCHI BALLERS vs BOCCE BOMBERS
URL:/League/Schedule/2958
DESCRIPTION:Regular Season match: BEEOCHI BALLERS vs BOCCE B
 OMBERS
LOCATION:Martinez Court 2
END:VEVENT
BEGIN:VEVENT
DTSTAMP:20260419T000000Z
UID:9caa8b4e-22db-442c-9d82-1e4e138c4d3d@ClaytonBocce
DTSTART;TZID=America/Los_Angeles:20260622T183000
DTEND;TZID=America/Los_Angeles:20260622T210000
STATUS:CONFIRMED
SUMMARY:BEEOCHI BALLERS vs ON A ROLL
URL:/League/Schedule/2958
DESCRIPTION:Regular Season match: BEEOCHI BALLERS vs ON A RO
 LL
LOCATION:Martinez Court 15
END:VEVENT
BEGIN:VEVENT
DTSTAMP:20260419T000000Z
UID:3c1d29a5-4269-41b6-aef8-1bd5d91036c9@ClaytonBocce
DTSTART;TZID=America/Los_Angeles:20260629T183000
DTEND;TZID=America/Los_Angeles:20260629T210000
STATUS:CONFIRMED
SUMMARY:BEEOCHI BALLERS vs PELOTAS CALIENTE
URL:/League/Schedule/2958
DESCRIPTION:Regular Season match: BEEOCHI BALLERS vs PELOTAS
  CALIENTE
LOCATION:Martinez Court 5
END:VEVENT
BEGIN:VEVENT
DTSTAMP:20260419T000000Z
UID:a3c95336-91c9-4d9f-8a61-ef804c353658@ClaytonBocce
DTSTART;TZID=America/Los_Angeles:20260713T183000
DTEND;TZID=America/Los_Angeles:20260713T210000
STATUS:CONFIRMED
SUMMARY:BEEOCHI BALLERS vs TEAM CLARK
URL:/League/Schedule/2958
DESCRIPTION:Regular Season match: BEEOCHI BALLERS vs TEAM CL
 ARK
LOCATION:Martinez Court 3
END:VEVENT
BEGIN:VEVENT
DTSTAMP:20260419T000000Z
UID:964bbda4-46a9-455b-afa6-c62377011fbc@ClaytonBocce
DTSTART;TZID=America/Los_Angeles:20260720T183000
DTEND;TZID=America/Los_Angeles:20260720T210000
STATUS:CONFIRMED
SUMMARY:BEEOCHI BALLERS vs BASTARDS
URL:/League/Schedule/2958
DESCRIPTION:Regular Season match: BEEOCHI BALLERS vs BASTARD
 S
LOCATION:Martinez Court 15
END:VEVENT
BEGIN:VEVENT
DTSTAMP:20260419T000000Z
UID:652aee16-9fd5-4712-bc57-8d3abceedc96@ClaytonBocce
DTSTART;TZID=America/Los_Angeles:20260727T183000
DTEND;TZID=America/Los_Angeles:20260727T210000
STATUS:CONFIRMED
SUMMARY:BEEOCHI BALLERS vs WHISKEY LANE SHOOTERS
URL:/League/Schedule/2958
DESCRIPTION:Regular Season match: BEEOCHI BALLERS vs WHISKEY
  LANE SHOOTERS
LOCATION:Martinez Court 13
END:VEVENT
BEGIN:VEVENT
DTSTAMP:20260419T000000Z
UID:7693ec42-5ff0-45a1-9c03-92d6c7b45a6f@ClaytonBocce
DTSTART;TZID=America/Los_Angeles:20260803T183000
DTEND;TZID=America/Los_Angeles:20260803T210000
STATUS:CONFIRMED
SUMMARY:BEEOCHI BALLERS vs BOCCE BOMBERS
URL:/League/Schedule/2958
DESCRIPTION:Regular Season match: BEEOCHI BALLERS vs BOCCE B
 OMBERS
LOCATION:Martinez Court 8
END:VEVENT
BEGIN:VEVENT
DTSTAMP:20260419T000000Z
UID:d8ddeab6-2fed-4dbe-ac9f-c402ed3231b2@ClaytonBocce
DTSTART;TZID=America/Los_Angeles:20260817T183000
DTEND;TZID=America/Los_Angeles:20260817T210000
STATUS:CONFIRMED
SUMMARY:BEEOCHI BALLERS vs ON A ROLL
URL:/League/Schedule/2958
DESCRIPTION:Regular Season match: BEEOCHI BALLERS vs ON A RO
 LL
LOCATION:Martinez Court 9
END:VEVENT
BEGIN:VEVENT
DTSTAMP:20260419T000000Z
UID:80992664-5684-4506-aa65-bdc95c16b8fc@ClaytonBocce
DTSTART;TZID=America/Los_Angeles:20260824T183000
DTEND;TZID=America/Los_Angeles:20260824T210000
STATUS:CONFIRMED
SUMMARY:BEEOCHI BALLERS vs PELOTAS CALIENTE
URL:/League/Schedule/2958
DESCRIPTION:Regular Season match: BEEOCHI BALLERS vs PELOTAS
  CALIENTE
LOCATION:Martinez Court 12
END:VEVENT
BEGIN:VEVENT
DTSTAMP:20260419T000000Z
UID:82566cd7-8cd0-4d88-b877-70ae638ca0ec@ClaytonBocce
DTSTART;TZID=America/Los_Angeles:20260831T183000
DTEND;TZID=America/Los_Angeles:20260831T210000
STATUS:CONFIRMED
SUMMARY:BEEOCHI BALLERS vs TEAM CLARK
URL:/League/Schedule/2958
DESCRIPTION:Regular Season match: BEEOCHI BALLERS vs TEAM CL
 ARK
LOCATION:Martinez Court 11
END:VEVENT
BEGIN:VEVENT
DTSTAMP:20260419T000000Z
UID:8c548239-7175-41ff-9246-dd80e9dc448e@ClaytonBocce
DTSTART;TZID=America/Los_Angeles:20260907T183000
DTEND;TZID=America/Los_Angeles:20260907T210000
STATUS:CONFIRMED
SUMMARY:BEEOCHI BALLERS vs BASTARDS
URL:/League/Schedule/2958
DESCRIPTION:Regular Season match: BEEOCHI BALLERS vs BASTARD
 S
LOCATION:Martinez Court 5
END:VEVENT
BEGIN:VEVENT
DTSTAMP:20260419T000000Z
UID:0ada6022-54b3-46f6-9622-684782dff8ba@ClaytonBocce
DTSTART;TZID=America/Los_Angeles:20260914T183000
DTEND;TZID=America/Los_Angeles:20260914T210000
STATUS:CONFIRMED
SUMMARY:BEEOCHI BALLERS vs WHISKEY LANE SHOOTERS
URL:/League/Schedule/2958
DESCRIPTION:Regular Season match: BEEOCHI BALLERS vs WHISKEY
  LANE SHOOTERS
LOCATION:Martinez Court 1
END:VEVENT
BEGIN:VEVENT
DTSTAMP:20260419T000000Z
UID:c9245a42-9e25-45d9-82f8-756d9d6c8888@ClaytonBocce
DTSTART;TZID=America/Los_Angeles:20260921T183000
DTEND;TZID=America/Los_Angeles:20260921T210000
STATUS:CONFIRMED
SUMMARY:BEEOCHI BALLERS vs BOCCE BOMBERS
URL:/League/Schedule/2958
DESCRIPTION:Regular Season match: BEEOCHI BALLERS vs BOCCE B
 OMBERS
LOCATION:Martinez Court 7
END:VEVENT
END:VCALENDAR
