BEGIN:VCALENDAR
VERSION:2.0
PRODID:-//Clayton Bocce League
METHOD:PUBLISH
BEGIN:VTIMEZONE
TZID:America/Los_Angeles
X-LIC-LOCATION:America/Los_Angeles
BEGIN:DAYLIGHT
TZOFFSETFROM:-0800
TZOFFSETTO:-0700
TZNAME:PDT
DTSTART:20070311T020000
RRULE:FREQ=YEARLY;BYMONTH=3;BYDAY=2SU
END:DAYLIGHT
BEGIN:STANDARD
TZOFFSETFROM:-0700
TZOFFSETTO:-0800
TZNAME:PST
DTSTART:20071104T020000
RRULE:FREQ=YEARLY;BYMONTH=11;BYDAY=1SU
END:STANDARD
END:VTIMEZONE
BEGIN:VEVENT
DTSTAMP:20260419T000000Z
UID:e056226c-0dbd-4cba-86e4-3d294d7a728a@ClaytonBocce
DTSTART;TZID=America/Los_Angeles:20260420T183000
DTEND;TZID=America/Los_Angeles:20260420T210000
STATUS:CONFIRMED
SUMMARY:TEAM CLARK vs BOCCE BOMBERS
URL:/League/Schedule/2953
DESCRIPTION:Regular Season match: TEAM CLARK vs BOCCE BOMBER
 S
LOCATION:Martinez Court 8
END:VEVENT
BEGIN:VEVENT
DTSTAMP:20260419T000000Z
UID:ea60c173-2d70-4dad-8af8-312a958a8aed@ClaytonBocce
DTSTART;TZID=America/Los_Angeles:20260427T183000
DTEND;TZID=America/Los_Angeles:20260427T210000
STATUS:CONFIRMED
SUMMARY:TEAM CLARK vs PELOTAS CALIENTE
URL:/League/Schedule/2953
DESCRIPTION:Regular Season match: TEAM CLARK vs PELOTAS CALI
 ENTE
LOCATION:Martinez Court 13
END:VEVENT
BEGIN:VEVENT
DTSTAMP:20260419T000000Z
UID:324e700e-7b5a-480e-a364-3d762c867f93@ClaytonBocce
DTSTART;TZID=America/Los_Angeles:20260504T183000
DTEND;TZID=America/Los_Angeles:20260504T210000
STATUS:CONFIRMED
SUMMARY:TEAM CLARK vs BASTARDS
URL:/League/Schedule/2953
DESCRIPTION:Regular Season match: TEAM CLARK vs BASTARDS
LOCATION:Martinez Court 4
END:VEVENT
BEGIN:VEVENT
DTSTAMP:20260419T000000Z
UID:07741271-3e61-4985-8eef-13cff6b219c2@ClaytonBocce
DTSTART;TZID=America/Los_Angeles:20260511T183000
DTEND;TZID=America/Los_Angeles:20260511T210000
STATUS:CONFIRMED
SUMMARY:TEAM CLARK vs BEEOCHI BALLERS
URL:/League/Schedule/2953
DESCRIPTION:Regular Season match: TEAM CLARK vs BEEOCHI BALL
 ERS
LOCATION:Martinez Court 12
END:VEVENT
BEGIN:VEVENT
DTSTAMP:20260419T000000Z
UID:ae277e1b-6d15-4411-b208-98d7e0a5c707@ClaytonBocce
DTSTART;TZID=America/Los_Angeles:20260518T183000
DTEND;TZID=America/Los_Angeles:20260518T210000
STATUS:CONFIRMED
SUMMARY:TEAM CLARK vs WHISKEY LANE SHOOTERS
URL:/League/Schedule/2953
DESCRIPTION:Regular Season match: TEAM CLARK vs WHISKEY LANE
  SHOOTERS
LOCATION:Martinez Court 9
END:VEVENT
BEGIN:VEVENT
DTSTAMP:20260419T000000Z
UID:c2cede9d-a7dc-45fb-8ad7-ddff57f18568@ClaytonBocce
DTSTART;TZID=America/Los_Angeles:20260608T183000
DTEND;TZID=America/Los_Angeles:20260608T210000
STATUS:CONFIRMED
SUMMARY:TEAM CLARK vs ON A ROLL
URL:/League/Schedule/2953
DESCRIPTION:Regular Season match: TEAM CLARK vs ON A ROLL
LOCATION:Martinez Court 1
END:VEVENT
BEGIN:VEVENT
DTSTAMP:20260419T000000Z
UID:b4638e85-fbd5-4a7b-9b3f-ecbc6fe6414d@ClaytonBocce
DTSTART;TZID=America/Los_Angeles:20260615T183000
DTEND;TZID=America/Los_Angeles:20260615T210000
STATUS:CONFIRMED
SUMMARY:TEAM CLARK vs BOCCE BOMBERS
URL:/League/Schedule/2953
DESCRIPTION:Regular Season match: TEAM CLARK vs BOCCE BOMBER
 S
LOCATION:Martinez Court 7
END:VEVENT
BEGIN:VEVENT
DTSTAMP:20260419T000000Z
UID:1304f25e-473f-446c-8133-353fe34600a8@ClaytonBocce
DTSTART;TZID=America/Los_Angeles:20260622T183000
DTEND;TZID=America/Los_Angeles:20260622T210000
STATUS:CONFIRMED
SUMMARY:TEAM CLARK vs PELOTAS CALIENTE
URL:/League/Schedule/2953
DESCRIPTION:Regular Season match: TEAM CLARK vs PELOTAS CALI
 ENTE
LOCATION:Martinez Court 2
END:VEVENT
BEGIN:VEVENT
DTSTAMP:20260419T000000Z
UID:e6936a32-86a4-4635-be0e-f4a875199bc6@ClaytonBocce
DTSTART;TZID=America/Los_Angeles:20260629T183000
DTEND;TZID=America/Los_Angeles:20260629T210000
STATUS:CONFIRMED
SUMMARY:TEAM CLARK vs BASTARDS
URL:/League/Schedule/2953
DESCRIPTION:Regular Season match: TEAM CLARK vs BASTARDS
LOCATION:Martinez Court 6
END:VEVENT
BEGIN:VEVENT
DTSTAMP:20260419T000000Z
UID:a3c95336-91c9-4d9f-8a61-ef804c353658@ClaytonBocce
DTSTART;TZID=America/Los_Angeles:20260713T183000
DTEND;TZID=America/Los_Angeles:20260713T210000
STATUS:CONFIRMED
SUMMARY:TEAM CLARK vs BEEOCHI BALLERS
URL:/League/Schedule/2953
DESCRIPTION:Regular Season match: TEAM CLARK vs BEEOCHI BALL
 ERS
LOCATION:Martinez Court 3
END:VEVENT
BEGIN:VEVENT
DTSTAMP:20260419T000000Z
UID:4516cf5f-23a8-4f24-9f89-01e881bbf1d1@ClaytonBocce
DTSTART;TZID=America/Los_Angeles:20260720T183000
DTEND;TZID=America/Los_Angeles:20260720T210000
STATUS:CONFIRMED
SUMMARY:TEAM CLARK vs WHISKEY LANE SHOOTERS
URL:/League/Schedule/2953
DESCRIPTION:Regular Season match: TEAM CLARK vs WHISKEY LANE
  SHOOTERS
LOCATION:Martinez Court 11
END:VEVENT
BEGIN:VEVENT
DTSTAMP:20260419T000000Z
UID:48b83ad2-6103-4f4d-b7ac-f29d8b8fe0f2@ClaytonBocce
DTSTART;TZID=America/Los_Angeles:20260803T183000
DTEND;TZID=America/Los_Angeles:20260803T210000
STATUS:CONFIRMED
SUMMARY:TEAM CLARK vs ON A ROLL
URL:/League/Schedule/2953
DESCRIPTION:Regular Season match: TEAM CLARK vs ON A ROLL
LOCATION:Martinez Court 14
END:VEVENT
BEGIN:VEVENT
DTSTAMP:20260419T000000Z
UID:31bfab27-b37f-490e-9cd6-1bf65a7707cd@ClaytonBocce
DTSTART;TZID=America/Los_Angeles:20260810T183000
DTEND;TZID=America/Los_Angeles:20260810T210000
STATUS:CONFIRMED
SUMMARY:TEAM CLARK vs BOCCE BOMBERS
URL:/League/Schedule/2953
DESCRIPTION:Regular Season match: TEAM CLARK vs BOCCE BOMBER
 S
LOCATION:Martinez Court 15
END:VEVENT
BEGIN:VEVENT
DTSTAMP:20260419T000000Z
UID:4ad68fe8-912d-483b-afa4-529d52183cc9@ClaytonBocce
DTSTART;TZID=America/Los_Angeles:20260817T183000
DTEND;TZID=America/Los_Angeles:20260817T210000
STATUS:CONFIRMED
SUMMARY:TEAM CLARK vs PELOTAS CALIENTE
URL:/League/Schedule/2953
DESCRIPTION:Regular Season match: TEAM CLARK vs PELOTAS CALI
 ENTE
LOCATION:Martinez Court 7
END:VEVENT
BEGIN:VEVENT
DTSTAMP:20260419T000000Z
UID:5d8e7682-faba-4330-9fa8-99c593f22bd8@ClaytonBocce
DTSTART;TZID=America/Los_Angeles:20260824T183000
DTEND;TZID=America/Los_Angeles:20260824T210000
STATUS:CONFIRMED
SUMMARY:TEAM CLARK vs BASTARDS
URL:/League/Schedule/2953
DESCRIPTION:Regular Season match: TEAM CLARK vs BASTARDS
LOCATION:Martinez Court 10
END:VEVENT
BEGIN:VEVENT
DTSTAMP:20260419T000000Z
UID:82566cd7-8cd0-4d88-b877-70ae638ca0ec@ClaytonBocce
DTSTART;TZID=America/Los_Angeles:20260831T183000
DTEND;TZID=America/Los_Angeles:20260831T210000
STATUS:CONFIRMED
SUMMARY:TEAM CLARK vs BEEOCHI BALLERS
URL:/League/Schedule/2953
DESCRIPTION:Regular Season match: TEAM CLARK vs BEEOCHI BALL
 ERS
LOCATION:Martinez Court 11
END:VEVENT
BEGIN:VEVENT
DTSTAMP:20260419T000000Z
UID:ce7a6ddf-73e2-43b6-8d5a-52e697a78a65@ClaytonBocce
DTSTART;TZID=America/Los_Angeles:20260907T183000
DTEND;TZID=America/Los_Angeles:20260907T210000
STATUS:CONFIRMED
SUMMARY:TEAM CLARK vs WHISKEY LANE SHOOTERS
URL:/League/Schedule/2953
DESCRIPTION:Regular Season match: TEAM CLARK vs WHISKEY LANE
  SHOOTERS
LOCATION:Martinez Court 6
END:VEVENT
BEGIN:VEVENT
DTSTAMP:20260419T000000Z
UID:f703693d-7b61-44d7-8e3e-89e455e38451@ClaytonBocce
DTSTART;TZID=America/Los_Angeles:20260921T183000
DTEND;TZID=America/Los_Angeles:20260921T210000
STATUS:CONFIRMED
SUMMARY:TEAM CLARK vs ON A ROLL
URL:/League/Schedule/2953
DESCRIPTION:Regular Season match: TEAM CLARK vs ON A ROLL
LOCATION:Martinez Court 5
END:VEVENT
END:VCALENDAR
