BEGIN:VCALENDAR
VERSION:2.0
PRODID:-//Clayton Bocce League
METHOD:PUBLISH
BEGIN:VTIMEZONE
TZID:America/Los_Angeles
X-LIC-LOCATION:America/Los_Angeles
BEGIN:DAYLIGHT
TZOFFSETFROM:-0800
TZOFFSETTO:-0700
TZNAME:PDT
DTSTART:20070311T020000
RRULE:FREQ=YEARLY;BYMONTH=3;BYDAY=2SU
END:DAYLIGHT
BEGIN:STANDARD
TZOFFSETFROM:-0700
TZOFFSETTO:-0800
TZNAME:PST
DTSTART:20071104T020000
RRULE:FREQ=YEARLY;BYMONTH=11;BYDAY=1SU
END:STANDARD
END:VTIMEZONE
BEGIN:VEVENT
DTSTAMP:20260419T000000Z
UID:e056226c-0dbd-4cba-86e4-3d294d7a728a@ClaytonBocce
DTSTART;TZID=America/Los_Angeles:20260420T183000
DTEND;TZID=America/Los_Angeles:20260420T210000
STATUS:CONFIRMED
SUMMARY:BOCCE BOMBERS vs TEAM CLARK
URL:/League/Schedule/2956
DESCRIPTION:Regular Season match: BOCCE BOMBERS vs TEAM CLAR
 K
LOCATION:Martinez Court 8
END:VEVENT
BEGIN:VEVENT
DTSTAMP:20260419T000000Z
UID:7d3e324e-f3e3-4e5c-8f97-30c914c7cd24@ClaytonBocce
DTSTART;TZID=America/Los_Angeles:20260427T183000
DTEND;TZID=America/Los_Angeles:20260427T210000
STATUS:CONFIRMED
SUMMARY:BOCCE BOMBERS vs WHISKEY LANE SHOOTERS
URL:/League/Schedule/2956
DESCRIPTION:Regular Season match: BOCCE BOMBERS vs WHISKEY L
 ANE SHOOTERS
LOCATION:Martinez Court 12
END:VEVENT
BEGIN:VEVENT
DTSTAMP:20260419T000000Z
UID:d5a34e5e-ffe8-4051-9183-f363c16bb046@ClaytonBocce
DTSTART;TZID=America/Los_Angeles:20260511T183000
DTEND;TZID=America/Los_Angeles:20260511T210000
STATUS:CONFIRMED
SUMMARY:BOCCE BOMBERS vs BASTARDS
URL:/League/Schedule/2956
DESCRIPTION:Regular Season match: BOCCE BOMBERS vs BASTARDS
LOCATION:Martinez Court 5
END:VEVENT
BEGIN:VEVENT
DTSTAMP:20260419T000000Z
UID:be69188d-ba10-4270-b07f-90ae057ea61d@ClaytonBocce
DTSTART;TZID=America/Los_Angeles:20260518T183000
DTEND;TZID=America/Los_Angeles:20260518T210000
STATUS:CONFIRMED
SUMMARY:BOCCE BOMBERS vs ON A ROLL
URL:/League/Schedule/2956
DESCRIPTION:Regular Season match: BOCCE BOMBERS vs ON A ROLL
LOCATION:Martinez Court 10
END:VEVENT
BEGIN:VEVENT
DTSTAMP:20260419T000000Z
UID:ef468dd6-7c83-40c4-aaa7-78fadcff0586@ClaytonBocce
DTSTART;TZID=America/Los_Angeles:20260601T183000
DTEND;TZID=America/Los_Angeles:20260601T210000
STATUS:CONFIRMED
SUMMARY:BOCCE BOMBERS vs PELOTAS CALIENTE
URL:/League/Schedule/2956
DESCRIPTION:Regular Season match: BOCCE BOMBERS vs PELOTAS C
 ALIENTE
LOCATION:Martinez Court 11
END:VEVENT
BEGIN:VEVENT
DTSTAMP:20260419T000000Z
UID:1e2b261b-c50a-4d0f-8800-ad4c00bab9e8@ClaytonBocce
DTSTART;TZID=America/Los_Angeles:20260608T183000
DTEND;TZID=America/Los_Angeles:20260608T210000
STATUS:CONFIRMED
SUMMARY:BOCCE BOMBERS vs BEEOCHI BALLERS
URL:/League/Schedule/2956
DESCRIPTION:Regular Season match: BOCCE BOMBERS vs BEEOCHI B
 ALLERS
LOCATION:Martinez Court 2
END:VEVENT
BEGIN:VEVENT
DTSTAMP:20260419T000000Z
UID:b4638e85-fbd5-4a7b-9b3f-ecbc6fe6414d@ClaytonBocce
DTSTART;TZID=America/Los_Angeles:20260615T183000
DTEND;TZID=America/Los_Angeles:20260615T210000
STATUS:CONFIRMED
SUMMARY:BOCCE BOMBERS vs TEAM CLARK
URL:/League/Schedule/2956
DESCRIPTION:Regular Season match: BOCCE BOMBERS vs TEAM CLAR
 K
LOCATION:Martinez Court 7
END:VEVENT
BEGIN:VEVENT
DTSTAMP:20260419T000000Z
UID:b8922876-b8fb-46e3-b97a-ead44d3f09d2@ClaytonBocce
DTSTART;TZID=America/Los_Angeles:20260622T183000
DTEND;TZID=America/Los_Angeles:20260622T210000
STATUS:CONFIRMED
SUMMARY:BOCCE BOMBERS vs WHISKEY LANE SHOOTERS
URL:/League/Schedule/2956
DESCRIPTION:Regular Season match: BOCCE BOMBERS vs WHISKEY L
 ANE SHOOTERS
LOCATION:Martinez Court 5
END:VEVENT
BEGIN:VEVENT
DTSTAMP:20260419T000000Z
UID:8242ae92-f69f-4fbd-89a5-f4f614d861de@ClaytonBocce
DTSTART;TZID=America/Los_Angeles:20260713T183000
DTEND;TZID=America/Los_Angeles:20260713T210000
STATUS:CONFIRMED
SUMMARY:BOCCE BOMBERS vs BASTARDS
URL:/League/Schedule/2956
DESCRIPTION:Regular Season match: BOCCE BOMBERS vs BASTARDS
LOCATION:Martinez Court 13
END:VEVENT
BEGIN:VEVENT
DTSTAMP:20260419T000000Z
UID:585bc045-fa3d-44c5-8f22-12d1dec48922@ClaytonBocce
DTSTART;TZID=America/Los_Angeles:20260720T183000
DTEND;TZID=America/Los_Angeles:20260720T210000
STATUS:CONFIRMED
SUMMARY:BOCCE BOMBERS vs ON A ROLL
URL:/League/Schedule/2956
DESCRIPTION:Regular Season match: BOCCE BOMBERS vs ON A ROLL
LOCATION:Martinez Court 1
END:VEVENT
BEGIN:VEVENT
DTSTAMP:20260419T000000Z
UID:38731024-1f8c-4111-9172-e54ba8f3419e@ClaytonBocce
DTSTART;TZID=America/Los_Angeles:20260727T183000
DTEND;TZID=America/Los_Angeles:20260727T210000
STATUS:CONFIRMED
SUMMARY:BOCCE BOMBERS vs PELOTAS CALIENTE
URL:/League/Schedule/2956
DESCRIPTION:Regular Season match: BOCCE BOMBERS vs PELOTAS C
 ALIENTE
LOCATION:Martinez Court 2
END:VEVENT
BEGIN:VEVENT
DTSTAMP:20260419T000000Z
UID:7693ec42-5ff0-45a1-9c03-92d6c7b45a6f@ClaytonBocce
DTSTART;TZID=America/Los_Angeles:20260803T183000
DTEND;TZID=America/Los_Angeles:20260803T210000
STATUS:CONFIRMED
SUMMARY:BOCCE BOMBERS vs BEEOCHI BALLERS
URL:/League/Schedule/2956
DESCRIPTION:Regular Season match: BOCCE BOMBERS vs BEEOCHI B
 ALLERS
LOCATION:Martinez Court 8
END:VEVENT
BEGIN:VEVENT
DTSTAMP:20260419T000000Z
UID:31bfab27-b37f-490e-9cd6-1bf65a7707cd@ClaytonBocce
DTSTART;TZID=America/Los_Angeles:20260810T183000
DTEND;TZID=America/Los_Angeles:20260810T210000
STATUS:CONFIRMED
SUMMARY:BOCCE BOMBERS vs TEAM CLARK
URL:/League/Schedule/2956
DESCRIPTION:Regular Season match: BOCCE BOMBERS vs TEAM CLAR
 K
LOCATION:Martinez Court 15
END:VEVENT
BEGIN:VEVENT
DTSTAMP:20260419T000000Z
UID:134084ed-1887-4066-89e7-6e0c28af7237@ClaytonBocce
DTSTART;TZID=America/Los_Angeles:20260817T183000
DTEND;TZID=America/Los_Angeles:20260817T210000
STATUS:CONFIRMED
SUMMARY:BOCCE BOMBERS vs WHISKEY LANE SHOOTERS
URL:/League/Schedule/2956
DESCRIPTION:Regular Season match: BOCCE BOMBERS vs WHISKEY L
 ANE SHOOTERS
LOCATION:Martinez Court 12
END:VEVENT
BEGIN:VEVENT
DTSTAMP:20260419T000000Z
UID:57ba69ab-cf71-4666-a5aa-78c48cfc628a@ClaytonBocce
DTSTART;TZID=America/Los_Angeles:20260831T183000
DTEND;TZID=America/Los_Angeles:20260831T210000
STATUS:CONFIRMED
SUMMARY:BOCCE BOMBERS vs BASTARDS
URL:/League/Schedule/2956
DESCRIPTION:Regular Season match: BOCCE BOMBERS vs BASTARDS
LOCATION:Martinez Court 9
END:VEVENT
BEGIN:VEVENT
DTSTAMP:20260419T000000Z
UID:7302552d-ec58-43b3-8549-6daffe08c76f@ClaytonBocce
DTSTART;TZID=America/Los_Angeles:20260907T183000
DTEND;TZID=America/Los_Angeles:20260907T210000
STATUS:CONFIRMED
SUMMARY:BOCCE BOMBERS vs ON A ROLL
URL:/League/Schedule/2956
DESCRIPTION:Regular Season match: BOCCE BOMBERS vs ON A ROLL
LOCATION:Martinez Court 3
END:VEVENT
BEGIN:VEVENT
DTSTAMP:20260419T000000Z
UID:10743de0-a2a2-4604-8f94-1f45ddc13e47@ClaytonBocce
DTSTART;TZID=America/Los_Angeles:20260914T183000
DTEND;TZID=America/Los_Angeles:20260914T210000
STATUS:CONFIRMED
SUMMARY:BOCCE BOMBERS vs PELOTAS CALIENTE
URL:/League/Schedule/2956
DESCRIPTION:Regular Season match: BOCCE BOMBERS vs PELOTAS C
 ALIENTE
LOCATION:Martinez Court 10
END:VEVENT
BEGIN:VEVENT
DTSTAMP:20260419T000000Z
UID:c9245a42-9e25-45d9-82f8-756d9d6c8888@ClaytonBocce
DTSTART;TZID=America/Los_Angeles:20260921T183000
DTEND;TZID=America/Los_Angeles:20260921T210000
STATUS:CONFIRMED
SUMMARY:BOCCE BOMBERS vs BEEOCHI BALLERS
URL:/League/Schedule/2956
DESCRIPTION:Regular Season match: BOCCE BOMBERS vs BEEOCHI B
 ALLERS
LOCATION:Martinez Court 7
END:VEVENT
END:VCALENDAR
