BEGIN:VCALENDAR
VERSION:2.0
PRODID:-//Clayton Bocce League
METHOD:PUBLISH
BEGIN:VTIMEZONE
TZID:America/Los_Angeles
X-LIC-LOCATION:America/Los_Angeles
BEGIN:DAYLIGHT
TZOFFSETFROM:-0800
TZOFFSETTO:-0700
TZNAME:PDT
DTSTART:20070311T020000
RRULE:FREQ=YEARLY;BYMONTH=3;BYDAY=2SU
END:DAYLIGHT
BEGIN:STANDARD
TZOFFSETFROM:-0700
TZOFFSETTO:-0800
TZNAME:PST
DTSTART:20071104T020000
RRULE:FREQ=YEARLY;BYMONTH=11;BYDAY=1SU
END:STANDARD
END:VTIMEZONE
BEGIN:VEVENT
DTSTAMP:20260419T000000Z
UID:097aba99-89ae-4e5b-82fc-27cc65fa399e@ClaytonBocce
DTSTART;TZID=America/Los_Angeles:20260420T183000
DTEND;TZID=America/Los_Angeles:20260420T210000
STATUS:CONFIRMED
SUMMARY:WHISKEY LANE SHOOTERS vs BASTARDS
URL:/League/Schedule/2952
DESCRIPTION:Regular Season match: WHISKEY LANE SHOOTERS vs B
 ASTARDS
LOCATION:Martinez Court 7
END:VEVENT
BEGIN:VEVENT
DTSTAMP:20260419T000000Z
UID:7d3e324e-f3e3-4e5c-8f97-30c914c7cd24@ClaytonBocce
DTSTART;TZID=America/Los_Angeles:20260427T183000
DTEND;TZID=America/Los_Angeles:20260427T210000
STATUS:CONFIRMED
SUMMARY:WHISKEY LANE SHOOTERS vs BOCCE BOMBERS
URL:/League/Schedule/2952
DESCRIPTION:Regular Season match: WHISKEY LANE SHOOTERS vs B
 OCCE BOMBERS
LOCATION:Martinez Court 12
END:VEVENT
BEGIN:VEVENT
DTSTAMP:20260419T000000Z
UID:7d680093-a9c9-4509-b37b-3514f11d2700@ClaytonBocce
DTSTART;TZID=America/Los_Angeles:20260504T183000
DTEND;TZID=America/Los_Angeles:20260504T210000
STATUS:CONFIRMED
SUMMARY:WHISKEY LANE SHOOTERS vs ON A ROLL
URL:/League/Schedule/2952
DESCRIPTION:Regular Season match: WHISKEY LANE SHOOTERS vs O
 N A ROLL
LOCATION:Martinez Court 2
END:VEVENT
BEGIN:VEVENT
DTSTAMP:20260419T000000Z
UID:d893ae03-ef2e-47a5-9604-cec254d5f329@ClaytonBocce
DTSTART;TZID=America/Los_Angeles:20260511T183000
DTEND;TZID=America/Los_Angeles:20260511T210000
STATUS:CONFIRMED
SUMMARY:WHISKEY LANE SHOOTERS vs PELOTAS CALIENTE
URL:/League/Schedule/2952
DESCRIPTION:Regular Season match: WHISKEY LANE SHOOTERS vs P
 ELOTAS CALIENTE
LOCATION:Martinez Court 6
END:VEVENT
BEGIN:VEVENT
DTSTAMP:20260419T000000Z
UID:ae277e1b-6d15-4411-b208-98d7e0a5c707@ClaytonBocce
DTSTART;TZID=America/Los_Angeles:20260518T183000
DTEND;TZID=America/Los_Angeles:20260518T210000
STATUS:CONFIRMED
SUMMARY:WHISKEY LANE SHOOTERS vs TEAM CLARK
URL:/League/Schedule/2952
DESCRIPTION:Regular Season match: WHISKEY LANE SHOOTERS vs T
 EAM CLARK
LOCATION:Martinez Court 9
END:VEVENT
BEGIN:VEVENT
DTSTAMP:20260419T000000Z
UID:19969e37-5cc9-4189-b70f-251ba15a28c8@ClaytonBocce
DTSTART;TZID=America/Los_Angeles:20260601T183000
DTEND;TZID=America/Los_Angeles:20260601T210000
STATUS:CONFIRMED
SUMMARY:WHISKEY LANE SHOOTERS vs BEEOCHI BALLERS
URL:/League/Schedule/2952
DESCRIPTION:Regular Season match: WHISKEY LANE SHOOTERS vs B
 EEOCHI BALLERS
LOCATION:Martinez Court 10
END:VEVENT
BEGIN:VEVENT
DTSTAMP:20260419T000000Z
UID:161fc4b6-e72e-4e3a-8035-8a25011e970c@ClaytonBocce
DTSTART;TZID=America/Los_Angeles:20260615T183000
DTEND;TZID=America/Los_Angeles:20260615T210000
STATUS:CONFIRMED
SUMMARY:WHISKEY LANE SHOOTERS vs BASTARDS
URL:/League/Schedule/2952
DESCRIPTION:Regular Season match: WHISKEY LANE SHOOTERS vs B
 ASTARDS
LOCATION:Martinez Court 3
END:VEVENT
BEGIN:VEVENT
DTSTAMP:20260419T000000Z
UID:b8922876-b8fb-46e3-b97a-ead44d3f09d2@ClaytonBocce
DTSTART;TZID=America/Los_Angeles:20260622T183000
DTEND;TZID=America/Los_Angeles:20260622T210000
STATUS:CONFIRMED
SUMMARY:WHISKEY LANE SHOOTERS vs BOCCE BOMBERS
URL:/League/Schedule/2952
DESCRIPTION:Regular Season match: WHISKEY LANE SHOOTERS vs B
 OCCE BOMBERS
LOCATION:Martinez Court 5
END:VEVENT
BEGIN:VEVENT
DTSTAMP:20260419T000000Z
UID:446a5e02-40e3-4e88-83b5-4d0a12f958c0@ClaytonBocce
DTSTART;TZID=America/Los_Angeles:20260629T183000
DTEND;TZID=America/Los_Angeles:20260629T210000
STATUS:CONFIRMED
SUMMARY:WHISKEY LANE SHOOTERS vs ON A ROLL
URL:/League/Schedule/2952
DESCRIPTION:Regular Season match: WHISKEY LANE SHOOTERS vs O
 N A ROLL
LOCATION:Martinez Court 4
END:VEVENT
BEGIN:VEVENT
DTSTAMP:20260419T000000Z
UID:c8cd4dda-9881-4da7-b0e9-7230314a5ffa@ClaytonBocce
DTSTART;TZID=America/Los_Angeles:20260713T183000
DTEND;TZID=America/Los_Angeles:20260713T210000
STATUS:CONFIRMED
SUMMARY:WHISKEY LANE SHOOTERS vs PELOTAS CALIENTE
URL:/League/Schedule/2952
DESCRIPTION:Regular Season match: WHISKEY LANE SHOOTERS vs P
 ELOTAS CALIENTE
LOCATION:Martinez Court 14
END:VEVENT
BEGIN:VEVENT
DTSTAMP:20260419T000000Z
UID:4516cf5f-23a8-4f24-9f89-01e881bbf1d1@ClaytonBocce
DTSTART;TZID=America/Los_Angeles:20260720T183000
DTEND;TZID=America/Los_Angeles:20260720T210000
STATUS:CONFIRMED
SUMMARY:WHISKEY LANE SHOOTERS vs TEAM CLARK
URL:/League/Schedule/2952
DESCRIPTION:Regular Season match: WHISKEY LANE SHOOTERS vs T
 EAM CLARK
LOCATION:Martinez Court 11
END:VEVENT
BEGIN:VEVENT
DTSTAMP:20260419T000000Z
UID:652aee16-9fd5-4712-bc57-8d3abceedc96@ClaytonBocce
DTSTART;TZID=America/Los_Angeles:20260727T183000
DTEND;TZID=America/Los_Angeles:20260727T210000
STATUS:CONFIRMED
SUMMARY:WHISKEY LANE SHOOTERS vs BEEOCHI BALLERS
URL:/League/Schedule/2952
DESCRIPTION:Regular Season match: WHISKEY LANE SHOOTERS vs B
 EEOCHI BALLERS
LOCATION:Martinez Court 13
END:VEVENT
BEGIN:VEVENT
DTSTAMP:20260419T000000Z
UID:45c2d9e2-d6e0-4c14-9c86-befb96b30be0@ClaytonBocce
DTSTART;TZID=America/Los_Angeles:20260810T183000
DTEND;TZID=America/Los_Angeles:20260810T210000
STATUS:CONFIRMED
SUMMARY:WHISKEY LANE SHOOTERS vs BASTARDS
URL:/League/Schedule/2952
DESCRIPTION:Regular Season match: WHISKEY LANE SHOOTERS vs B
 ASTARDS
LOCATION:Martinez Court 14
END:VEVENT
BEGIN:VEVENT
DTSTAMP:20260419T000000Z
UID:134084ed-1887-4066-89e7-6e0c28af7237@ClaytonBocce
DTSTART;TZID=America/Los_Angeles:20260817T183000
DTEND;TZID=America/Los_Angeles:20260817T210000
STATUS:CONFIRMED
SUMMARY:WHISKEY LANE SHOOTERS vs BOCCE BOMBERS
URL:/League/Schedule/2952
DESCRIPTION:Regular Season match: WHISKEY LANE SHOOTERS vs B
 OCCE BOMBERS
LOCATION:Martinez Court 12
END:VEVENT
BEGIN:VEVENT
DTSTAMP:20260419T000000Z
UID:ff90da96-98f9-482b-8192-144f7db0c542@ClaytonBocce
DTSTART;TZID=America/Los_Angeles:20260824T183000
DTEND;TZID=America/Los_Angeles:20260824T210000
STATUS:CONFIRMED
SUMMARY:WHISKEY LANE SHOOTERS vs ON A ROLL
URL:/League/Schedule/2952
DESCRIPTION:Regular Season match: WHISKEY LANE SHOOTERS vs O
 N A ROLL
LOCATION:Martinez Court 15
END:VEVENT
BEGIN:VEVENT
DTSTAMP:20260419T000000Z
UID:d2bb623f-b664-46f3-9297-d56b6315f54d@ClaytonBocce
DTSTART;TZID=America/Los_Angeles:20260831T183000
DTEND;TZID=America/Los_Angeles:20260831T210000
STATUS:CONFIRMED
SUMMARY:WHISKEY LANE SHOOTERS vs PELOTAS CALIENTE
URL:/League/Schedule/2952
DESCRIPTION:Regular Season match: WHISKEY LANE SHOOTERS vs P
 ELOTAS CALIENTE
LOCATION:Martinez Court 5
END:VEVENT
BEGIN:VEVENT
DTSTAMP:20260419T000000Z
UID:ce7a6ddf-73e2-43b6-8d5a-52e697a78a65@ClaytonBocce
DTSTART;TZID=America/Los_Angeles:20260907T183000
DTEND;TZID=America/Los_Angeles:20260907T210000
STATUS:CONFIRMED
SUMMARY:WHISKEY LANE SHOOTERS vs TEAM CLARK
URL:/League/Schedule/2952
DESCRIPTION:Regular Season match: WHISKEY LANE SHOOTERS vs T
 EAM CLARK
LOCATION:Martinez Court 6
END:VEVENT
BEGIN:VEVENT
DTSTAMP:20260419T000000Z
UID:0ada6022-54b3-46f6-9622-684782dff8ba@ClaytonBocce
DTSTART;TZID=America/Los_Angeles:20260914T183000
DTEND;TZID=America/Los_Angeles:20260914T210000
STATUS:CONFIRMED
SUMMARY:WHISKEY LANE SHOOTERS vs BEEOCHI BALLERS
URL:/League/Schedule/2952
DESCRIPTION:Regular Season match: WHISKEY LANE SHOOTERS vs B
 EEOCHI BALLERS
LOCATION:Martinez Court 1
END:VEVENT
END:VCALENDAR
