BEGIN:VCALENDAR
VERSION:2.0
PRODID:-//Clayton Bocce League
METHOD:PUBLISH
BEGIN:VTIMEZONE
TZID:America/Los_Angeles
X-LIC-LOCATION:America/Los_Angeles
BEGIN:DAYLIGHT
TZOFFSETFROM:-0800
TZOFFSETTO:-0700
TZNAME:PDT
DTSTART:20070311T020000
RRULE:FREQ=YEARLY;BYMONTH=3;BYDAY=2SU
END:DAYLIGHT
BEGIN:STANDARD
TZOFFSETFROM:-0700
TZOFFSETTO:-0800
TZNAME:PST
DTSTART:20071104T020000
RRULE:FREQ=YEARLY;BYMONTH=11;BYDAY=1SU
END:STANDARD
END:VTIMEZONE
BEGIN:VEVENT
DTSTAMP:20260419T000000Z
UID:097aba99-89ae-4e5b-82fc-27cc65fa399e@ClaytonBocce
DTSTART;TZID=America/Los_Angeles:20260420T183000
DTEND;TZID=America/Los_Angeles:20260420T210000
STATUS:CONFIRMED
SUMMARY:BASTARDS vs WHISKEY LANE SHOOTERS
URL:/League/Schedule/2957
DESCRIPTION:Regular Season match: BASTARDS vs WHISKEY LANE S
 HOOTERS
LOCATION:Martinez Court 7
END:VEVENT
BEGIN:VEVENT
DTSTAMP:20260419T000000Z
UID:324e700e-7b5a-480e-a364-3d762c867f93@ClaytonBocce
DTSTART;TZID=America/Los_Angeles:20260504T183000
DTEND;TZID=America/Los_Angeles:20260504T210000
STATUS:CONFIRMED
SUMMARY:BASTARDS vs TEAM CLARK
URL:/League/Schedule/2957
DESCRIPTION:Regular Season match: BASTARDS vs TEAM CLARK
LOCATION:Martinez Court 4
END:VEVENT
BEGIN:VEVENT
DTSTAMP:20260419T000000Z
UID:d5a34e5e-ffe8-4051-9183-f363c16bb046@ClaytonBocce
DTSTART;TZID=America/Los_Angeles:20260511T183000
DTEND;TZID=America/Los_Angeles:20260511T210000
STATUS:CONFIRMED
SUMMARY:BASTARDS vs BOCCE BOMBERS
URL:/League/Schedule/2957
DESCRIPTION:Regular Season match: BASTARDS vs BOCCE BOMBERS
LOCATION:Martinez Court 5
END:VEVENT
BEGIN:VEVENT
DTSTAMP:20260419T000000Z
UID:46ca90be-1680-4801-a2d1-84476a189190@ClaytonBocce
DTSTART;TZID=America/Los_Angeles:20260518T183000
DTEND;TZID=America/Los_Angeles:20260518T210000
STATUS:CONFIRMED
SUMMARY:BASTARDS vs BEEOCHI BALLERS
URL:/League/Schedule/2957
DESCRIPTION:Regular Season match: BASTARDS vs BEEOCHI BALLER
 S
LOCATION:Martinez Court 11
END:VEVENT
BEGIN:VEVENT
DTSTAMP:20260419T000000Z
UID:6e48c26d-2859-4e71-8ada-d3a85412c112@ClaytonBocce
DTSTART;TZID=America/Los_Angeles:20260601T183000
DTEND;TZID=America/Los_Angeles:20260601T210000
STATUS:CONFIRMED
SUMMARY:BASTARDS vs ON A ROLL
URL:/League/Schedule/2957
DESCRIPTION:Regular Season match: BASTARDS vs ON A ROLL
LOCATION:Martinez Court 12
END:VEVENT
BEGIN:VEVENT
DTSTAMP:20260419T000000Z
UID:0d688779-e2f5-468c-8f6b-653734b31541@ClaytonBocce
DTSTART;TZID=America/Los_Angeles:20260608T183000
DTEND;TZID=America/Los_Angeles:20260608T210000
STATUS:CONFIRMED
SUMMARY:BASTARDS vs PELOTAS CALIENTE
URL:/League/Schedule/2957
DESCRIPTION:Regular Season match: BASTARDS vs PELOTAS CALIEN
 TE
LOCATION:Martinez Court 15
END:VEVENT
BEGIN:VEVENT
DTSTAMP:20260419T000000Z
UID:161fc4b6-e72e-4e3a-8035-8a25011e970c@ClaytonBocce
DTSTART;TZID=America/Los_Angeles:20260615T183000
DTEND;TZID=America/Los_Angeles:20260615T210000
STATUS:CONFIRMED
SUMMARY:BASTARDS vs WHISKEY LANE SHOOTERS
URL:/League/Schedule/2957
DESCRIPTION:Regular Season match: BASTARDS vs WHISKEY LANE S
 HOOTERS
LOCATION:Martinez Court 3
END:VEVENT
BEGIN:VEVENT
DTSTAMP:20260419T000000Z
UID:e6936a32-86a4-4635-be0e-f4a875199bc6@ClaytonBocce
DTSTART;TZID=America/Los_Angeles:20260629T183000
DTEND;TZID=America/Los_Angeles:20260629T210000
STATUS:CONFIRMED
SUMMARY:BASTARDS vs TEAM CLARK
URL:/League/Schedule/2957
DESCRIPTION:Regular Season match: BASTARDS vs TEAM CLARK
LOCATION:Martinez Court 6
END:VEVENT
BEGIN:VEVENT
DTSTAMP:20260419T000000Z
UID:8242ae92-f69f-4fbd-89a5-f4f614d861de@ClaytonBocce
DTSTART;TZID=America/Los_Angeles:20260713T183000
DTEND;TZID=America/Los_Angeles:20260713T210000
STATUS:CONFIRMED
SUMMARY:BASTARDS vs BOCCE BOMBERS
URL:/League/Schedule/2957
DESCRIPTION:Regular Season match: BASTARDS vs BOCCE BOMBERS
LOCATION:Martinez Court 13
END:VEVENT
BEGIN:VEVENT
DTSTAMP:20260419T000000Z
UID:964bbda4-46a9-455b-afa6-c62377011fbc@ClaytonBocce
DTSTART;TZID=America/Los_Angeles:20260720T183000
DTEND;TZID=America/Los_Angeles:20260720T210000
STATUS:CONFIRMED
SUMMARY:BASTARDS vs BEEOCHI BALLERS
URL:/League/Schedule/2957
DESCRIPTION:Regular Season match: BASTARDS vs BEEOCHI BALLER
 S
LOCATION:Martinez Court 15
END:VEVENT
BEGIN:VEVENT
DTSTAMP:20260419T000000Z
UID:4a4c4b3e-ffa8-487c-913b-9f476998367a@ClaytonBocce
DTSTART;TZID=America/Los_Angeles:20260727T183000
DTEND;TZID=America/Los_Angeles:20260727T210000
STATUS:CONFIRMED
SUMMARY:BASTARDS vs ON A ROLL
URL:/League/Schedule/2957
DESCRIPTION:Regular Season match: BASTARDS vs ON A ROLL
LOCATION:Martinez Court 11
END:VEVENT
BEGIN:VEVENT
DTSTAMP:20260419T000000Z
UID:bc4c6002-2e14-4cef-a79a-10152d68a030@ClaytonBocce
DTSTART;TZID=America/Los_Angeles:20260803T183000
DTEND;TZID=America/Los_Angeles:20260803T210000
STATUS:CONFIRMED
SUMMARY:BASTARDS vs PELOTAS CALIENTE
URL:/League/Schedule/2957
DESCRIPTION:Regular Season match: BASTARDS vs PELOTAS CALIEN
 TE
LOCATION:Martinez Court 1
END:VEVENT
BEGIN:VEVENT
DTSTAMP:20260419T000000Z
UID:45c2d9e2-d6e0-4c14-9c86-befb96b30be0@ClaytonBocce
DTSTART;TZID=America/Los_Angeles:20260810T183000
DTEND;TZID=America/Los_Angeles:20260810T210000
STATUS:CONFIRMED
SUMMARY:BASTARDS vs WHISKEY LANE SHOOTERS
URL:/League/Schedule/2957
DESCRIPTION:Regular Season match: BASTARDS vs WHISKEY LANE S
 HOOTERS
LOCATION:Martinez Court 14
END:VEVENT
BEGIN:VEVENT
DTSTAMP:20260419T000000Z
UID:5d8e7682-faba-4330-9fa8-99c593f22bd8@ClaytonBocce
DTSTART;TZID=America/Los_Angeles:20260824T183000
DTEND;TZID=America/Los_Angeles:20260824T210000
STATUS:CONFIRMED
SUMMARY:BASTARDS vs TEAM CLARK
URL:/League/Schedule/2957
DESCRIPTION:Regular Season match: BASTARDS vs TEAM CLARK
LOCATION:Martinez Court 10
END:VEVENT
BEGIN:VEVENT
DTSTAMP:20260419T000000Z
UID:57ba69ab-cf71-4666-a5aa-78c48cfc628a@ClaytonBocce
DTSTART;TZID=America/Los_Angeles:20260831T183000
DTEND;TZID=America/Los_Angeles:20260831T210000
STATUS:CONFIRMED
SUMMARY:BASTARDS vs BOCCE BOMBERS
URL:/League/Schedule/2957
DESCRIPTION:Regular Season match: BASTARDS vs BOCCE BOMBERS
LOCATION:Martinez Court 9
END:VEVENT
BEGIN:VEVENT
DTSTAMP:20260419T000000Z
UID:8c548239-7175-41ff-9246-dd80e9dc448e@ClaytonBocce
DTSTART;TZID=America/Los_Angeles:20260907T183000
DTEND;TZID=America/Los_Angeles:20260907T210000
STATUS:CONFIRMED
SUMMARY:BASTARDS vs BEEOCHI BALLERS
URL:/League/Schedule/2957
DESCRIPTION:Regular Season match: BASTARDS vs BEEOCHI BALLER
 S
LOCATION:Martinez Court 5
END:VEVENT
BEGIN:VEVENT
DTSTAMP:20260419T000000Z
UID:557f4598-f5d4-46cf-868a-3bb4bec6e410@ClaytonBocce
DTSTART;TZID=America/Los_Angeles:20260914T183000
DTEND;TZID=America/Los_Angeles:20260914T210000
STATUS:CONFIRMED
SUMMARY:BASTARDS vs ON A ROLL
URL:/League/Schedule/2957
DESCRIPTION:Regular Season match: BASTARDS vs ON A ROLL
LOCATION:Martinez Court 8
END:VEVENT
BEGIN:VEVENT
DTSTAMP:20260419T000000Z
UID:7f03843e-308a-42c1-a6af-acc70c269bbb@ClaytonBocce
DTSTART;TZID=America/Los_Angeles:20260921T183000
DTEND;TZID=America/Los_Angeles:20260921T210000
STATUS:CONFIRMED
SUMMARY:BASTARDS vs PELOTAS CALIENTE
URL:/League/Schedule/2957
DESCRIPTION:Regular Season match: BASTARDS vs PELOTAS CALIEN
 TE
LOCATION:Martinez Court 4
END:VEVENT
END:VCALENDAR
