BEGIN:VCALENDAR
VERSION:2.0
PRODID:-//Clayton Bocce League
METHOD:PUBLISH
BEGIN:VTIMEZONE
TZID:America/Los_Angeles
X-LIC-LOCATION:America/Los_Angeles
BEGIN:DAYLIGHT
TZOFFSETFROM:-0800
TZOFFSETTO:-0700
TZNAME:PDT
DTSTART:20070311T020000
RRULE:FREQ=YEARLY;BYMONTH=3;BYDAY=2SU
END:DAYLIGHT
BEGIN:STANDARD
TZOFFSETFROM:-0700
TZOFFSETTO:-0800
TZNAME:PST
DTSTART:20071104T020000
RRULE:FREQ=YEARLY;BYMONTH=11;BYDAY=1SU
END:STANDARD
END:VTIMEZONE
BEGIN:VEVENT
DTSTAMP:20260419T000000Z
UID:fbe98a21-6d73-4ead-88a9-783acd7fc9ce@ClaytonBocce
DTSTART;TZID=America/Los_Angeles:20260420T183000
DTEND;TZID=America/Los_Angeles:20260420T210000
STATUS:CONFIRMED
SUMMARY:MASTER BLASTERS vs FARLO BAMBINO FARLO
URL:/League/Schedule/2966
DESCRIPTION:Regular Season match: MASTER BLASTERS vs FARLO B
 AMBINO FARLO
LOCATION:Martinez Court 13
END:VEVENT
BEGIN:VEVENT
DTSTAMP:20260419T000000Z
UID:f42878e2-6894-492d-ab11-97025f57d14f@ClaytonBocce
DTSTART;TZID=America/Los_Angeles:20260427T183000
DTEND;TZID=America/Los_Angeles:20260427T210000
STATUS:CONFIRMED
SUMMARY:MASTER BLASTERS vs HAPPY HOUR HURLERS
URL:/League/Schedule/2966
DESCRIPTION:Regular Season match: MASTER BLASTERS vs HAPPY H
 OUR HURLERS
LOCATION:Martinez Court 3
END:VEVENT
BEGIN:VEVENT
DTSTAMP:20260419T000000Z
UID:1842cd4d-04a5-4339-95ba-83899e6e0f4e@ClaytonBocce
DTSTART;TZID=America/Los_Angeles:20260504T183000
DTEND;TZID=America/Los_Angeles:20260504T210000
STATUS:CONFIRMED
SUMMARY:MASTER BLASTERS vs WEIRD LITTLE DRINKS
URL:/League/Schedule/2966
DESCRIPTION:Regular Season match: MASTER BLASTERS vs WEIRD L
 ITTLE DRINKS
LOCATION:Martinez Court 8
END:VEVENT
BEGIN:VEVENT
DTSTAMP:20260419T000000Z
UID:81b3af11-59b1-497d-9cfe-5e02b9f3ab2a@ClaytonBocce
DTSTART;TZID=America/Los_Angeles:20260511T183000
DTEND;TZID=America/Los_Angeles:20260511T210000
STATUS:CONFIRMED
SUMMARY:MASTER BLASTERS vs HOLY ROLLERS
URL:/League/Schedule/2966
DESCRIPTION:Regular Season match: MASTER BLASTERS vs HOLY RO
 LLERS
LOCATION:Martinez Court 7
END:VEVENT
BEGIN:VEVENT
DTSTAMP:20260419T000000Z
UID:f8037e20-e3f6-4d75-bed6-52c370070db1@ClaytonBocce
DTSTART;TZID=America/Los_Angeles:20260518T183000
DTEND;TZID=America/Los_Angeles:20260518T210000
STATUS:CONFIRMED
SUMMARY:MASTER BLASTERS vs ALL BOCCED UP
URL:/League/Schedule/2966
DESCRIPTION:Regular Season match: MASTER BLASTERS vs ALL BOC
 CED UP
LOCATION:Martinez Court 15
END:VEVENT
BEGIN:VEVENT
DTSTAMP:20260419T000000Z
UID:ebb8ad6f-5404-4987-9bf6-4f143d472506@ClaytonBocce
DTSTART;TZID=America/Los_Angeles:20260601T183000
DTEND;TZID=America/Los_Angeles:20260601T210000
STATUS:CONFIRMED
SUMMARY:MASTER BLASTERS vs COSI VICINO
URL:/League/Schedule/2966
DESCRIPTION:Regular Season match: MASTER BLASTERS vs COSI VI
 CINO
LOCATION:Martinez Court 1
END:VEVENT
BEGIN:VEVENT
DTSTAMP:20260419T000000Z
UID:a6cf1799-eec4-47f7-bad0-9206bf34d02b@ClaytonBocce
DTSTART;TZID=America/Los_Angeles:20260615T183000
DTEND;TZID=America/Los_Angeles:20260615T210000
STATUS:CONFIRMED
SUMMARY:MASTER BLASTERS vs FARLO BAMBINO FARLO
URL:/League/Schedule/2966
DESCRIPTION:Regular Season match: MASTER BLASTERS vs FARLO B
 AMBINO FARLO
LOCATION:Martinez Court 14
END:VEVENT
BEGIN:VEVENT
DTSTAMP:20260419T000000Z
UID:feec56dd-4234-4967-87b4-ddd77ff828f7@ClaytonBocce
DTSTART;TZID=America/Los_Angeles:20260622T183000
DTEND;TZID=America/Los_Angeles:20260622T210000
STATUS:CONFIRMED
SUMMARY:MASTER BLASTERS vs HAPPY HOUR HURLERS
URL:/League/Schedule/2966
DESCRIPTION:Regular Season match: MASTER BLASTERS vs HAPPY H
 OUR HURLERS
LOCATION:Martinez Court 7
END:VEVENT
BEGIN:VEVENT
DTSTAMP:20260419T000000Z
UID:266c7c8e-f2de-453f-8110-d60f64933023@ClaytonBocce
DTSTART;TZID=America/Los_Angeles:20260629T183000
DTEND;TZID=America/Los_Angeles:20260629T210000
STATUS:CONFIRMED
SUMMARY:MASTER BLASTERS vs WEIRD LITTLE DRINKS
URL:/League/Schedule/2966
DESCRIPTION:Regular Season match: MASTER BLASTERS vs WEIRD L
 ITTLE DRINKS
LOCATION:Martinez Court 12
END:VEVENT
BEGIN:VEVENT
DTSTAMP:20260419T000000Z
UID:38592e60-9abb-4e9d-9aec-7012a92fc333@ClaytonBocce
DTSTART;TZID=America/Los_Angeles:20260713T183000
DTEND;TZID=America/Los_Angeles:20260713T210000
STATUS:CONFIRMED
SUMMARY:MASTER BLASTERS vs HOLY ROLLERS
URL:/League/Schedule/2966
DESCRIPTION:Regular Season match: MASTER BLASTERS vs HOLY RO
 LLERS
LOCATION:Martinez Court 5
END:VEVENT
BEGIN:VEVENT
DTSTAMP:20260419T000000Z
UID:2a80c6a2-cacc-404a-a3e3-2fe4579d1fc5@ClaytonBocce
DTSTART;TZID=America/Los_Angeles:20260720T183000
DTEND;TZID=America/Los_Angeles:20260720T210000
STATUS:CONFIRMED
SUMMARY:MASTER BLASTERS vs ALL BOCCED UP
URL:/League/Schedule/2966
DESCRIPTION:Regular Season match: MASTER BLASTERS vs ALL BOC
 CED UP
LOCATION:Martinez Court 2
END:VEVENT
BEGIN:VEVENT
DTSTAMP:20260419T000000Z
UID:a5394b25-7498-40a7-8d09-163c683efa2f@ClaytonBocce
DTSTART;TZID=America/Los_Angeles:20260727T183000
DTEND;TZID=America/Los_Angeles:20260727T210000
STATUS:CONFIRMED
SUMMARY:MASTER BLASTERS vs COSI VICINO
URL:/League/Schedule/2966
DESCRIPTION:Regular Season match: MASTER BLASTERS vs COSI VI
 CINO
LOCATION:Martinez Court 4
END:VEVENT
BEGIN:VEVENT
DTSTAMP:20260419T000000Z
UID:7e816dd3-4fbc-42e8-b0f5-51402197d676@ClaytonBocce
DTSTART;TZID=America/Los_Angeles:20260810T183000
DTEND;TZID=America/Los_Angeles:20260810T210000
STATUS:CONFIRMED
SUMMARY:MASTER BLASTERS vs FARLO BAMBINO FARLO
URL:/League/Schedule/2966
DESCRIPTION:Regular Season match: MASTER BLASTERS vs FARLO B
 AMBINO FARLO
LOCATION:Martinez Court 6
END:VEVENT
BEGIN:VEVENT
DTSTAMP:20260419T000000Z
UID:cc9c69ff-9fb5-45ca-b2f2-372da7709ff9@ClaytonBocce
DTSTART;TZID=America/Los_Angeles:20260817T183000
DTEND;TZID=America/Los_Angeles:20260817T210000
STATUS:CONFIRMED
SUMMARY:MASTER BLASTERS vs HAPPY HOUR HURLERS
URL:/League/Schedule/2966
DESCRIPTION:Regular Season match: MASTER BLASTERS vs HAPPY H
 OUR HURLERS
LOCATION:Martinez Court 8
END:VEVENT
BEGIN:VEVENT
DTSTAMP:20260419T000000Z
UID:0a55389f-e4a1-421b-a6eb-d75488b5e094@ClaytonBocce
DTSTART;TZID=America/Los_Angeles:20260824T183000
DTEND;TZID=America/Los_Angeles:20260824T210000
STATUS:CONFIRMED
SUMMARY:MASTER BLASTERS vs WEIRD LITTLE DRINKS
URL:/League/Schedule/2966
DESCRIPTION:Regular Season match: MASTER BLASTERS vs WEIRD L
 ITTLE DRINKS
LOCATION:Martinez Court 11
END:VEVENT
BEGIN:VEVENT
DTSTAMP:20260419T000000Z
UID:01613b38-a0d8-4390-9fd4-17ee63337c43@ClaytonBocce
DTSTART;TZID=America/Los_Angeles:20260831T183000
DTEND;TZID=America/Los_Angeles:20260831T210000
STATUS:CONFIRMED
SUMMARY:MASTER BLASTERS vs HOLY ROLLERS
URL:/League/Schedule/2966
DESCRIPTION:Regular Season match: MASTER BLASTERS vs HOLY RO
 LLERS
LOCATION:Martinez Court 1
END:VEVENT
BEGIN:VEVENT
DTSTAMP:20260419T000000Z
UID:d4422db7-93ea-4b4a-9cc4-ec0da5dc14e8@ClaytonBocce
DTSTART;TZID=America/Los_Angeles:20260907T183000
DTEND;TZID=America/Los_Angeles:20260907T210000
STATUS:CONFIRMED
SUMMARY:MASTER BLASTERS vs ALL BOCCED UP
URL:/League/Schedule/2966
DESCRIPTION:Regular Season match: MASTER BLASTERS vs ALL BOC
 CED UP
LOCATION:Martinez Court 9
END:VEVENT
BEGIN:VEVENT
DTSTAMP:20260419T000000Z
UID:14e91b8d-626e-4ca5-9d27-6cef8174b0af@ClaytonBocce
DTSTART;TZID=America/Los_Angeles:20260914T183000
DTEND;TZID=America/Los_Angeles:20260914T210000
STATUS:CONFIRMED
SUMMARY:MASTER BLASTERS vs COSI VICINO
URL:/League/Schedule/2966
DESCRIPTION:Regular Season match: MASTER BLASTERS vs COSI VI
 CINO
LOCATION:Martinez Court 12
END:VEVENT
END:VCALENDAR
