BEGIN:VCALENDAR
VERSION:2.0
PRODID:-//Clayton Bocce League
METHOD:PUBLISH
BEGIN:VTIMEZONE
TZID:America/Los_Angeles
X-LIC-LOCATION:America/Los_Angeles
BEGIN:DAYLIGHT
TZOFFSETFROM:-0800
TZOFFSETTO:-0700
TZNAME:PDT
DTSTART:20070311T020000
RRULE:FREQ=YEARLY;BYMONTH=3;BYDAY=2SU
END:DAYLIGHT
BEGIN:STANDARD
TZOFFSETFROM:-0700
TZOFFSETTO:-0800
TZNAME:PST
DTSTART:20071104T020000
RRULE:FREQ=YEARLY;BYMONTH=11;BYDAY=1SU
END:STANDARD
END:VTIMEZONE
BEGIN:VEVENT
DTSTAMP:20260419T000000Z
UID:c6414e33-4be5-48b7-b378-94a6a36b4fe7@ClaytonBocce
DTSTART;TZID=America/Los_Angeles:20260426T170000
DTEND;TZID=America/Los_Angeles:20260426T193000
STATUS:CONFIRMED
SUMMARY:FUHGETABOCCE vs CANCEL MY APPOINTMENTS AND HOLD ALL 
 MY BALLS
URL:/League/Schedule/2944
DESCRIPTION:Regular Season match: FUHGETABOCCE vs CANCEL MY 
 APPOINTMENTS AND HOLD ALL MY BALLS
LOCATION:Martinez Court 5
END:VEVENT
BEGIN:VEVENT
DTSTAMP:20260419T000000Z
UID:96008aea-8e25-48fa-8cb5-4986100ce114@ClaytonBocce
DTSTART;TZID=America/Los_Angeles:20260503T170000
DTEND;TZID=America/Los_Angeles:20260503T193000
STATUS:CONFIRMED
SUMMARY:FUHGETABOCCE vs V.A. NOBLES
URL:/League/Schedule/2944
DESCRIPTION:Regular Season match: FUHGETABOCCE vs V.A. NOBLE
 S
LOCATION:Martinez Court 10
END:VEVENT
BEGIN:VEVENT
DTSTAMP:20260419T000000Z
UID:e05d2661-b63a-4d28-954c-ed24c3c97583@ClaytonBocce
DTSTART;TZID=America/Los_Angeles:20260517T170000
DTEND;TZID=America/Los_Angeles:20260517T193000
STATUS:CONFIRMED
SUMMARY:FUHGETABOCCE vs BOCCE OF THRONES
URL:/League/Schedule/2944
DESCRIPTION:Regular Season match: FUHGETABOCCE vs BOCCE OF T
 HRONES
LOCATION:Martinez Court 13
END:VEVENT
BEGIN:VEVENT
DTSTAMP:20260419T000000Z
UID:fb22de0a-1088-40f8-a86a-3bb2eb5ec224@ClaytonBocce
DTSTART;TZID=America/Los_Angeles:20260531T170000
DTEND;TZID=America/Los_Angeles:20260531T193000
STATUS:CONFIRMED
SUMMARY:FUHGETABOCCE vs BOCCE SNATCHERS
URL:/League/Schedule/2944
DESCRIPTION:Regular Season match: FUHGETABOCCE vs BOCCE SNAT
 CHERS
LOCATION:Martinez Court 2
END:VEVENT
BEGIN:VEVENT
DTSTAMP:20260419T000000Z
UID:4e3afd4d-d336-4121-b57b-29a2a40eedca@ClaytonBocce
DTSTART;TZID=America/Los_Angeles:20260607T170000
DTEND;TZID=America/Los_Angeles:20260607T193000
STATUS:CONFIRMED
SUMMARY:FUHGETABOCCE vs CLOSE ENOUGH
URL:/League/Schedule/2944
DESCRIPTION:Regular Season match: FUHGETABOCCE vs CLOSE ENOU
 GH
LOCATION:Martinez Court 1
END:VEVENT
BEGIN:VEVENT
DTSTAMP:20260419T000000Z
UID:285e5d9d-f2b0-4b4f-b01d-684a564bd8e6@ClaytonBocce
DTSTART;TZID=America/Los_Angeles:20260614T170000
DTEND;TZID=America/Los_Angeles:20260614T193000
STATUS:CONFIRMED
SUMMARY:FUHGETABOCCE vs ACE ROLLERS
URL:/League/Schedule/2944
DESCRIPTION:Regular Season match: FUHGETABOCCE vs ACE ROLLER
 S
LOCATION:Martinez Court 8
END:VEVENT
BEGIN:VEVENT
DTSTAMP:20260419T000000Z
UID:9e217b13-f6ed-4b7c-a876-1afb6fcf6544@ClaytonBocce
DTSTART;TZID=America/Los_Angeles:20260628T170000
DTEND;TZID=America/Los_Angeles:20260628T193000
STATUS:CONFIRMED
SUMMARY:FUHGETABOCCE vs CANCEL MY APPOINTMENTS AND HOLD ALL 
 MY BALLS
URL:/League/Schedule/2944
DESCRIPTION:Regular Season match: FUHGETABOCCE vs CANCEL MY 
 APPOINTMENTS AND HOLD ALL MY BALLS
LOCATION:Martinez Court 9
END:VEVENT
BEGIN:VEVENT
DTSTAMP:20260419T000000Z
UID:daa3373a-662b-4068-adff-f9af927f7ddf@ClaytonBocce
DTSTART;TZID=America/Los_Angeles:20260712T170000
DTEND;TZID=America/Los_Angeles:20260712T193000
STATUS:CONFIRMED
SUMMARY:FUHGETABOCCE vs V.A. NOBLES
URL:/League/Schedule/2944
DESCRIPTION:Regular Season match: FUHGETABOCCE vs V.A. NOBLE
 S
LOCATION:Martinez Court 3
END:VEVENT
BEGIN:VEVENT
DTSTAMP:20260419T000000Z
UID:c958c3cf-acdb-49ee-af69-9ec3535e1e86@ClaytonBocce
DTSTART;TZID=America/Los_Angeles:20260719T170000
DTEND;TZID=America/Los_Angeles:20260719T193000
STATUS:CONFIRMED
SUMMARY:FUHGETABOCCE vs BOCCE OF THRONES
URL:/League/Schedule/2944
DESCRIPTION:Regular Season match: FUHGETABOCCE vs BOCCE OF T
 HRONES
LOCATION:Martinez Court 6
END:VEVENT
BEGIN:VEVENT
DTSTAMP:20260419T000000Z
UID:82206b03-e93a-471d-b585-ab0f7afc981a@ClaytonBocce
DTSTART;TZID=America/Los_Angeles:20260726T170000
DTEND;TZID=America/Los_Angeles:20260726T193000
STATUS:CONFIRMED
SUMMARY:FUHGETABOCCE vs BOCCE SNATCHERS
URL:/League/Schedule/2944
DESCRIPTION:Regular Season match: FUHGETABOCCE vs BOCCE SNAT
 CHERS
LOCATION:Martinez Court 9
END:VEVENT
BEGIN:VEVENT
DTSTAMP:20260419T000000Z
UID:0af38e52-2c9e-43bc-bc3f-1a3db515217f@ClaytonBocce
DTSTART;TZID=America/Los_Angeles:20260802T170000
DTEND;TZID=America/Los_Angeles:20260802T193000
STATUS:CONFIRMED
SUMMARY:FUHGETABOCCE vs CLOSE ENOUGH
URL:/League/Schedule/2944
DESCRIPTION:Regular Season match: FUHGETABOCCE vs CLOSE ENOU
 GH
LOCATION:Martinez Court 4
END:VEVENT
BEGIN:VEVENT
DTSTAMP:20260419T000000Z
UID:43dcdb73-6907-4905-b2d2-367332e8d265@ClaytonBocce
DTSTART;TZID=America/Los_Angeles:20260809T170000
DTEND;TZID=America/Los_Angeles:20260809T193000
STATUS:CONFIRMED
SUMMARY:FUHGETABOCCE vs ACE ROLLERS
URL:/League/Schedule/2944
DESCRIPTION:Regular Season match: FUHGETABOCCE vs ACE ROLLER
 S
LOCATION:Martinez Court 11
END:VEVENT
BEGIN:VEVENT
DTSTAMP:20260419T000000Z
UID:f286672e-fbff-4379-8c25-9d2143ec8e87@ClaytonBocce
DTSTART;TZID=America/Los_Angeles:20260823T170000
DTEND;TZID=America/Los_Angeles:20260823T193000
STATUS:CONFIRMED
SUMMARY:FUHGETABOCCE vs CANCEL MY APPOINTMENTS AND HOLD ALL 
 MY BALLS
URL:/League/Schedule/2944
DESCRIPTION:Regular Season match: FUHGETABOCCE vs CANCEL MY 
 APPOINTMENTS AND HOLD ALL MY BALLS
LOCATION:Martinez Court 14
END:VEVENT
BEGIN:VEVENT
DTSTAMP:20260419T000000Z
UID:8018fbfa-a15f-46d7-b145-0c16df3c3577@ClaytonBocce
DTSTART;TZID=America/Los_Angeles:20260830T170000
DTEND;TZID=America/Los_Angeles:20260830T193000
STATUS:CONFIRMED
SUMMARY:FUHGETABOCCE vs V.A. NOBLES
URL:/League/Schedule/2944
DESCRIPTION:Regular Season match: FUHGETABOCCE vs V.A. NOBLE
 S
LOCATION:Martinez Court 8
END:VEVENT
BEGIN:VEVENT
DTSTAMP:20260419T000000Z
UID:d20d4837-d05c-4dca-a6bd-1f3e27b7eab0@ClaytonBocce
DTSTART;TZID=America/Los_Angeles:20260906T170000
DTEND;TZID=America/Los_Angeles:20260906T193000
STATUS:CONFIRMED
SUMMARY:FUHGETABOCCE vs BOCCE OF THRONES
URL:/League/Schedule/2944
DESCRIPTION:Regular Season match: FUHGETABOCCE vs BOCCE OF T
 HRONES
LOCATION:Martinez Court 4
END:VEVENT
BEGIN:VEVENT
DTSTAMP:20260419T000000Z
UID:11a8bb02-0b9c-4b7a-b6cf-b3bc51e99e3c@ClaytonBocce
DTSTART;TZID=America/Los_Angeles:20260913T170000
DTEND;TZID=America/Los_Angeles:20260913T193000
STATUS:CONFIRMED
SUMMARY:FUHGETABOCCE vs BOCCE SNATCHERS
URL:/League/Schedule/2944
DESCRIPTION:Regular Season match: FUHGETABOCCE vs BOCCE SNAT
 CHERS
LOCATION:Martinez Court 15
END:VEVENT
BEGIN:VEVENT
DTSTAMP:20260419T000000Z
UID:3e77d706-4fb5-4784-b8e9-5cc33345bbb0@ClaytonBocce
DTSTART;TZID=America/Los_Angeles:20260920T170000
DTEND;TZID=America/Los_Angeles:20260920T193000
STATUS:CONFIRMED
SUMMARY:FUHGETABOCCE vs CLOSE ENOUGH
URL:/League/Schedule/2944
DESCRIPTION:Regular Season match: FUHGETABOCCE vs CLOSE ENOU
 GH
LOCATION:Martinez Court 12
END:VEVENT
END:VCALENDAR
