BEGIN:VCALENDAR
VERSION:2.0
PRODID:-//Clayton Bocce League
METHOD:PUBLISH
BEGIN:VTIMEZONE
TZID:America/Los_Angeles
X-LIC-LOCATION:America/Los_Angeles
BEGIN:DAYLIGHT
TZOFFSETFROM:-0800
TZOFFSETTO:-0700
TZNAME:PDT
DTSTART:20070311T020000
RRULE:FREQ=YEARLY;BYMONTH=3;BYDAY=2SU
END:DAYLIGHT
BEGIN:STANDARD
TZOFFSETFROM:-0700
TZOFFSETTO:-0800
TZNAME:PST
DTSTART:20071104T020000
RRULE:FREQ=YEARLY;BYMONTH=11;BYDAY=1SU
END:STANDARD
END:VTIMEZONE
BEGIN:VEVENT
DTSTAMP:20260419T000000Z
UID:5d4cc345-7a35-4124-947d-d8b17951287f@ClaytonBocce
DTSTART;TZID=America/Los_Angeles:20260419T170000
DTEND;TZID=America/Los_Angeles:20260419T193000
STATUS:CONFIRMED
SUMMARY:BOCCE OF THRONES vs ACE ROLLERS
URL:/League/Schedule/2939
DESCRIPTION:Regular Season match: BOCCE OF THRONES vs ACE RO
 LLERS
LOCATION:Martinez Court 14
END:VEVENT
BEGIN:VEVENT
DTSTAMP:20260419T000000Z
UID:3476c0bb-6fef-451f-9cf9-fdd9b2b36e4b@ClaytonBocce
DTSTART;TZID=America/Los_Angeles:20260426T170000
DTEND;TZID=America/Los_Angeles:20260426T193000
STATUS:CONFIRMED
SUMMARY:BOCCE OF THRONES vs V.A. NOBLES
URL:/League/Schedule/2939
DESCRIPTION:Regular Season match: BOCCE OF THRONES vs V.A. N
 OBLES
LOCATION:Martinez Court 4
END:VEVENT
BEGIN:VEVENT
DTSTAMP:20260419T000000Z
UID:f7101706-42b8-403d-b1f2-c5d771cf27c0@ClaytonBocce
DTSTART;TZID=America/Los_Angeles:20260503T170000
DTEND;TZID=America/Los_Angeles:20260503T193000
STATUS:CONFIRMED
SUMMARY:BOCCE OF THRONES vs BOCCE SNATCHERS
URL:/League/Schedule/2939
DESCRIPTION:Regular Season match: BOCCE OF THRONES vs BOCCE 
 SNATCHERS
LOCATION:Martinez Court 9
END:VEVENT
BEGIN:VEVENT
DTSTAMP:20260419T000000Z
UID:e05d2661-b63a-4d28-954c-ed24c3c97583@ClaytonBocce
DTSTART;TZID=America/Los_Angeles:20260517T170000
DTEND;TZID=America/Los_Angeles:20260517T193000
STATUS:CONFIRMED
SUMMARY:BOCCE OF THRONES vs FUHGETABOCCE
URL:/League/Schedule/2939
DESCRIPTION:Regular Season match: BOCCE OF THRONES vs FUHGET
 ABOCCE
LOCATION:Martinez Court 13
END:VEVENT
BEGIN:VEVENT
DTSTAMP:20260419T000000Z
UID:8b5e7ef4-9596-49fd-bd52-7e7ab52df6e0@ClaytonBocce
DTSTART;TZID=America/Los_Angeles:20260531T170000
DTEND;TZID=America/Los_Angeles:20260531T193000
STATUS:CONFIRMED
SUMMARY:BOCCE OF THRONES vs CLOSE ENOUGH
URL:/League/Schedule/2939
DESCRIPTION:Regular Season match: BOCCE OF THRONES vs CLOSE 
 ENOUGH
LOCATION:Martinez Court 15
END:VEVENT
BEGIN:VEVENT
DTSTAMP:20260419T000000Z
UID:22619ada-8d20-4e16-b8f9-1f9caa655f59@ClaytonBocce
DTSTART;TZID=America/Los_Angeles:20260614T170000
DTEND;TZID=America/Los_Angeles:20260614T193000
STATUS:CONFIRMED
SUMMARY:BOCCE OF THRONES vs CANCEL MY APPOINTMENTS AND HOLD 
 ALL MY BALLS
URL:/League/Schedule/2939
DESCRIPTION:Regular Season match: BOCCE OF THRONES vs CANCEL
  MY APPOINTMENTS AND HOLD ALL MY BALLS
LOCATION:Martinez Court 7
END:VEVENT
BEGIN:VEVENT
DTSTAMP:20260419T000000Z
UID:1883b425-b1bc-458d-8a89-9fe98ccf1839@ClaytonBocce
DTSTART;TZID=America/Los_Angeles:20260621T170000
DTEND;TZID=America/Los_Angeles:20260621T193000
STATUS:CONFIRMED
SUMMARY:BOCCE OF THRONES vs ACE ROLLERS
URL:/League/Schedule/2939
DESCRIPTION:Regular Season match: BOCCE OF THRONES vs ACE RO
 LLERS
LOCATION:Martinez Court 15
END:VEVENT
BEGIN:VEVENT
DTSTAMP:20260419T000000Z
UID:b76581f9-1c90-4567-92ff-10f0a7833220@ClaytonBocce
DTSTART;TZID=America/Los_Angeles:20260628T170000
DTEND;TZID=America/Los_Angeles:20260628T193000
STATUS:CONFIRMED
SUMMARY:BOCCE OF THRONES vs V.A. NOBLES
URL:/League/Schedule/2939
DESCRIPTION:Regular Season match: BOCCE OF THRONES vs V.A. N
 OBLES
LOCATION:Martinez Court 8
END:VEVENT
BEGIN:VEVENT
DTSTAMP:20260419T000000Z
UID:6eddc784-0b32-4738-9daa-3743947eb87b@ClaytonBocce
DTSTART;TZID=America/Los_Angeles:20260712T170000
DTEND;TZID=America/Los_Angeles:20260712T193000
STATUS:CONFIRMED
SUMMARY:BOCCE OF THRONES vs BOCCE SNATCHERS
URL:/League/Schedule/2939
DESCRIPTION:Regular Season match: BOCCE OF THRONES vs BOCCE 
 SNATCHERS
LOCATION:Martinez Court 1
END:VEVENT
BEGIN:VEVENT
DTSTAMP:20260419T000000Z
UID:c958c3cf-acdb-49ee-af69-9ec3535e1e86@ClaytonBocce
DTSTART;TZID=America/Los_Angeles:20260719T170000
DTEND;TZID=America/Los_Angeles:20260719T193000
STATUS:CONFIRMED
SUMMARY:BOCCE OF THRONES vs FUHGETABOCCE
URL:/League/Schedule/2939
DESCRIPTION:Regular Season match: BOCCE OF THRONES vs FUHGET
 ABOCCE
LOCATION:Martinez Court 6
END:VEVENT
BEGIN:VEVENT
DTSTAMP:20260419T000000Z
UID:27d43ac4-4dc6-40c2-b851-7e9b600e9ff3@ClaytonBocce
DTSTART;TZID=America/Los_Angeles:20260726T170000
DTEND;TZID=America/Los_Angeles:20260726T193000
STATUS:CONFIRMED
SUMMARY:BOCCE OF THRONES vs CLOSE ENOUGH
URL:/League/Schedule/2939
DESCRIPTION:Regular Season match: BOCCE OF THRONES vs CLOSE 
 ENOUGH
LOCATION:Martinez Court 2
END:VEVENT
BEGIN:VEVENT
DTSTAMP:20260419T000000Z
UID:1dbe6ea7-fd5c-4955-a6fb-ef2d36e01e2d@ClaytonBocce
DTSTART;TZID=America/Los_Angeles:20260809T170000
DTEND;TZID=America/Los_Angeles:20260809T193000
STATUS:CONFIRMED
SUMMARY:BOCCE OF THRONES vs CANCEL MY APPOINTMENTS AND HOLD 
 ALL MY BALLS
URL:/League/Schedule/2939
DESCRIPTION:Regular Season match: BOCCE OF THRONES vs CANCEL
  MY APPOINTMENTS AND HOLD ALL MY BALLS
LOCATION:Martinez Court 10
END:VEVENT
BEGIN:VEVENT
DTSTAMP:20260419T000000Z
UID:c1859088-08ec-444a-81eb-6739ee510e98@ClaytonBocce
DTSTART;TZID=America/Los_Angeles:20260816T170000
DTEND;TZID=America/Los_Angeles:20260816T193000
STATUS:CONFIRMED
SUMMARY:BOCCE OF THRONES vs ACE ROLLERS
URL:/League/Schedule/2939
DESCRIPTION:Regular Season match: BOCCE OF THRONES vs ACE RO
 LLERS
LOCATION:Martinez Court 5
END:VEVENT
BEGIN:VEVENT
DTSTAMP:20260419T000000Z
UID:ecb10d6d-a532-40c9-b9e8-67cac04b2632@ClaytonBocce
DTSTART;TZID=America/Los_Angeles:20260823T170000
DTEND;TZID=America/Los_Angeles:20260823T193000
STATUS:CONFIRMED
SUMMARY:BOCCE OF THRONES vs V.A. NOBLES
URL:/League/Schedule/2939
DESCRIPTION:Regular Season match: BOCCE OF THRONES vs V.A. N
 OBLES
LOCATION:Martinez Court 11
END:VEVENT
BEGIN:VEVENT
DTSTAMP:20260419T000000Z
UID:042928a2-05eb-4b13-9ee4-3a9168d5b604@ClaytonBocce
DTSTART;TZID=America/Los_Angeles:20260830T170000
DTEND;TZID=America/Los_Angeles:20260830T193000
STATUS:CONFIRMED
SUMMARY:BOCCE OF THRONES vs BOCCE SNATCHERS
URL:/League/Schedule/2939
DESCRIPTION:Regular Season match: BOCCE OF THRONES vs BOCCE 
 SNATCHERS
LOCATION:Martinez Court 1
END:VEVENT
BEGIN:VEVENT
DTSTAMP:20260419T000000Z
UID:d20d4837-d05c-4dca-a6bd-1f3e27b7eab0@ClaytonBocce
DTSTART;TZID=America/Los_Angeles:20260906T170000
DTEND;TZID=America/Los_Angeles:20260906T193000
STATUS:CONFIRMED
SUMMARY:BOCCE OF THRONES vs FUHGETABOCCE
URL:/League/Schedule/2939
DESCRIPTION:Regular Season match: BOCCE OF THRONES vs FUHGET
 ABOCCE
LOCATION:Martinez Court 4
END:VEVENT
BEGIN:VEVENT
DTSTAMP:20260419T000000Z
UID:7163941d-3030-4e51-8a56-10d74953f8ae@ClaytonBocce
DTSTART;TZID=America/Los_Angeles:20260913T170000
DTEND;TZID=America/Los_Angeles:20260913T193000
STATUS:CONFIRMED
SUMMARY:BOCCE OF THRONES vs CLOSE ENOUGH
URL:/League/Schedule/2939
DESCRIPTION:Regular Season match: BOCCE OF THRONES vs CLOSE 
 ENOUGH
LOCATION:Martinez Court 9
END:VEVENT
END:VCALENDAR
