BEGIN:VCALENDAR
VERSION:2.0
PRODID:-//Clayton Bocce League
METHOD:PUBLISH
BEGIN:VTIMEZONE
TZID:America/Los_Angeles
X-LIC-LOCATION:America/Los_Angeles
BEGIN:DAYLIGHT
TZOFFSETFROM:-0800
TZOFFSETTO:-0700
TZNAME:PDT
DTSTART:20070311T020000
RRULE:FREQ=YEARLY;BYMONTH=3;BYDAY=2SU
END:DAYLIGHT
BEGIN:STANDARD
TZOFFSETFROM:-0700
TZOFFSETTO:-0800
TZNAME:PST
DTSTART:20071104T020000
RRULE:FREQ=YEARLY;BYMONTH=11;BYDAY=1SU
END:STANDARD
END:VTIMEZONE
BEGIN:VEVENT
DTSTAMP:20260419T000000Z
UID:5d4cc345-7a35-4124-947d-d8b17951287f@ClaytonBocce
DTSTART;TZID=America/Los_Angeles:20260419T170000
DTEND;TZID=America/Los_Angeles:20260419T193000
STATUS:CONFIRMED
SUMMARY:ACE ROLLERS vs BOCCE OF THRONES
URL:/League/Schedule/2942
DESCRIPTION:Regular Season match: ACE ROLLERS vs BOCCE OF TH
 RONES
LOCATION:Martinez Court 14
END:VEVENT
BEGIN:VEVENT
DTSTAMP:20260419T000000Z
UID:f267cfa6-46a3-4b9d-922b-f3990d507604@ClaytonBocce
DTSTART;TZID=America/Los_Angeles:20260426T170000
DTEND;TZID=America/Los_Angeles:20260426T193000
STATUS:CONFIRMED
SUMMARY:ACE ROLLERS vs CLOSE ENOUGH
URL:/League/Schedule/2942
DESCRIPTION:Regular Season match: ACE ROLLERS vs CLOSE ENOUG
 H
LOCATION:Martinez Court 3
END:VEVENT
BEGIN:VEVENT
DTSTAMP:20260419T000000Z
UID:aeeeb6cd-6f8e-42d6-84ef-10116a667dff@ClaytonBocce
DTSTART;TZID=America/Los_Angeles:20260517T170000
DTEND;TZID=America/Los_Angeles:20260517T193000
STATUS:CONFIRMED
SUMMARY:ACE ROLLERS vs BOCCE SNATCHERS
URL:/League/Schedule/2942
DESCRIPTION:Regular Season match: ACE ROLLERS vs BOCCE SNATC
 HERS
LOCATION:Martinez Court 11
END:VEVENT
BEGIN:VEVENT
DTSTAMP:20260419T000000Z
UID:0aaf4620-0ce4-4953-a37a-37feac15af91@ClaytonBocce
DTSTART;TZID=America/Los_Angeles:20260531T170000
DTEND;TZID=America/Los_Angeles:20260531T193000
STATUS:CONFIRMED
SUMMARY:ACE ROLLERS vs CANCEL MY APPOINTMENTS AND HOLD ALL M
 Y BALLS
URL:/League/Schedule/2942
DESCRIPTION:Regular Season match: ACE ROLLERS vs CANCEL MY A
 PPOINTMENTS AND HOLD ALL MY BALLS
LOCATION:Martinez Court 1
END:VEVENT
BEGIN:VEVENT
DTSTAMP:20260419T000000Z
UID:cb70525d-4f80-42f8-bcd0-2cecbe9b72fd@ClaytonBocce
DTSTART;TZID=America/Los_Angeles:20260607T170000
DTEND;TZID=America/Los_Angeles:20260607T193000
STATUS:CONFIRMED
SUMMARY:ACE ROLLERS vs V.A. NOBLES
URL:/League/Schedule/2942
DESCRIPTION:Regular Season match: ACE ROLLERS vs V.A. NOBLES
LOCATION:Martinez Court 2
END:VEVENT
BEGIN:VEVENT
DTSTAMP:20260419T000000Z
UID:285e5d9d-f2b0-4b4f-b01d-684a564bd8e6@ClaytonBocce
DTSTART;TZID=America/Los_Angeles:20260614T170000
DTEND;TZID=America/Los_Angeles:20260614T193000
STATUS:CONFIRMED
SUMMARY:ACE ROLLERS vs FUHGETABOCCE
URL:/League/Schedule/2942
DESCRIPTION:Regular Season match: ACE ROLLERS vs FUHGETABOCC
 E
LOCATION:Martinez Court 8
END:VEVENT
BEGIN:VEVENT
DTSTAMP:20260419T000000Z
UID:1883b425-b1bc-458d-8a89-9fe98ccf1839@ClaytonBocce
DTSTART;TZID=America/Los_Angeles:20260621T170000
DTEND;TZID=America/Los_Angeles:20260621T193000
STATUS:CONFIRMED
SUMMARY:ACE ROLLERS vs BOCCE OF THRONES
URL:/League/Schedule/2942
DESCRIPTION:Regular Season match: ACE ROLLERS vs BOCCE OF TH
 RONES
LOCATION:Martinez Court 15
END:VEVENT
BEGIN:VEVENT
DTSTAMP:20260419T000000Z
UID:4a4c4cdb-43c0-49b7-a913-191ae671fefd@ClaytonBocce
DTSTART;TZID=America/Los_Angeles:20260628T170000
DTEND;TZID=America/Los_Angeles:20260628T193000
STATUS:CONFIRMED
SUMMARY:ACE ROLLERS vs CLOSE ENOUGH
URL:/League/Schedule/2942
DESCRIPTION:Regular Season match: ACE ROLLERS vs CLOSE ENOUG
 H
LOCATION:Martinez Court 7
END:VEVENT
BEGIN:VEVENT
DTSTAMP:20260419T000000Z
UID:79868891-21a8-43e2-9559-0e90be3949bd@ClaytonBocce
DTSTART;TZID=America/Los_Angeles:20260719T170000
DTEND;TZID=America/Los_Angeles:20260719T193000
STATUS:CONFIRMED
SUMMARY:ACE ROLLERS vs BOCCE SNATCHERS
URL:/League/Schedule/2942
DESCRIPTION:Regular Season match: ACE ROLLERS vs BOCCE SNATC
 HERS
LOCATION:Martinez Court 4
END:VEVENT
BEGIN:VEVENT
DTSTAMP:20260419T000000Z
UID:9a4d48b0-d42c-4dc4-912c-46393fc3d22b@ClaytonBocce
DTSTART;TZID=America/Los_Angeles:20260726T170000
DTEND;TZID=America/Los_Angeles:20260726T193000
STATUS:CONFIRMED
SUMMARY:ACE ROLLERS vs CANCEL MY APPOINTMENTS AND HOLD ALL M
 Y BALLS
URL:/League/Schedule/2942
DESCRIPTION:Regular Season match: ACE ROLLERS vs CANCEL MY A
 PPOINTMENTS AND HOLD ALL MY BALLS
LOCATION:Martinez Court 6
END:VEVENT
BEGIN:VEVENT
DTSTAMP:20260419T000000Z
UID:8fa5f058-c1a3-4775-aa58-e6b22fbeddc6@ClaytonBocce
DTSTART;TZID=America/Los_Angeles:20260802T170000
DTEND;TZID=America/Los_Angeles:20260802T193000
STATUS:CONFIRMED
SUMMARY:ACE ROLLERS vs V.A. NOBLES
URL:/League/Schedule/2942
DESCRIPTION:Regular Season match: ACE ROLLERS vs V.A. NOBLES
LOCATION:Martinez Court 9
END:VEVENT
BEGIN:VEVENT
DTSTAMP:20260419T000000Z
UID:43dcdb73-6907-4905-b2d2-367332e8d265@ClaytonBocce
DTSTART;TZID=America/Los_Angeles:20260809T170000
DTEND;TZID=America/Los_Angeles:20260809T193000
STATUS:CONFIRMED
SUMMARY:ACE ROLLERS vs FUHGETABOCCE
URL:/League/Schedule/2942
DESCRIPTION:Regular Season match: ACE ROLLERS vs FUHGETABOCC
 E
LOCATION:Martinez Court 11
END:VEVENT
BEGIN:VEVENT
DTSTAMP:20260419T000000Z
UID:c1859088-08ec-444a-81eb-6739ee510e98@ClaytonBocce
DTSTART;TZID=America/Los_Angeles:20260816T170000
DTEND;TZID=America/Los_Angeles:20260816T193000
STATUS:CONFIRMED
SUMMARY:ACE ROLLERS vs BOCCE OF THRONES
URL:/League/Schedule/2942
DESCRIPTION:Regular Season match: ACE ROLLERS vs BOCCE OF TH
 RONES
LOCATION:Martinez Court 5
END:VEVENT
BEGIN:VEVENT
DTSTAMP:20260419T000000Z
UID:193c4899-dc22-4bf5-867a-799e47fcd392@ClaytonBocce
DTSTART;TZID=America/Los_Angeles:20260823T170000
DTEND;TZID=America/Los_Angeles:20260823T193000
STATUS:CONFIRMED
SUMMARY:ACE ROLLERS vs CLOSE ENOUGH
URL:/League/Schedule/2942
DESCRIPTION:Regular Season match: ACE ROLLERS vs CLOSE ENOUG
 H
LOCATION:Martinez Court 8
END:VEVENT
BEGIN:VEVENT
DTSTAMP:20260419T000000Z
UID:38acdf19-971c-4ef7-8dc1-ccfdaee51dbb@ClaytonBocce
DTSTART;TZID=America/Los_Angeles:20260906T170000
DTEND;TZID=America/Los_Angeles:20260906T193000
STATUS:CONFIRMED
SUMMARY:ACE ROLLERS vs BOCCE SNATCHERS
URL:/League/Schedule/2942
DESCRIPTION:Regular Season match: ACE ROLLERS vs BOCCE SNATC
 HERS
LOCATION:Martinez Court 10
END:VEVENT
BEGIN:VEVENT
DTSTAMP:20260419T000000Z
UID:5873b856-3f7f-44a0-9b1b-4bb8cd35cf0e@ClaytonBocce
DTSTART;TZID=America/Los_Angeles:20260913T170000
DTEND;TZID=America/Los_Angeles:20260913T193000
STATUS:CONFIRMED
SUMMARY:ACE ROLLERS vs CANCEL MY APPOINTMENTS AND HOLD ALL M
 Y BALLS
URL:/League/Schedule/2942
DESCRIPTION:Regular Season match: ACE ROLLERS vs CANCEL MY A
 PPOINTMENTS AND HOLD ALL MY BALLS
LOCATION:Martinez Court 13
END:VEVENT
BEGIN:VEVENT
DTSTAMP:20260419T000000Z
UID:31e10d35-93d3-41c1-b6f0-bfcd2389addc@ClaytonBocce
DTSTART;TZID=America/Los_Angeles:20260920T170000
DTEND;TZID=America/Los_Angeles:20260920T193000
STATUS:CONFIRMED
SUMMARY:ACE ROLLERS vs V.A. NOBLES
URL:/League/Schedule/2942
DESCRIPTION:Regular Season match: ACE ROLLERS vs V.A. NOBLES
LOCATION:Martinez Court 14
END:VEVENT
END:VCALENDAR
