BEGIN:VCALENDAR
VERSION:2.0
PRODID:-//Clayton Bocce League
METHOD:PUBLISH
BEGIN:VTIMEZONE
TZID:America/Los_Angeles
X-LIC-LOCATION:America/Los_Angeles
BEGIN:DAYLIGHT
TZOFFSETFROM:-0800
TZOFFSETTO:-0700
TZNAME:PDT
DTSTART:20070311T020000
RRULE:FREQ=YEARLY;BYMONTH=3;BYDAY=2SU
END:DAYLIGHT
BEGIN:STANDARD
TZOFFSETFROM:-0700
TZOFFSETTO:-0800
TZNAME:PST
DTSTART:20071104T020000
RRULE:FREQ=YEARLY;BYMONTH=11;BYDAY=1SU
END:STANDARD
END:VTIMEZONE
BEGIN:VEVENT
DTSTAMP:20260419T000000Z
UID:d994ef1a-2d35-4816-b64b-f61f23f750c1@ClaytonBocce
DTSTART;TZID=America/Los_Angeles:20260419T170000
DTEND;TZID=America/Los_Angeles:20260419T193000
STATUS:CONFIRMED
SUMMARY:CANCEL MY APPOINTMENTS AND HOLD ALL MY BALLS vs V.A.
  NOBLES
URL:/League/Schedule/2941
DESCRIPTION:Regular Season match: CANCEL MY APPOINTMENTS AND
  HOLD ALL MY BALLS vs V.A. NOBLES
LOCATION:Martinez Court 15
END:VEVENT
BEGIN:VEVENT
DTSTAMP:20260419T000000Z
UID:c6414e33-4be5-48b7-b378-94a6a36b4fe7@ClaytonBocce
DTSTART;TZID=America/Los_Angeles:20260426T170000
DTEND;TZID=America/Los_Angeles:20260426T193000
STATUS:CONFIRMED
SUMMARY:CANCEL MY APPOINTMENTS AND HOLD ALL MY BALLS vs FUHG
 ETABOCCE
URL:/League/Schedule/2941
DESCRIPTION:Regular Season match: CANCEL MY APPOINTMENTS AND
  HOLD ALL MY BALLS vs FUHGETABOCCE
LOCATION:Martinez Court 5
END:VEVENT
BEGIN:VEVENT
DTSTAMP:20260419T000000Z
UID:078c7e50-206b-4cd5-81eb-cafb1e822440@ClaytonBocce
DTSTART;TZID=America/Los_Angeles:20260503T170000
DTEND;TZID=America/Los_Angeles:20260503T193000
STATUS:CONFIRMED
SUMMARY:CANCEL MY APPOINTMENTS AND HOLD ALL MY BALLS vs CLOS
 E ENOUGH
URL:/League/Schedule/2941
DESCRIPTION:Regular Season match: CANCEL MY APPOINTMENTS AND
  HOLD ALL MY BALLS vs CLOSE ENOUGH
LOCATION:Martinez Court 8
END:VEVENT
BEGIN:VEVENT
DTSTAMP:20260419T000000Z
UID:0aaf4620-0ce4-4953-a37a-37feac15af91@ClaytonBocce
DTSTART;TZID=America/Los_Angeles:20260531T170000
DTEND;TZID=America/Los_Angeles:20260531T193000
STATUS:CONFIRMED
SUMMARY:CANCEL MY APPOINTMENTS AND HOLD ALL MY BALLS vs ACE 
 ROLLERS
URL:/League/Schedule/2941
DESCRIPTION:Regular Season match: CANCEL MY APPOINTMENTS AND
  HOLD ALL MY BALLS vs ACE ROLLERS
LOCATION:Martinez Court 1
END:VEVENT
BEGIN:VEVENT
DTSTAMP:20260419T000000Z
UID:9d6213b1-b3c4-4122-9f55-f3bf685677d1@ClaytonBocce
DTSTART;TZID=America/Los_Angeles:20260607T170000
DTEND;TZID=America/Los_Angeles:20260607T193000
STATUS:CONFIRMED
SUMMARY:CANCEL MY APPOINTMENTS AND HOLD ALL MY BALLS vs BOCC
 E SNATCHERS
URL:/League/Schedule/2941
DESCRIPTION:Regular Season match: CANCEL MY APPOINTMENTS AND
  HOLD ALL MY BALLS vs BOCCE SNATCHERS
LOCATION:Martinez Court 3
END:VEVENT
BEGIN:VEVENT
DTSTAMP:20260419T000000Z
UID:22619ada-8d20-4e16-b8f9-1f9caa655f59@ClaytonBocce
DTSTART;TZID=America/Los_Angeles:20260614T170000
DTEND;TZID=America/Los_Angeles:20260614T193000
STATUS:CONFIRMED
SUMMARY:CANCEL MY APPOINTMENTS AND HOLD ALL MY BALLS vs BOCC
 E OF THRONES
URL:/League/Schedule/2941
DESCRIPTION:Regular Season match: CANCEL MY APPOINTMENTS AND
  HOLD ALL MY BALLS vs BOCCE OF THRONES
LOCATION:Martinez Court 7
END:VEVENT
BEGIN:VEVENT
DTSTAMP:20260419T000000Z
UID:aa8a1a5f-968e-4918-b912-b676e4f03b5c@ClaytonBocce
DTSTART;TZID=America/Los_Angeles:20260621T170000
DTEND;TZID=America/Los_Angeles:20260621T193000
STATUS:CONFIRMED
SUMMARY:CANCEL MY APPOINTMENTS AND HOLD ALL MY BALLS vs V.A.
  NOBLES
URL:/League/Schedule/2941
DESCRIPTION:Regular Season match: CANCEL MY APPOINTMENTS AND
  HOLD ALL MY BALLS vs V.A. NOBLES
LOCATION:Martinez Court 13
END:VEVENT
BEGIN:VEVENT
DTSTAMP:20260419T000000Z
UID:9e217b13-f6ed-4b7c-a876-1afb6fcf6544@ClaytonBocce
DTSTART;TZID=America/Los_Angeles:20260628T170000
DTEND;TZID=America/Los_Angeles:20260628T193000
STATUS:CONFIRMED
SUMMARY:CANCEL MY APPOINTMENTS AND HOLD ALL MY BALLS vs FUHG
 ETABOCCE
URL:/League/Schedule/2941
DESCRIPTION:Regular Season match: CANCEL MY APPOINTMENTS AND
  HOLD ALL MY BALLS vs FUHGETABOCCE
LOCATION:Martinez Court 9
END:VEVENT
BEGIN:VEVENT
DTSTAMP:20260419T000000Z
UID:a12f5591-2d1a-486b-bf99-788073753bc3@ClaytonBocce
DTSTART;TZID=America/Los_Angeles:20260712T170000
DTEND;TZID=America/Los_Angeles:20260712T193000
STATUS:CONFIRMED
SUMMARY:CANCEL MY APPOINTMENTS AND HOLD ALL MY BALLS vs CLOS
 E ENOUGH
URL:/League/Schedule/2941
DESCRIPTION:Regular Season match: CANCEL MY APPOINTMENTS AND
  HOLD ALL MY BALLS vs CLOSE ENOUGH
LOCATION:Martinez Court 12
END:VEVENT
BEGIN:VEVENT
DTSTAMP:20260419T000000Z
UID:9a4d48b0-d42c-4dc4-912c-46393fc3d22b@ClaytonBocce
DTSTART;TZID=America/Los_Angeles:20260726T170000
DTEND;TZID=America/Los_Angeles:20260726T193000
STATUS:CONFIRMED
SUMMARY:CANCEL MY APPOINTMENTS AND HOLD ALL MY BALLS vs ACE 
 ROLLERS
URL:/League/Schedule/2941
DESCRIPTION:Regular Season match: CANCEL MY APPOINTMENTS AND
  HOLD ALL MY BALLS vs ACE ROLLERS
LOCATION:Martinez Court 6
END:VEVENT
BEGIN:VEVENT
DTSTAMP:20260419T000000Z
UID:219bb017-25b8-45fe-98c8-3205e517e4a1@ClaytonBocce
DTSTART;TZID=America/Los_Angeles:20260802T170000
DTEND;TZID=America/Los_Angeles:20260802T193000
STATUS:CONFIRMED
SUMMARY:CANCEL MY APPOINTMENTS AND HOLD ALL MY BALLS vs BOCC
 E SNATCHERS
URL:/League/Schedule/2941
DESCRIPTION:Regular Season match: CANCEL MY APPOINTMENTS AND
  HOLD ALL MY BALLS vs BOCCE SNATCHERS
LOCATION:Martinez Court 5
END:VEVENT
BEGIN:VEVENT
DTSTAMP:20260419T000000Z
UID:1dbe6ea7-fd5c-4955-a6fb-ef2d36e01e2d@ClaytonBocce
DTSTART;TZID=America/Los_Angeles:20260809T170000
DTEND;TZID=America/Los_Angeles:20260809T193000
STATUS:CONFIRMED
SUMMARY:CANCEL MY APPOINTMENTS AND HOLD ALL MY BALLS vs BOCC
 E OF THRONES
URL:/League/Schedule/2941
DESCRIPTION:Regular Season match: CANCEL MY APPOINTMENTS AND
  HOLD ALL MY BALLS vs BOCCE OF THRONES
LOCATION:Martinez Court 10
END:VEVENT
BEGIN:VEVENT
DTSTAMP:20260419T000000Z
UID:816c26f3-beaf-49a7-ae09-881381309c02@ClaytonBocce
DTSTART;TZID=America/Los_Angeles:20260816T170000
DTEND;TZID=America/Los_Angeles:20260816T193000
STATUS:CONFIRMED
SUMMARY:CANCEL MY APPOINTMENTS AND HOLD ALL MY BALLS vs V.A.
  NOBLES
URL:/League/Schedule/2941
DESCRIPTION:Regular Season match: CANCEL MY APPOINTMENTS AND
  HOLD ALL MY BALLS vs V.A. NOBLES
LOCATION:Martinez Court 4
END:VEVENT
BEGIN:VEVENT
DTSTAMP:20260419T000000Z
UID:f286672e-fbff-4379-8c25-9d2143ec8e87@ClaytonBocce
DTSTART;TZID=America/Los_Angeles:20260823T170000
DTEND;TZID=America/Los_Angeles:20260823T193000
STATUS:CONFIRMED
SUMMARY:CANCEL MY APPOINTMENTS AND HOLD ALL MY BALLS vs FUHG
 ETABOCCE
URL:/League/Schedule/2941
DESCRIPTION:Regular Season match: CANCEL MY APPOINTMENTS AND
  HOLD ALL MY BALLS vs FUHGETABOCCE
LOCATION:Martinez Court 14
END:VEVENT
BEGIN:VEVENT
DTSTAMP:20260419T000000Z
UID:abd173cd-a47c-40da-9349-94ed83a7b478@ClaytonBocce
DTSTART;TZID=America/Los_Angeles:20260830T170000
DTEND;TZID=America/Los_Angeles:20260830T193000
STATUS:CONFIRMED
SUMMARY:CANCEL MY APPOINTMENTS AND HOLD ALL MY BALLS vs CLOS
 E ENOUGH
URL:/League/Schedule/2941
DESCRIPTION:Regular Season match: CANCEL MY APPOINTMENTS AND
  HOLD ALL MY BALLS vs CLOSE ENOUGH
LOCATION:Martinez Court 11
END:VEVENT
BEGIN:VEVENT
DTSTAMP:20260419T000000Z
UID:5873b856-3f7f-44a0-9b1b-4bb8cd35cf0e@ClaytonBocce
DTSTART;TZID=America/Los_Angeles:20260913T170000
DTEND;TZID=America/Los_Angeles:20260913T193000
STATUS:CONFIRMED
SUMMARY:CANCEL MY APPOINTMENTS AND HOLD ALL MY BALLS vs ACE 
 ROLLERS
URL:/League/Schedule/2941
DESCRIPTION:Regular Season match: CANCEL MY APPOINTMENTS AND
  HOLD ALL MY BALLS vs ACE ROLLERS
LOCATION:Martinez Court 13
END:VEVENT
BEGIN:VEVENT
DTSTAMP:20260419T000000Z
UID:804679da-e80c-4ef1-9085-1444ad8a414c@ClaytonBocce
DTSTART;TZID=America/Los_Angeles:20260920T170000
DTEND;TZID=America/Los_Angeles:20260920T193000
STATUS:CONFIRMED
SUMMARY:CANCEL MY APPOINTMENTS AND HOLD ALL MY BALLS vs BOCC
 E SNATCHERS
URL:/League/Schedule/2941
DESCRIPTION:Regular Season match: CANCEL MY APPOINTMENTS AND
  HOLD ALL MY BALLS vs BOCCE SNATCHERS
LOCATION:Martinez Court 3
END:VEVENT
END:VCALENDAR
